BEGIN:VCALENDAR
VERSION:2.0
PRODID:-//AAA 3D - Austrian 3D Archery Association - ECPv6.15.20//NONSGML v1.0//EN
CALSCALE:GREGORIAN
METHOD:PUBLISH
X-ORIGINAL-URL:https://aaa3d.at
X-WR-CALDESC:Veranstaltungen für AAA 3D - Austrian 3D Archery Association
REFRESH-INTERVAL;VALUE=DURATION:PT1H
X-Robots-Tag:noindex
X-PUBLISHED-TTL:PT1H
BEGIN:VTIMEZONE
TZID:Europe/Vienna
BEGIN:DAYLIGHT
TZOFFSETFROM:+0100
TZOFFSETTO:+0200
TZNAME:CEST
DTSTART:20240331T010000
END:DAYLIGHT
BEGIN:STANDARD
TZOFFSETFROM:+0200
TZOFFSETTO:+0100
TZNAME:CET
DTSTART:20241027T010000
END:STANDARD
BEGIN:DAYLIGHT
TZOFFSETFROM:+0100
TZOFFSETTO:+0200
TZNAME:CEST
DTSTART:20250330T010000
END:DAYLIGHT
BEGIN:STANDARD
TZOFFSETFROM:+0200
TZOFFSETTO:+0100
TZNAME:CET
DTSTART:20251026T010000
END:STANDARD
BEGIN:DAYLIGHT
TZOFFSETFROM:+0100
TZOFFSETTO:+0200
TZNAME:CEST
DTSTART:20260329T010000
END:DAYLIGHT
BEGIN:STANDARD
TZOFFSETFROM:+0200
TZOFFSETTO:+0100
TZNAME:CET
DTSTART:20261025T010000
END:STANDARD
END:VTIMEZONE
BEGIN:VEVENT
DTSTART;TZID=Europe/Vienna:20250426T070000
DTEND;TZID=Europe/Vienna:20250426T170000
DTSTAMP:20260422T143103
CREATED:20250416T072602Z
LAST-MODIFIED:20250416T072604Z
UID:4473-1745650800-1745686800@aaa3d.at
SUMMARY:Wald- Mostviertelcup - BSV Bärenwaldleiten
DESCRIPTION:
URL:https://aaa3d.at/event/wald-mostviertelcup-bsv-baerenwaldleiten/
LOCATION:BSV Bärenwaldleiten Mank\, Altenhofen\, Mank\, NÖ\, 3240\, Austria
CATEGORIES:Turniere
ATTACH;FMTTYPE=image/webp:https://aaa3d.at/wp-content/uploads/2024/10/logo_verein_baerenwaldleiten_mank_thumb.webp
ORGANIZER;CN="BSV B%C3%A4renwaldleiten Mank":MAILTO:bsv.mank@pfeilfriedhof.at
END:VEVENT
BEGIN:VEVENT
DTSTART;TZID=Europe/Vienna:20250426T070000
DTEND;TZID=Europe/Vienna:20250426T170000
DTSTAMP:20260422T143103
CREATED:20250416T074658Z
LAST-MODIFIED:20250416T074700Z
UID:4486-1745650800-1745686800@aaa3d.at
SUMMARY:Jahresturnier - BSV Stuhlfelden
DESCRIPTION:
URL:https://aaa3d.at/event/jahresturnier-bsv-stuhlfelden/
LOCATION:BSV Stuhlfelden\, Dorfplatz 1\, Stuhlfelden\, Salzburg\, 5724\, Austria
CATEGORIES:Turniere
ORGANIZER;CN="BSV Stuhlfelden":MAILTO:bsv.stuhlfelden@gmail.com
END:VEVENT
END:VCALENDAR