BEGIN:VCALENDAR
VERSION:2.0
PRODID:-//AAA 3D - Austrian 3D Archery Association - ECPv6.15.20//NONSGML v1.0//EN
CALSCALE:GREGORIAN
METHOD:PUBLISH
X-ORIGINAL-URL:https://aaa3d.at
X-WR-CALDESC:Veranstaltungen für AAA 3D - Austrian 3D Archery Association
REFRESH-INTERVAL;VALUE=DURATION:PT1H
X-Robots-Tag:noindex
X-PUBLISHED-TTL:PT1H
BEGIN:VTIMEZONE
TZID:Europe/Vienna
BEGIN:DAYLIGHT
TZOFFSETFROM:+0100
TZOFFSETTO:+0200
TZNAME:CEST
DTSTART:20240331T010000
END:DAYLIGHT
BEGIN:STANDARD
TZOFFSETFROM:+0200
TZOFFSETTO:+0100
TZNAME:CET
DTSTART:20241027T010000
END:STANDARD
BEGIN:DAYLIGHT
TZOFFSETFROM:+0100
TZOFFSETTO:+0200
TZNAME:CEST
DTSTART:20250330T010000
END:DAYLIGHT
BEGIN:STANDARD
TZOFFSETFROM:+0200
TZOFFSETTO:+0100
TZNAME:CET
DTSTART:20251026T010000
END:STANDARD
BEGIN:DAYLIGHT
TZOFFSETFROM:+0100
TZOFFSETTO:+0200
TZNAME:CEST
DTSTART:20260329T010000
END:DAYLIGHT
BEGIN:STANDARD
TZOFFSETFROM:+0200
TZOFFSETTO:+0100
TZNAME:CET
DTSTART:20261025T010000
END:STANDARD
END:VTIMEZONE
BEGIN:VEVENT
DTSTART;TZID=Europe/Vienna:20250712T070000
DTEND;TZID=Europe/Vienna:20250712T170000
DTSTAMP:20260422T102207
CREATED:20250415T062520Z
LAST-MODIFIED:20250415T062526Z
UID:4219-1752303600-1752339600@aaa3d.at
SUMMARY:Wald- Mostviertelcup - EBSV Gresten
DESCRIPTION:
URL:https://aaa3d.at/event/wald-mostviertelcup-ebsv-gresten/
LOCATION:EBSV Gresten\, Wiesergraben 13\, Gresten.\, 3264\, Austria
CATEGORIES:Turniere
ORGANIZER;CN="EBSV Gresten":MAILTO:a.kreillechner70@gmail.com
END:VEVENT
BEGIN:VEVENT
DTSTART;TZID=Europe/Vienna:20250712T070000
DTEND;TZID=Europe/Vienna:20250712T233000
DTSTAMP:20260422T102207
CREATED:20250415T063142Z
LAST-MODIFIED:20250415T063143Z
UID:4226-1752303600-1752363000@aaa3d.at
SUMMARY:Benefiz Tag/Nacht Turnier - BSV Offenhausen
DESCRIPTION:
URL:https://aaa3d.at/event/benefiz-tag-nacht-turnier-bsv-offenhausen/
LOCATION:BSV Offenhausen\, Kapsam 2\, Kapsam\, Steiermark\, 4625\, Austria
CATEGORIES:Turniere
ORGANIZER;CN="BSV Offenhausen":MAILTO:office@bsv-offenhausen.at
END:VEVENT
BEGIN:VEVENT
DTSTART;TZID=Europe/Vienna:20250712T070000
DTEND;TZID=Europe/Vienna:20250713T170000
DTSTAMP:20260422T102207
CREATED:20250415T074248Z
LAST-MODIFIED:20250415T074249Z
UID:4241-1752303600-1752426000@aaa3d.at
SUMMARY:31. Arnspitz Arrowheadturnier - Schützengilde Scharnitz
DESCRIPTION:
URL:https://aaa3d.at/event/31-arnspitz-arrowheadturnier-schuetzengilde-scharnitz/
LOCATION:Schützengilde Scharnitz\, dolf-Klinge-Platz 72\, Scharnitz\, Tirol\, 6108\, Austria
CATEGORIES:Turniere
ORGANIZER;CN="Sch%C3%BCtzengilde Scharnitz":MAILTO:walter.l@compuvos.com
END:VEVENT
END:VCALENDAR