BEGIN:VCALENDAR
VERSION:2.0
PRODID:-//AAA 3D - Austrian 3D Archery Association - ECPv6.15.20//NONSGML v1.0//EN
CALSCALE:GREGORIAN
METHOD:PUBLISH
X-WR-CALNAME:AAA 3D - Austrian 3D Archery Association
X-ORIGINAL-URL:https://aaa3d.at
X-WR-CALDESC:Veranstaltungen für AAA 3D - Austrian 3D Archery Association
REFRESH-INTERVAL;VALUE=DURATION:PT1H
X-Robots-Tag:noindex
X-PUBLISHED-TTL:PT1H
BEGIN:VTIMEZONE
TZID:Europe/Vienna
BEGIN:DAYLIGHT
TZOFFSETFROM:+0100
TZOFFSETTO:+0200
TZNAME:CEST
DTSTART:20240331T010000
END:DAYLIGHT
BEGIN:STANDARD
TZOFFSETFROM:+0200
TZOFFSETTO:+0100
TZNAME:CET
DTSTART:20241027T010000
END:STANDARD
BEGIN:DAYLIGHT
TZOFFSETFROM:+0100
TZOFFSETTO:+0200
TZNAME:CEST
DTSTART:20250330T010000
END:DAYLIGHT
BEGIN:STANDARD
TZOFFSETFROM:+0200
TZOFFSETTO:+0100
TZNAME:CET
DTSTART:20251026T010000
END:STANDARD
BEGIN:DAYLIGHT
TZOFFSETFROM:+0100
TZOFFSETTO:+0200
TZNAME:CEST
DTSTART:20260329T010000
END:DAYLIGHT
BEGIN:STANDARD
TZOFFSETFROM:+0200
TZOFFSETTO:+0100
TZNAME:CET
DTSTART:20261025T010000
END:STANDARD
END:VTIMEZONE
BEGIN:VEVENT
DTSTART;TZID=Europe/Vienna:20250727T070000
DTEND;TZID=Europe/Vienna:20250727T170000
DTSTAMP:20260422T102023
CREATED:20250417T200009Z
LAST-MODIFIED:20250417T200011Z
UID:4626-1753599600-1753635600@aaa3d.at
SUMMARY:Tiroler LM Arrowhead Feld - Schützengilde Scharnitz
DESCRIPTION:
URL:https://aaa3d.at/event/tiroler-lm-arrowhead-feld-schuetzengilde-scharnitz/
LOCATION:Schützengilde Scharnitz\, dolf-Klinge-Platz 72\, Scharnitz\, Tirol\, 6108\, Austria
CATEGORIES:Turniere
ORGANIZER;CN="Sch%C3%BCtzengilde Scharnitz":MAILTO:walter.l@compuvos.com
END:VEVENT
BEGIN:VEVENT
DTSTART;TZID=Europe/Vienna:20250727T100000
DTEND;TZID=Europe/Vienna:20250727T150000
DTSTAMP:20260422T102023
CREATED:20250417T195722Z
LAST-MODIFIED:20250417T195723Z
UID:4624-1753610400-1753628400@aaa3d.at
SUMMARY:AHAC – Austrian Horseback Archery Challenge - Bockfließ
DESCRIPTION:
URL:https://aaa3d.at/event/ahac-austrian-horseback-archery-challenge-bockfliess/
LOCATION:Kassai Horseback Archery Austria\, Im Hochleitwald\, Bockfließ\, NÖ\, 2213\, Austria
CATEGORIES:Turniere
ORGANIZER;CN="Kassai Horseback Archery Austria":MAILTO:jo@kassai.at
END:VEVENT
END:VCALENDAR