BEGIN:VCALENDAR
VERSION:2.0
PRODID:-//AAA 3D - Austrian 3D Archery Association - ECPv6.15.20//NONSGML v1.0//EN
CALSCALE:GREGORIAN
METHOD:PUBLISH
X-WR-CALNAME:AAA 3D - Austrian 3D Archery Association
X-ORIGINAL-URL:https://aaa3d.at
X-WR-CALDESC:Veranstaltungen für AAA 3D - Austrian 3D Archery Association
REFRESH-INTERVAL;VALUE=DURATION:PT1H
X-Robots-Tag:noindex
X-PUBLISHED-TTL:PT1H
BEGIN:VTIMEZONE
TZID:Europe/Vienna
BEGIN:DAYLIGHT
TZOFFSETFROM:+0100
TZOFFSETTO:+0200
TZNAME:CEST
DTSTART:20240331T010000
END:DAYLIGHT
BEGIN:STANDARD
TZOFFSETFROM:+0200
TZOFFSETTO:+0100
TZNAME:CET
DTSTART:20241027T010000
END:STANDARD
BEGIN:DAYLIGHT
TZOFFSETFROM:+0100
TZOFFSETTO:+0200
TZNAME:CEST
DTSTART:20250330T010000
END:DAYLIGHT
BEGIN:STANDARD
TZOFFSETFROM:+0200
TZOFFSETTO:+0100
TZNAME:CET
DTSTART:20251026T010000
END:STANDARD
BEGIN:DAYLIGHT
TZOFFSETFROM:+0100
TZOFFSETTO:+0200
TZNAME:CEST
DTSTART:20260329T010000
END:DAYLIGHT
BEGIN:STANDARD
TZOFFSETFROM:+0200
TZOFFSETTO:+0100
TZNAME:CET
DTSTART:20261025T010000
END:STANDARD
END:VTIMEZONE
BEGIN:VEVENT
DTSTART;TZID=Europe/Vienna:20250809T070000
DTEND;TZID=Europe/Vienna:20250809T170000
DTSTAMP:20260422T090203
CREATED:20250415T113458Z
LAST-MODIFIED:20250416T085304Z
UID:4275-1754722800-1754758800@aaa3d.at
SUMMARY:BSCM Turnier - Bogensportclub Mühlviertel
DESCRIPTION:
URL:https://aaa3d.at/event/bscm-turnier-bogensportclub-muehlviertel/
LOCATION:Bogensportclub Mühlviertel\, Hundsdorf 13\, Gutau\, OÖ\, 4293\, Austria
CATEGORIES:Turniere
ATTACH;FMTTYPE=image/webp:https://aaa3d.at/wp-content/uploads/2024/07/aaa_logo_bscm_thumb.webp
ORGANIZER;CN="Bogensportclub M%C3%BChlviertel":MAILTO:peter.lindinger@b-s-c-m.at
END:VEVENT
BEGIN:VEVENT
DTSTART;TZID=Europe/Vienna:20250809T070000
DTEND;TZID=Europe/Vienna:20250809T170000
DTSTAMP:20260422T090203
CREATED:20250415T114245Z
LAST-MODIFIED:20250415T114246Z
UID:4287-1754722800-1754758800@aaa3d.at
SUMMARY:12. Honigteglturnier - Killerbienen
DESCRIPTION:
URL:https://aaa3d.at/event/12-honigteglturnier-killerbienen/
LOCATION:BS Killerbienen\, Bärndorf 57\, Rottenmann\, Steiermark\, 8786\, Austria
CATEGORIES:Turniere
END:VEVENT
END:VCALENDAR