BEGIN:VCALENDAR
VERSION:2.0
PRODID:-//AAA 3D - Austrian 3D Archery Association - ECPv6.15.20//NONSGML v1.0//EN
CALSCALE:GREGORIAN
METHOD:PUBLISH
X-WR-CALNAME:AAA 3D - Austrian 3D Archery Association
X-ORIGINAL-URL:https://aaa3d.at
X-WR-CALDESC:Veranstaltungen für AAA 3D - Austrian 3D Archery Association
REFRESH-INTERVAL;VALUE=DURATION:PT1H
X-Robots-Tag:noindex
X-PUBLISHED-TTL:PT1H
BEGIN:VTIMEZONE
TZID:Europe/Vienna
BEGIN:DAYLIGHT
TZOFFSETFROM:+0100
TZOFFSETTO:+0200
TZNAME:CEST
DTSTART:20240331T010000
END:DAYLIGHT
BEGIN:STANDARD
TZOFFSETFROM:+0200
TZOFFSETTO:+0100
TZNAME:CET
DTSTART:20241027T010000
END:STANDARD
BEGIN:DAYLIGHT
TZOFFSETFROM:+0100
TZOFFSETTO:+0200
TZNAME:CEST
DTSTART:20250330T010000
END:DAYLIGHT
BEGIN:STANDARD
TZOFFSETFROM:+0200
TZOFFSETTO:+0100
TZNAME:CET
DTSTART:20251026T010000
END:STANDARD
BEGIN:DAYLIGHT
TZOFFSETFROM:+0100
TZOFFSETTO:+0200
TZNAME:CEST
DTSTART:20260329T010000
END:DAYLIGHT
BEGIN:STANDARD
TZOFFSETFROM:+0200
TZOFFSETTO:+0100
TZNAME:CET
DTSTART:20261025T010000
END:STANDARD
END:VTIMEZONE
BEGIN:VEVENT
DTSTART;TZID=Europe/Vienna:20250830T070000
DTEND;TZID=Europe/Vienna:20250830T170000
DTSTAMP:20260422T090716
CREATED:20250415T130812Z
LAST-MODIFIED:20250415T130814Z
UID:4326-1756537200-1756573200@aaa3d.at
SUMMARY:YoA Turnier - BSC Pirkdorfersee
DESCRIPTION:
URL:https://aaa3d.at/event/yoa-turnier-bsc-pirkdorfersee/
LOCATION:BSC Pirkdorfersee\, Pirkdorfersee\, Feistritz ob Bleiburg\, Kärnten\, 9143\, Austria
CATEGORIES:Turniere
ORGANIZER;CN="BSC Pirkdorfersee":MAILTO:bsc-pirkdorfersee@hotmail.com
END:VEVENT
BEGIN:VEVENT
DTSTART;TZID=Europe/Vienna:20250830T070000
DTEND;TZID=Europe/Vienna:20250830T170000
DTSTAMP:20260422T090716
CREATED:20250703T170602Z
LAST-MODIFIED:20250803T050059Z
UID:5802-1756537200-1756573200@aaa3d.at
SUMMARY:Emmerberger Stoaritschn-Turnier
DESCRIPTION:
URL:https://aaa3d.at/event/emmerberger-stoaritschn-turnier/
LOCATION:BC Emmerberg\, 47.843621\, 16.116569\, Muthmannsdorf\, Niederösterreich\, 2722\, Austria
CATEGORIES:Turniere
ORGANIZER;CN="BC Emmerberg":MAILTO:obmann@bc-emmerberg.at
END:VEVENT
BEGIN:VEVENT
DTSTART;TZID=Europe/Vienna:20250830T070000
DTEND;TZID=Europe/Vienna:20250830T170000
DTSTAMP:20260422T090716
CREATED:20250830T151449Z
LAST-MODIFIED:20250915T040424Z
UID:6635-1756537200-1756573200@aaa3d.at
SUMMARY:Kodiak Challange - 3D Parcours Rosenbaum | 10.01.2026
DESCRIPTION:
URL:https://aaa3d.at/event/kodiac-challange-3d-parcours-rosenbaum-10-01-2026/
LOCATION:3D Parcours Rosenbaum\, Durlaß 4\, Rohrbach an der Gölsen\, NÖ\, 3163\, Austria
CATEGORIES:Turniere
ORGANIZER;CN="3D Parcours Rosenbaum":MAILTO:3d.parcours.rosenbaum@gmx.at
END:VEVENT
BEGIN:VEVENT
DTSTART;TZID=Europe/Vienna:20250830T070000
DTEND;TZID=Europe/Vienna:20250831T170000
DTSTAMP:20260422T090716
CREATED:20250417T200911Z
LAST-MODIFIED:20250417T200912Z
UID:4632-1756537200-1756659600@aaa3d.at
SUMMARY:Alptraum-Turnier - 25 Jahre JBC Gastein
DESCRIPTION:
URL:https://aaa3d.at/event/alptraum-turnier-25-jahre-jbc-gastein/
LOCATION:JBC Gastein\, Bad Gastein\, Bad Gastein\, Salzburg\, 5640\, Austria
CATEGORIES:Turniere
ORGANIZER;CN="JBC Gastein":MAILTO:info@jbc-gastein.at
END:VEVENT
END:VCALENDAR