BEGIN:VCALENDAR
VERSION:2.0
PRODID:-//AAA 3D - Austrian 3D Archery Association - ECPv6.15.20//NONSGML v1.0//EN
CALSCALE:GREGORIAN
METHOD:PUBLISH
X-ORIGINAL-URL:https://aaa3d.at
X-WR-CALDESC:Veranstaltungen für AAA 3D - Austrian 3D Archery Association
REFRESH-INTERVAL;VALUE=DURATION:PT1H
X-Robots-Tag:noindex
X-PUBLISHED-TTL:PT1H
BEGIN:VTIMEZONE
TZID:Europe/Vienna
BEGIN:DAYLIGHT
TZOFFSETFROM:+0100
TZOFFSETTO:+0200
TZNAME:CEST
DTSTART:20240331T010000
END:DAYLIGHT
BEGIN:STANDARD
TZOFFSETFROM:+0200
TZOFFSETTO:+0100
TZNAME:CET
DTSTART:20241027T010000
END:STANDARD
BEGIN:DAYLIGHT
TZOFFSETFROM:+0100
TZOFFSETTO:+0200
TZNAME:CEST
DTSTART:20250330T010000
END:DAYLIGHT
BEGIN:STANDARD
TZOFFSETFROM:+0200
TZOFFSETTO:+0100
TZNAME:CET
DTSTART:20251026T010000
END:STANDARD
BEGIN:DAYLIGHT
TZOFFSETFROM:+0100
TZOFFSETTO:+0200
TZNAME:CEST
DTSTART:20260329T010000
END:DAYLIGHT
BEGIN:STANDARD
TZOFFSETFROM:+0200
TZOFFSETTO:+0100
TZNAME:CET
DTSTART:20261025T010000
END:STANDARD
END:VTIMEZONE
BEGIN:VEVENT
DTSTART;TZID=Europe/Vienna:20250906T070000
DTEND;TZID=Europe/Vienna:20250906T170000
DTSTAMP:20260422T075936
CREATED:20250417T202517Z
LAST-MODIFIED:20250417T202705Z
UID:4638-1757142000-1757178000@aaa3d.at
SUMMARY:8. Fischamender Juxturnier - BSC Fischamend
DESCRIPTION:
URL:https://aaa3d.at/event/8-fischamender-juxturnier-bsc-fischamend/
LOCATION:BSC Fischamend\, Klein Neusiedlerstraße\, Fischamend\, NÖ\, 2401\, Austria
CATEGORIES:Turniere
ORGANIZER;CN="BSC Fischamend":MAILTO:office@bsc-fischamend.at
END:VEVENT
BEGIN:VEVENT
DTSTART;TZID=Europe/Vienna:20250906T070000
DTEND;TZID=Europe/Vienna:20250907T170000
DTSTAMP:20260422T075936
CREATED:20250415T134022Z
LAST-MODIFIED:20250416T092722Z
UID:4349-1757142000-1757264400@aaa3d.at
SUMMARY:2 AAA Cup Turniere - 3D Archery Club Moosburg
DESCRIPTION:Samstag\, 06.09.2025 AAA Cup Turnier „MOOSBURG-CUP“ \n\n\n\nAnmeldung | 07:30 bis 08:15 UhrTraining | 07:30 bis 08:30 UhrBegrüßung / Einteilung | 08:45 UhrAbmarsch Parcours | 09:15 UhrSchießbeginn | 09:30Siegerehrung | ca. 30 Minuten nach Abgabe der Scorekarten \n\n\n\nSonntag\, 07.09.2025 AAA Cup Turnier „MOOSBURG-CUP“\n\n\n\nAnmeldung | 07:30 bis 08:15 UhrTraining | 07:30 bis 08:30 UhrBegrüßung / Einteilung | 08:30 UhrAbmarsch Parcours | 08:45 UhrSchießbeginn | 09:00 UhrSiegerehrung | ca. 30 Minuten nach Abgabe der Wertungen \n\n\n\nNenngeld\n\n\n\nErwachsene / Veteran | € 22\,50 beide Tage EUR 45\,00Jugend | € 12\,50 beide Tage EUR 25\,00Mini und Schüler | frei \n\n\n\nDie Anmeldung ist nur bei Einzahlung auf 3D Skillboard oder auf unser Vereinskonto gültig.Nicht bezahlte Anmeldungen werden nach 3 Wochen gelöscht. \n\n\n\nBankverbindung | 3D Archery Club Moosburg IBAN: AT91 3910 0000 0248 0192 \n\n\n\nOnline-Anmeldung bis | 15. August. 2025. >>> Anmeldung<<< (über 3D Skillboard)   \n\n\n\nAnsprechpartner | Charly Egger / +43 6642596845 / info@archeryclubmb.at \n\n\n\nAltersklassen\n\n\n\nVeteranen | 55 Jahre und älter blauer oder roter Pﬂock (max. 27m od. max. 45m) Erwachsene | 18 bis 54 Jahre blauer oder roter Pﬂock (max. 27m od. max. 45m) Jugend | 15–17; blauer oder roter Pﬂock (max. 27m od. max. 45m)Schüler | 13-14; schießen vom blauen Pﬂock (max. 27m)Minis | 10-12 Jahre; weißer Pﬂock (max. 18 m)  \n\n\n\nBogenklassen\n\n\n\nVisier-KlassenCompound Unlimited (CU)Compound Hunter 3D (HU)Crossbow (Armbrust CRB)Olympic (OL) \n\n\n\nTraditional-KlassenTraditional Recurve (TR – RB) Traditional Longbow (TR – LB)Barebow / Blankbogen (BB)Horsebow (PB – HB)  \n\n\n\nSchiedsrichter\n\n\n\nManuela Zechner \n\n\n\nWertung\n\n\n\n1 Pfeil Wertung / 28- 3D Ziele Samstag und Sonntag / Wertung: 11 / 10 / 8 / 5  \n\n\n\nSchießregeln\n\n\n\nPro Scheibe und Klasse nur ein Abschusspﬂock\, Pﬂock muss berührt werden\, 90 Sec. Schießzeit pro Schütze. Es gilt das aktuelle >Regelwerk< der AAA 3D. \n\n\n\nPunktegleichheit\n\n\n\nZuerst = Anzahl der 0er\, dann 11er\, 10er\, 8er\, 5er. Genaue Informationen zum Ablauf werden vor Ort bekanntgegeben. Der 3D Archery Club Moosburg behält sich Änderungen im Turniergeschehen vor.  Parcoursregeln und Sicherheitsmaßnahmen sind unbedingt einzuhalten! Gutes und festes Schuhwerk ist dringend angeraten. Für Verletzungen jeglicher Art\, übernimmt der Verein keine Verantwortung. Jeder Schütz: in ist selbst verantwortlich. Der Veranstalter übernimmt keinerlei Haftung.   \n\n\n\nAuf euer Kommen freuen wir uns-Euer Team vom 3D Archery Club Moosburg –  \n\n\n\nDatenschutz & Dokumentation\n\n\n\nEU-Datenschutz-Grundverordnung: Aufgrund der Einwilligung der betroﬀenen Person nach Art. 6 Abs. 1 lit. A DSGVO bzw. der Erfüllung einer erträglichen bzw. rechtlichen Verpflichtung des Verantwortlichen nach Art. 6 Abs. 1 lit. B und C bzw. F DSGVO werden die personenbezogenen Daten der betroﬀenen Person\, soweit diese für die Leistungs-/Ergebniserfassung bzw. Ergebnismanagement im Zusammenhang mit der Anmeldung oder Teilnahme an (sportlichen) Veranstaltungen oder Wettkämpfen erforderlich sind\, gespeichert und auch nach Art. 17 Abs. 3 in Verbindung mit Art. 89 DSGVO für im öﬀentlichen Interesse liegende Archivzwecke und berechtigte Interessen des Verantwortlichen gespeichert und öﬀentlich zugänglich gemacht sowie von der Österreichische Bundes-Sportorganisation BSO\, 1040 Wien\, Prinz-Eugen-Str. 12\, gespeichert und öﬀentlich zugänglich gemacht. Dies wird von der betroﬀenen Person ausdrücklich zur Kenntnis genommen. \n\n\n\nMit der Teilnahme an dieser Veranstaltung nehme ich zur Kenntnis\, dass Fotograﬁen und Videomaterialien\, auf denen ich abgebildet bin\, zur Presse-Berichterstattung verwendet und in verschiedenen (Sozialen) Medien\, Publikationen und auf Webseiten (z.B.: unserer Vereins-Verbands-Webseite und den dazugehörigen Social-Media-Kanälen) veröﬀentlicht werden.
URL:https://aaa3d.at/event/2-aaa-cup-turniere-3d-archery-club-moosburg/
LOCATION:3D Archery Club Moosburg\, Klagenfurter Straße 2\, Moosburg\, Kärnten\, 9062\, Austria
CATEGORIES:Turniere
ATTACH;FMTTYPE=image/webp:https://aaa3d.at/wp-content/uploads/2024/07/logo_aaa_3d.webp
ORGANIZER;CN="3D Archery Club Moosburg":MAILTO:cheggerarchery@Aon.at
END:VEVENT
BEGIN:VEVENT
DTSTART;TZID=Europe/Vienna:20250906T070000
DTEND;TZID=Europe/Vienna:20250907T170000
DTSTAMP:20260422T075936
CREATED:20250415T134627Z
LAST-MODIFIED:20250415T134628Z
UID:4351-1757142000-1757264400@aaa3d.at
SUMMARY:27. Scharnier Speckschiessen - Schützengilde Scharnitz
DESCRIPTION:
URL:https://aaa3d.at/event/27-scharnier-speckschiessen-schuetzengilde-scharnitz/
LOCATION:Schützengilde Scharnitz\, dolf-Klinge-Platz 72\, Scharnitz\, Tirol\, 6108\, Austria
CATEGORIES:Turniere
ORGANIZER;CN="Sch%C3%BCtzengilde Scharnitz":MAILTO:walter.l@compuvos.com
END:VEVENT
BEGIN:VEVENT
DTSTART;TZID=Europe/Vienna:20250906T080000
DTEND;TZID=Europe/Vienna:20250906T170000
DTSTAMP:20260422T075936
CREATED:20250415T131645Z
LAST-MODIFIED:20250415T131646Z
UID:4343-1757145600-1757178000@aaa3d.at
SUMMARY:7. Fronwald Challenge - UBSV Schardenberg
DESCRIPTION:
URL:https://aaa3d.at/event/7-fronwald-challenge-ubsv-schardenberg/
LOCATION:UBSV Schardenberg\, Binderweg 3\, Schardenberg\, OÖ\, 4784\, Austria
CATEGORIES:Turniere
ORGANIZER;CN="UBSV Schardenberg":MAILTO:info@ubsv-schardenberg.at
END:VEVENT
END:VCALENDAR