BEGIN:VCALENDAR
VERSION:2.0
PRODID:-//AAA 3D - Austrian 3D Archery Association - ECPv6.15.20//NONSGML v1.0//EN
CALSCALE:GREGORIAN
METHOD:PUBLISH
X-WR-CALNAME:AAA 3D - Austrian 3D Archery Association
X-ORIGINAL-URL:https://aaa3d.at
X-WR-CALDESC:Veranstaltungen für AAA 3D - Austrian 3D Archery Association
REFRESH-INTERVAL;VALUE=DURATION:PT1H
X-Robots-Tag:noindex
X-PUBLISHED-TTL:PT1H
BEGIN:VTIMEZONE
TZID:Europe/Vienna
BEGIN:DAYLIGHT
TZOFFSETFROM:+0100
TZOFFSETTO:+0200
TZNAME:CEST
DTSTART:20240331T010000
END:DAYLIGHT
BEGIN:STANDARD
TZOFFSETFROM:+0200
TZOFFSETTO:+0100
TZNAME:CET
DTSTART:20241027T010000
END:STANDARD
BEGIN:DAYLIGHT
TZOFFSETFROM:+0100
TZOFFSETTO:+0200
TZNAME:CEST
DTSTART:20250330T010000
END:DAYLIGHT
BEGIN:STANDARD
TZOFFSETFROM:+0200
TZOFFSETTO:+0100
TZNAME:CET
DTSTART:20251026T010000
END:STANDARD
BEGIN:DAYLIGHT
TZOFFSETFROM:+0100
TZOFFSETTO:+0200
TZNAME:CEST
DTSTART:20260329T010000
END:DAYLIGHT
BEGIN:STANDARD
TZOFFSETFROM:+0200
TZOFFSETTO:+0100
TZNAME:CET
DTSTART:20261025T010000
END:STANDARD
END:VTIMEZONE
BEGIN:VEVENT
DTSTART;TZID=Europe/Vienna:20250913T070000
DTEND;TZID=Europe/Vienna:20250913T170000
DTSTAMP:20260422T075515
CREATED:20250418T081848Z
LAST-MODIFIED:20250418T081849Z
UID:4650-1757746800-1757782800@aaa3d.at
SUMMARY:WA Sternturnier + Kärntner LM - BSC Mittelerde Arriach
DESCRIPTION:
URL:https://aaa3d.at/event/wa-sternturnier-kaerntner-lm-bsc-mittelerde-arriach/
LOCATION:BSC Mittelerde Arriach\, Innerteuchen 2\, Arriach\, Kärnten\, 9543\, Austria
CATEGORIES:Turniere
ORGANIZER;CN="BSC Mittelerde Arriach":MAILTO:ressmann.mirijam@aon.at
END:VEVENT
BEGIN:VEVENT
DTSTART;TZID=Europe/Vienna:20250913T070000
DTEND;TZID=Europe/Vienna:20250913T170000
DTSTAMP:20260422T075515
CREATED:20250418T082520Z
LAST-MODIFIED:20250418T082522Z
UID:4662-1757746800-1757782800@aaa3d.at
SUMMARY:Sternturnier WA 1440 - BSV Schönbrunn
DESCRIPTION:
URL:https://aaa3d.at/event/sternturnier-wa-1440-bsv-schoenbrunn/
LOCATION:BSV Schönbrunn\, Seitenhafenstraße\, Wien\, Wien\, 1220\, Austria
CATEGORIES:Turniere
ORGANIZER;CN="BSV Sch%C3%B6nbrunn":MAILTO:hallo@bogensport-schoenbrunn.at
END:VEVENT
END:VCALENDAR