BEGIN:VCALENDAR
VERSION:2.0
PRODID:-//AAA 3D - Austrian 3D Archery Association - ECPv6.15.20//NONSGML v1.0//EN
CALSCALE:GREGORIAN
METHOD:PUBLISH
X-ORIGINAL-URL:https://aaa3d.at
X-WR-CALDESC:Veranstaltungen für AAA 3D - Austrian 3D Archery Association
REFRESH-INTERVAL;VALUE=DURATION:PT1H
X-Robots-Tag:noindex
X-PUBLISHED-TTL:PT1H
BEGIN:VTIMEZONE
TZID:Europe/Vienna
BEGIN:DAYLIGHT
TZOFFSETFROM:+0100
TZOFFSETTO:+0200
TZNAME:CEST
DTSTART:20240331T010000
END:DAYLIGHT
BEGIN:STANDARD
TZOFFSETFROM:+0200
TZOFFSETTO:+0100
TZNAME:CET
DTSTART:20241027T010000
END:STANDARD
BEGIN:DAYLIGHT
TZOFFSETFROM:+0100
TZOFFSETTO:+0200
TZNAME:CEST
DTSTART:20250330T010000
END:DAYLIGHT
BEGIN:STANDARD
TZOFFSETFROM:+0200
TZOFFSETTO:+0100
TZNAME:CET
DTSTART:20251026T010000
END:STANDARD
BEGIN:DAYLIGHT
TZOFFSETFROM:+0100
TZOFFSETTO:+0200
TZNAME:CEST
DTSTART:20260329T010000
END:DAYLIGHT
BEGIN:STANDARD
TZOFFSETFROM:+0200
TZOFFSETTO:+0100
TZNAME:CET
DTSTART:20261025T010000
END:STANDARD
END:VTIMEZONE
BEGIN:VEVENT
DTSTART;TZID=Europe/Vienna:20250920T070000
DTEND;TZID=Europe/Vienna:20250920T170000
DTSTAMP:20260422T085043
CREATED:20250415T141150Z
LAST-MODIFIED:20250416T092627Z
UID:4380-1758351600-1758387600@aaa3d.at
SUMMARY:AAA Cup Turnier - ASKÖ BS St. Oswald
DESCRIPTION:AAA CUP Turnier | 3. Oswalder Herbstturnier \n\n\n\n20. September 2025 \n\n\n\nJugend- und Wanderherberge Rannahof\, Etzelsdorf 7\, 4271 St. Oswald bei Freistadt>>>Google Maps<<<\, 48°30’55.6“N 14°34’09.7“E \n\n\n\nVeranstalter\n\n\n\nASKÖ Bogensport St. Oswald bei Freistadt \n\n\n\nKontakt\n\n\n\nwww.b-s-o.at | bogensport.oswald@b-s-o.at | +436641948500 \n\n\n\nWettbewerb: AAA CUP Turnier \n\n\n\nTurnierleitung: Peter Haunschmid \n\n\n\nSchiedsrichter: wird noch bekanntgegeben \n\n\n\nProgramm\n\n\n\nAnmeldung | 07:30 – 08:15 UhrTraining | 07:30 – 08:30 UhrBegrüßung/Einteilung | 08:45 UhrAbmarsch Parcours | 09:15 UhrSchießbeginn | 09:30 UhrSiegerehrung | 30 Minuten nach Abgabe der Scorekarten \n\n\n\nAnmeldung: 3D Skillboard\n\n\n\nNenngeld\n\n\n\n25 € Erwachsene15 € JugendMini & Schüler Frei \n\n\n\nAnmeldung ist nur nach Einzahlung über 3D Skillboard gültig \n\n\n\nNicht bezahlte Anmeldungen werden 3 Wochen vor dem Turnier gelöscht. Bezahlung sichert Startplatz! Maximal 168 Startplätze. Bei freien Startplätzen Anmeldung bis zum Turniertag vor Ort möglich. \n\n\n\nOhne AAA-Lizenz nur Turnierwertung – keine AAA 3D Cup-Wertung. Die AAA-Lizenz kann auch noch am Turniertag vor Ort erworben werden! \n\n\n\nBogenklassen\n\n\n\nVisier-KlassenCompound Unlimited (CU)Compound Hunter 3D (HU)Crossbow (Armbrust CRB)Olympic (OL) \n\n\n\nTraditional-KlassenBarebow/Blankbogen (BB)Traditional Recurve (TR–RB)Traditional Longbow (TR–LB)Primitiv/Norsebow (PB-HB \n\n\n\nAltersklassen\n\n\n\nVeteranen | 55 Jahre und älter blauer oder roter Pflock (max. 27 od. 45m)Erwachsene | 18 bis 54 Jahre blauer oder roter Pflock (max. 27 od. 45m)Jugend | 15 bis 17 Jahre blauer oder roter Pflock (max. 27 od. 45m)Schüler | 13 bis 14 Jahre blauer Pflock (max. 27m)Minis | 10 bis 12 Jahre weißer Pflock (max. 18m)erfolgt durch die Austrian 3-D Archery Association \n\n\n\nWertung\n\n\n\n1 Pfeil Wertung28 3D ZieleWertung 11 / 10 / 8 / 5 \n\n\n\nBei Punktegleichheit: Zuerst = Anzahl der 0er\, dann 11er\, 10er\, 8er\, 5er \n\n\n\nRegelwerkPro Scheibe und Klasse nur ein Abschusspflock\, der Pflock muss berührt werden\, Schießzeit pro Schütze 90 sec. \n\n\n\nEs gilt das aktuelle >>>Regelwerk<<< der AAA 3D. \n\n\n\nVerpflegungFür Verpflegung ist vor\, während und nach dem Turnier gesorgt. \n\n\n\nGenauere Informationen zum Ablauf werden vor Ort bekanntgegeben. Der ASKÖ Bogensport St. Oswald behält sich Änderungen im Turniergeschehen vor. Parcoursregeln und Sicherheitsmaßnahmen sind unbedingt einzuhalten! Gutes und festes Schuhwerk ist angeraten. Für Verletzungen jeglicher Art übernimmt der Verein keine Verantwortung. Jeder Schütze und jede Schützin sind selbst verantwortlich. Der Veranstalter übernimmt keine Haftung. Bei Nichtteilnahme entfällt das Nenngeld zu Gunsten des Veranstalters! \n\n\n\nDatenschutz und Dokumentation\n\n\n\nEU-Datenschutz-Grundverordnung: Aufgrund der Einwilligung der betroffenen Person nach Art. 6 Abs. 1 lit. A DSGVO bzw. der Erfüllung einer erträglichen bzw. rechtlichen Verpflichtung des Verantwortlichen nach Art. 6 Abs. 1 lit. B und C bzw. F DSGVO werden die personenbezogenen Daten der betroffenen Person\, soweit diese für die Leistungs-/Ergebniserfassung bzw. Ergebnismanagement im Zusammenhang mit der Anmeldung oder Teilnahme an (sportlichen) Veranstaltungen oder Wettkämpfen erforderlich sind\, gespeichert und auch nach Art. 17 Abs. 3 in Verbindung mit Art. 89 DSGVO für im öffentlichen Interesse liegende Archivzwecke und berechtigte Interessen des Verantwortlichen gespeichert und öffentlich zugänglich gemacht sowie von der Österreichische Bundes-Sportorganisation BSO\, 1040 Wien\, Prinz-Eugen-Str. 12\, gespeichert und öffentlich zugänglich gemacht. Dies wird von der betroffenen Person ausdrücklich zur Kenntnis genommen. \n\n\n\nMit der Teilnahme an dieser Veranstaltung nehme ich zur Kenntnis\, dass Fotografien und Videomaterialien\, auf denen ich abgebildet bin\, zur Presse-Berichterstattung verwendet und in verschiedenen (Sozialen) Medien\, Publikationen und auf Webseiten (z.B.: unserer Vereins-Verbands-Webseite und den dazugehörigen Social-Media-Kanälen) veröffentlicht werden.
URL:https://aaa3d.at/event/aaa-cup-turnier-askoe-bs-st-oswald/
LOCATION:ASKÖ BS St. Oswald bei Freistadt\, Etzelsdorf 7\, St. Oswald bei Freistadt\, OÖ\, 4271\, Austria
CATEGORIES:Turniere
ATTACH;FMTTYPE=image/webp:https://aaa3d.at/wp-content/uploads/2024/07/logo_aaa_3d.webp
ORGANIZER;CN="ASK%C3%96 BS St. Oswald bei Freistadt":MAILTO:bogensport.oswald@b-s-o.at
END:VEVENT
BEGIN:VEVENT
DTSTART;TZID=Europe/Vienna:20250920T070000
DTEND;TZID=Europe/Vienna:20250921T170000
DTSTAMP:20260422T085043
CREATED:20250913T161438Z
LAST-MODIFIED:20250913T161521Z
UID:6903-1758351600-1758474000@aaa3d.at
SUMMARY:Old Masters Hunter Round 25 - 1. Burgenländischen Bogenschützen Lockenhaus
DESCRIPTION:
URL:https://aaa3d.at/event/old-masters-hunter-round-25-1-burgenlaendischen-bogenschuetzen-lockenhaus/
LOCATION:1. Burgenländischen Bogenschützen Lockenhaus\, Lerchenfeld 5\, Lockenhaus\, Burgenland\, 7442\, Austria
CATEGORIES:Turniere
ORGANIZER;CN="1. Burgenl%C3%A4ndischen Bogensch%C3%BCtzen Lockenhaus":MAILTO:longbowarchers@gmail.com
END:VEVENT
BEGIN:VEVENT
DTSTART;TZID=Europe/Vienna:20250920T080000
DTEND;TZID=Europe/Vienna:20250920T170000
DTSTAMP:20260422T085043
CREATED:20250415T140103Z
LAST-MODIFIED:20250415T140401Z
UID:4368-1758355200-1758387600@aaa3d.at
SUMMARY:2. Stallersattel Challenge - Union St. Veit
DESCRIPTION:
URL:https://aaa3d.at/event/2-stallersattel-challenge-union-st-veit/
LOCATION:Union St. Veit\, Bruggen 35\, St. Veit\, Kärnten\, 9962\, Austria
CATEGORIES:Turniere
ORGANIZER;CN="Union St. Veit":MAILTO:rautamotz@gmail.com
END:VEVENT
END:VCALENDAR