BEGIN:VCALENDAR
VERSION:2.0
PRODID:-//AAA 3D - Austrian 3D Archery Association - ECPv6.15.20//NONSGML v1.0//EN
CALSCALE:GREGORIAN
METHOD:PUBLISH
X-ORIGINAL-URL:https://aaa3d.at
X-WR-CALDESC:Veranstaltungen für AAA 3D - Austrian 3D Archery Association
REFRESH-INTERVAL;VALUE=DURATION:PT1H
X-Robots-Tag:noindex
X-PUBLISHED-TTL:PT1H
BEGIN:VTIMEZONE
TZID:Europe/Vienna
BEGIN:DAYLIGHT
TZOFFSETFROM:+0100
TZOFFSETTO:+0200
TZNAME:CEST
DTSTART:20240331T010000
END:DAYLIGHT
BEGIN:STANDARD
TZOFFSETFROM:+0200
TZOFFSETTO:+0100
TZNAME:CET
DTSTART:20241027T010000
END:STANDARD
BEGIN:DAYLIGHT
TZOFFSETFROM:+0100
TZOFFSETTO:+0200
TZNAME:CEST
DTSTART:20250330T010000
END:DAYLIGHT
BEGIN:STANDARD
TZOFFSETFROM:+0200
TZOFFSETTO:+0100
TZNAME:CET
DTSTART:20251026T010000
END:STANDARD
BEGIN:DAYLIGHT
TZOFFSETFROM:+0100
TZOFFSETTO:+0200
TZNAME:CEST
DTSTART:20260329T010000
END:DAYLIGHT
BEGIN:STANDARD
TZOFFSETFROM:+0200
TZOFFSETTO:+0100
TZNAME:CET
DTSTART:20261025T010000
END:STANDARD
END:VTIMEZONE
BEGIN:VEVENT
DTSTART;TZID=Europe/Vienna:20250929T070000
DTEND;TZID=Europe/Vienna:20250929T170000
DTSTAMP:20260422T064156
CREATED:20250929T082008Z
LAST-MODIFIED:20260112T152815Z
UID:7273-1759129200-1759165200@aaa3d.at
SUMMARY:18. Internationales Jagdturnier - BSV Götzis
DESCRIPTION:18. Internationales Jagdturnier – BSV Götzis
URL:https://aaa3d.at/event/18-internationales-jagdturnier-bsv-goetzis/
LOCATION:BSV Götzis\, Mösleweg 19\, Götzis\, Vorarlberg\, 6840\, Austria
CATEGORIES:Turniere
ORGANIZER;CN="BSV G%C3%B6tzis":MAILTO:alex.derigo@gmx.at
END:VEVENT
BEGIN:VEVENT
DTSTART;TZID=Europe/Vienna:20250929T070000
DTEND;TZID=Europe/Vienna:20250929T170000
DTSTAMP:20260422T064156
CREATED:20250929T082205Z
LAST-MODIFIED:20260112T152842Z
UID:7275-1759129200-1759165200@aaa3d.at
SUMMARY:6. Frühlingsturnier - BSV Götzis
DESCRIPTION:6. Frühlingsturnier – BSV Götzis
URL:https://aaa3d.at/event/6-fruehlingsturnier-bsv-goetzis/
LOCATION:BSV Götzis\, Mösleweg 19\, Götzis\, Vorarlberg\, 6840\, Austria
CATEGORIES:Turniere
ORGANIZER;CN="BSV G%C3%B6tzis":MAILTO:alex.derigo@gmx.at
END:VEVENT
END:VCALENDAR