BEGIN:VCALENDAR
VERSION:2.0
PRODID:-//AAA 3D - Austrian 3D Archery Association - ECPv6.15.20//NONSGML v1.0//EN
CALSCALE:GREGORIAN
METHOD:PUBLISH
X-ORIGINAL-URL:https://aaa3d.at
X-WR-CALDESC:Veranstaltungen für AAA 3D - Austrian 3D Archery Association
REFRESH-INTERVAL;VALUE=DURATION:PT1H
X-Robots-Tag:noindex
X-PUBLISHED-TTL:PT1H
BEGIN:VTIMEZONE
TZID:Europe/Vienna
BEGIN:DAYLIGHT
TZOFFSETFROM:+0100
TZOFFSETTO:+0200
TZNAME:CEST
DTSTART:20240331T010000
END:DAYLIGHT
BEGIN:STANDARD
TZOFFSETFROM:+0200
TZOFFSETTO:+0100
TZNAME:CET
DTSTART:20241027T010000
END:STANDARD
BEGIN:DAYLIGHT
TZOFFSETFROM:+0100
TZOFFSETTO:+0200
TZNAME:CEST
DTSTART:20250330T010000
END:DAYLIGHT
BEGIN:STANDARD
TZOFFSETFROM:+0200
TZOFFSETTO:+0100
TZNAME:CET
DTSTART:20251026T010000
END:STANDARD
BEGIN:DAYLIGHT
TZOFFSETFROM:+0100
TZOFFSETTO:+0200
TZNAME:CEST
DTSTART:20260329T010000
END:DAYLIGHT
BEGIN:STANDARD
TZOFFSETFROM:+0200
TZOFFSETTO:+0100
TZNAME:CET
DTSTART:20261025T010000
END:STANDARD
END:VTIMEZONE
BEGIN:VEVENT
DTSTART;TZID=Europe/Vienna:20251005T070000
DTEND;TZID=Europe/Vienna:20251005T170000
DTSTAMP:20260422T064125
CREATED:20250416T061457Z
LAST-MODIFIED:20250416T061459Z
UID:4419-1759647600-1759683600@aaa3d.at
SUMMARY:YoA Turnier - BSV Zurndorf
DESCRIPTION:
URL:https://aaa3d.at/event/yoa-turnier-bsv-zurndorf/
LOCATION:BSV Zurndorf\, Bogensportplatz\, Zurndorf\, Burgenland\, 2424\, Austria
CATEGORIES:Turniere
ATTACH;FMTTYPE=image/webp:https://aaa3d.at/wp-content/uploads/2024/07/aaa_logo_bsv_zurndorf_thumb.webp
ORGANIZER;CN="BSV Zurndorf":MAILTO:schwiebogenschuetzen@gmail.com
END:VEVENT
BEGIN:VEVENT
DTSTART;TZID=Europe/Vienna:20251005T070000
DTEND;TZID=Europe/Vienna:20251005T170000
DTSTAMP:20260422T064125
CREATED:20250418T083457Z
LAST-MODIFIED:20250418T083458Z
UID:4664-1759647600-1759683600@aaa3d.at
SUMMARY:Dachsmondturnier - BSV Rußbachtal
DESCRIPTION:
URL:https://aaa3d.at/event/dachsmondturnier-bsv-russbachtal/
LOCATION:BSV Rußbachtal\, Grafenwald\, Oberrohrbach\, NÖ\, 2105\, Austria
CATEGORIES:Turniere
ORGANIZER;CN="BSV Ru%C3%9Fbachtal":MAILTO:bsv.russbachtal@gmail.com
END:VEVENT
BEGIN:VEVENT
DTSTART;TZID=Europe/Vienna:20251005T070000
DTEND;TZID=Europe/Vienna:20251005T170000
DTSTAMP:20260422T064125
CREATED:20250418T084139Z
LAST-MODIFIED:20250418T084140Z
UID:4671-1759647600-1759683600@aaa3d.at
SUMMARY:Tiroler LM\, M + WA 3D Sternturnier - BSPM
DESCRIPTION:
URL:https://aaa3d.at/event/tiroler-lm-m-wa-3d-sternturnier-bspm/
LOCATION:BS Mieminger Plateau\, Gerhardhof 1\, Wildermieming\, Tirol\, 6413\, Austria
CATEGORIES:Turniere
ATTACH;FMTTYPE=image/webp:https://aaa3d.at/wp-content/uploads/2024/07/aaa_logo_bs_mieminger_plateau_thumb.webp
ORGANIZER;CN="BS Mieminger Plateau":MAILTO:verein@bsmp.at
END:VEVENT
END:VCALENDAR