BEGIN:VCALENDAR
VERSION:2.0
PRODID:-//AAA 3D - Austrian 3D Archery Association - ECPv6.15.20//NONSGML v1.0//EN
CALSCALE:GREGORIAN
METHOD:PUBLISH
X-WR-CALNAME:AAA 3D - Austrian 3D Archery Association
X-ORIGINAL-URL:https://aaa3d.at
X-WR-CALDESC:Veranstaltungen für AAA 3D - Austrian 3D Archery Association
REFRESH-INTERVAL;VALUE=DURATION:PT1H
X-Robots-Tag:noindex
X-PUBLISHED-TTL:PT1H
BEGIN:VTIMEZONE
TZID:Europe/Vienna
BEGIN:DAYLIGHT
TZOFFSETFROM:+0100
TZOFFSETTO:+0200
TZNAME:CEST
DTSTART:20240331T010000
END:DAYLIGHT
BEGIN:STANDARD
TZOFFSETFROM:+0200
TZOFFSETTO:+0100
TZNAME:CET
DTSTART:20241027T010000
END:STANDARD
BEGIN:DAYLIGHT
TZOFFSETFROM:+0100
TZOFFSETTO:+0200
TZNAME:CEST
DTSTART:20250330T010000
END:DAYLIGHT
BEGIN:STANDARD
TZOFFSETFROM:+0200
TZOFFSETTO:+0100
TZNAME:CET
DTSTART:20251026T010000
END:STANDARD
BEGIN:DAYLIGHT
TZOFFSETFROM:+0100
TZOFFSETTO:+0200
TZNAME:CEST
DTSTART:20260329T010000
END:DAYLIGHT
BEGIN:STANDARD
TZOFFSETFROM:+0200
TZOFFSETTO:+0100
TZNAME:CET
DTSTART:20261025T010000
END:STANDARD
END:VTIMEZONE
BEGIN:VEVENT
DTSTART;TZID=Europe/Vienna:20251011T070000
DTEND;TZID=Europe/Vienna:20251011T170000
DTSTAMP:20260422T064043
CREATED:20250416T062013Z
LAST-MODIFIED:20250416T062015Z
UID:4426-1760166000-1760202000@aaa3d.at
SUMMARY:Turnier zur Weinrebe - BSC Wolfspfeil
DESCRIPTION:
URL:https://aaa3d.at/event/turnier-zur-weinrebe-bsc-wolfspfeil/
LOCATION:BSC Wolfspfeil\, Holzerstrasse 55\, Seggauberg\, Steiermark\, 8462\, Austria
CATEGORIES:Turniere
ORGANIZER;CN="BSC Wolfspfeil":MAILTO:bsc@wolfspfeil.at
END:VEVENT
BEGIN:VEVENT
DTSTART;TZID=Europe/Vienna:20251011T070000
DTEND;TZID=Europe/Vienna:20251011T170000
DTSTAMP:20260422T064043
CREATED:20250417T083849Z
LAST-MODIFIED:20250417T083933Z
UID:4566-1760166000-1760202000@aaa3d.at
SUMMARY:Traditionelles Jochberger Jagdbogenturnier - BAW Jochberg
DESCRIPTION:
URL:https://aaa3d.at/event/traditionelles-jochberger-jagdbogenturnier-baw-jochberg/
LOCATION:BAW Jochberg – GH Alte Wacht\, Pass-Thurn-Str. 14\, Jochberg\, Tirol\, 6373\, Austria
CATEGORIES:Turniere
ORGANIZER;CN="BAW Jochberg":MAILTO:info@jochbergerbogenschuetzen.com
END:VEVENT
END:VCALENDAR