BEGIN:VCALENDAR
VERSION:2.0
PRODID:-//AAA 3D - Austrian 3D Archery Association - ECPv6.15.20//NONSGML v1.0//EN
CALSCALE:GREGORIAN
METHOD:PUBLISH
X-ORIGINAL-URL:https://aaa3d.at
X-WR-CALDESC:Veranstaltungen für AAA 3D - Austrian 3D Archery Association
REFRESH-INTERVAL;VALUE=DURATION:PT1H
X-Robots-Tag:noindex
X-PUBLISHED-TTL:PT1H
BEGIN:VTIMEZONE
TZID:Europe/Vienna
BEGIN:DAYLIGHT
TZOFFSETFROM:+0100
TZOFFSETTO:+0200
TZNAME:CEST
DTSTART:20240331T010000
END:DAYLIGHT
BEGIN:STANDARD
TZOFFSETFROM:+0200
TZOFFSETTO:+0100
TZNAME:CET
DTSTART:20241027T010000
END:STANDARD
BEGIN:DAYLIGHT
TZOFFSETFROM:+0100
TZOFFSETTO:+0200
TZNAME:CEST
DTSTART:20250330T010000
END:DAYLIGHT
BEGIN:STANDARD
TZOFFSETFROM:+0200
TZOFFSETTO:+0100
TZNAME:CET
DTSTART:20251026T010000
END:STANDARD
BEGIN:DAYLIGHT
TZOFFSETFROM:+0100
TZOFFSETTO:+0200
TZNAME:CEST
DTSTART:20260329T010000
END:DAYLIGHT
BEGIN:STANDARD
TZOFFSETFROM:+0200
TZOFFSETTO:+0100
TZNAME:CET
DTSTART:20261025T010000
END:STANDARD
END:VTIMEZONE
BEGIN:VEVENT
DTSTART;TZID=Europe/Vienna:20251018T070000
DTEND;TZID=Europe/Vienna:20251019T170000
DTSTAMP:20260422T064629
CREATED:20250416T062235Z
LAST-MODIFIED:20250416T092835Z
UID:4428-1760770800-1760893200@aaa3d.at
SUMMARY:AAA 3D Cup Finale - BSC 3D Vorau
DESCRIPTION:
URL:https://aaa3d.at/event/aaa-3d-cup-finale-bsc-3d-vorau/
LOCATION:BSC 3D Vorau\, Schachen 13a\, Vorau\, Steiermark\, 8250\, Austria
CATEGORIES:Turniere
ATTACH;FMTTYPE=image/webp:https://aaa3d.at/wp-content/uploads/2024/07/logo_aaa_3d.webp
ORGANIZER;CN="BSC 3D Vorau":MAILTO:bogenschuetzen-vorau@gmx.at
END:VEVENT
END:VCALENDAR