BEGIN:VCALENDAR
VERSION:2.0
PRODID:-//AAA 3D - Austrian 3D Archery Association - ECPv6.15.20//NONSGML v1.0//EN
CALSCALE:GREGORIAN
METHOD:PUBLISH
X-WR-CALNAME:AAA 3D - Austrian 3D Archery Association
X-ORIGINAL-URL:https://aaa3d.at
X-WR-CALDESC:Veranstaltungen für AAA 3D - Austrian 3D Archery Association
REFRESH-INTERVAL;VALUE=DURATION:PT1H
X-Robots-Tag:noindex
X-PUBLISHED-TTL:PT1H
BEGIN:VTIMEZONE
TZID:Europe/Vienna
BEGIN:DAYLIGHT
TZOFFSETFROM:+0100
TZOFFSETTO:+0200
TZNAME:CEST
DTSTART:20250330T010000
END:DAYLIGHT
BEGIN:STANDARD
TZOFFSETFROM:+0200
TZOFFSETTO:+0100
TZNAME:CET
DTSTART:20251026T010000
END:STANDARD
BEGIN:DAYLIGHT
TZOFFSETFROM:+0100
TZOFFSETTO:+0200
TZNAME:CEST
DTSTART:20260329T010000
END:DAYLIGHT
BEGIN:STANDARD
TZOFFSETFROM:+0200
TZOFFSETTO:+0100
TZNAME:CET
DTSTART:20261025T010000
END:STANDARD
BEGIN:DAYLIGHT
TZOFFSETFROM:+0100
TZOFFSETTO:+0200
TZNAME:CEST
DTSTART:20270328T010000
END:DAYLIGHT
BEGIN:STANDARD
TZOFFSETFROM:+0200
TZOFFSETTO:+0100
TZNAME:CET
DTSTART:20271031T010000
END:STANDARD
END:VTIMEZONE
BEGIN:VEVENT
DTSTART;TZID=Europe/Vienna:20260401T080000
DTEND;TZID=Europe/Vienna:20260430T170000
DTSTAMP:20260421T230435
CREATED:20251203T083222Z
LAST-MODIFIED:20260112T143155Z
UID:8368-1775030400-1777568400@aaa3d.at
SUMMARY:VLBC | BSC Rothberg
DESCRIPTION:VLBC | BSC Rothberg
URL:https://aaa3d.at/event/vlbc-bsc-rothberg/
LOCATION:BSC Rothberg\, Wörth 21\, Lirchberg an der Raab\, Steiermark\, 8324\, Austria
CATEGORIES:Turniere
ORGANIZER;CN="BSC Rothberg":MAILTO:andi.schloegl@gmx.at
END:VEVENT
BEGIN:VEVENT
DTSTART;TZID=Europe/Vienna:20260404T080000
DTEND;TZID=Europe/Vienna:20260404T170000
DTSTAMP:20260421T230435
CREATED:20251203T091217Z
LAST-MODIFIED:20260112T143312Z
UID:8388-1775289600-1775322000@aaa3d.at
SUMMARY:DiaN Targets 3-D Turnier
DESCRIPTION:DiaN Targets 3-D Turnier
URL:https://aaa3d.at/event/dian-targets-3-d-turnier/
LOCATION:Dian Targets\, Maierhofbergen 43\, Großwilfersdorf\, Steiermark\, 8263\, Austria
CATEGORIES:Turniere
ORGANIZER;CN="Dian Targets":MAILTO:office@dian-targets.at
END:VEVENT
BEGIN:VEVENT
DTSTART;TZID=Europe/Vienna:20260404T080000
DTEND;TZID=Europe/Vienna:20260404T170000
DTSTAMP:20260421T230435
CREATED:20260215T095047Z
LAST-MODIFIED:20260215T095103Z
UID:4490-1775289600-1775322000@aaa3d.at
SUMMARY:WA Arrowhead Feldturnier + OÖ LM - ASKÖ BS Luftenberg
DESCRIPTION:
URL:https://aaa3d.at/event/wa-arrowhead-feldturnier-ooe-lm-askoe-bs-luftenberg/
LOCATION:BSC ASKÖ Luftenberg\, Lachstatt 1\, Lachstatt\, OÖ\, 4221\, Austria
CATEGORIES:Turniere
ATTACH;FMTTYPE=image/webp:https://aaa3d.at/wp-content/uploads/2024/10/aaa_logo_bsc_askoe_luftenberg_thumb.webp
ORGANIZER;CN="BSC ASK%C3%96 Luftenberg":MAILTO:info@bogensportluftenberg.at
END:VEVENT
END:VCALENDAR