BEGIN:VCALENDAR
VERSION:2.0
PRODID:-//AAA 3D - Austrian 3D Archery Association - ECPv6.15.20//NONSGML v1.0//EN
CALSCALE:GREGORIAN
METHOD:PUBLISH
X-ORIGINAL-URL:https://aaa3d.at
X-WR-CALDESC:Veranstaltungen für AAA 3D - Austrian 3D Archery Association
REFRESH-INTERVAL;VALUE=DURATION:PT1H
X-Robots-Tag:noindex
X-PUBLISHED-TTL:PT1H
BEGIN:VTIMEZONE
TZID:Europe/Vienna
BEGIN:DAYLIGHT
TZOFFSETFROM:+0100
TZOFFSETTO:+0200
TZNAME:CEST
DTSTART:20250330T010000
END:DAYLIGHT
BEGIN:STANDARD
TZOFFSETFROM:+0200
TZOFFSETTO:+0100
TZNAME:CET
DTSTART:20251026T010000
END:STANDARD
BEGIN:DAYLIGHT
TZOFFSETFROM:+0100
TZOFFSETTO:+0200
TZNAME:CEST
DTSTART:20260329T010000
END:DAYLIGHT
BEGIN:STANDARD
TZOFFSETFROM:+0200
TZOFFSETTO:+0100
TZNAME:CET
DTSTART:20261025T010000
END:STANDARD
BEGIN:DAYLIGHT
TZOFFSETFROM:+0100
TZOFFSETTO:+0200
TZNAME:CEST
DTSTART:20270328T010000
END:DAYLIGHT
BEGIN:STANDARD
TZOFFSETFROM:+0200
TZOFFSETTO:+0100
TZNAME:CET
DTSTART:20271031T010000
END:STANDARD
END:VTIMEZONE
BEGIN:VEVENT
DTSTART;TZID=Europe/Vienna:20260401T080000
DTEND;TZID=Europe/Vienna:20260430T170000
DTSTAMP:20260422T001642
CREATED:20251203T083222Z
LAST-MODIFIED:20260112T143155Z
UID:8368-1775030400-1777568400@aaa3d.at
SUMMARY:VLBC | BSC Rothberg
DESCRIPTION:VLBC | BSC Rothberg
URL:https://aaa3d.at/event/vlbc-bsc-rothberg/
LOCATION:BSC Rothberg\, Wörth 21\, Lirchberg an der Raab\, Steiermark\, 8324\, Austria
CATEGORIES:Turniere
ORGANIZER;CN="BSC Rothberg":MAILTO:andi.schloegl@gmx.at
END:VEVENT
BEGIN:VEVENT
DTSTART;TZID=Europe/Vienna:20260412T070000
DTEND;TZID=Europe/Vienna:20260412T170000
DTSTAMP:20260422T001642
CREATED:20250728T053719Z
LAST-MODIFIED:20250728T053721Z
UID:5972-1775977200-1776013200@aaa3d.at
SUMMARY:Club 3D Hallwang | WA 3D Sternturnier
DESCRIPTION:
URL:https://aaa3d.at/event/club-3d-hallwang-wa-3d-sternturnier/
LOCATION:Club 3D Hallwang\, Matzingweg 16\, Esch\, Salzburg\, 5300\, Austria
CATEGORIES:Turniere
ORGANIZER;CN="Club 3D Hallwang":MAILTO:mail@club3-d.com
END:VEVENT
BEGIN:VEVENT
DTSTART;TZID=Europe/Vienna:20260412T070000
DTEND;TZID=Europe/Vienna:20260412T170000
DTSTAMP:20260422T001642
CREATED:20250826T052921Z
LAST-MODIFIED:20260111T075715Z
UID:6463-1775977200-1776013200@aaa3d.at
SUMMARY:AAA 3D Cup | BSV Bärenwaldleiten Mank | 12.04.2026
DESCRIPTION:AAA 3D Cup | BSV Bärenwaldleiten Mank | 12.04.2026\n\n\n\n\n\n\n\n\n\n\n\n\n\nBSV Bärenwaldleiten Mank | AAA Cup Turnier | Sonntag 12.04.2026 \n\n\n\nEinladung AAA 3D Cup Turnier – BSV Bärenwaldleiten | Mank \n\n\n\nAustragungsort \n\n\n\nBSV Bärenwaldleiten\, 3240 Mank\, Altenhofen\, >GoogleMaps<Koordinaten: 48.11738242725352\, 15.313758132570118 \n\n\n\n12. April 2026 \n\n\n\nAnmeldung: 07:30 – 08:30 Uhr \n\n\n\nTraining: 07:30 – 08:45 Uhr \n\n\n\nBegrüßung/Einteilung: 08:50 Uhr \n\n\n\nAbmarsch Parcours: 09:00 Uhr \n\n\n\nStart/Schießbeginn: 09:30 Uhr \n\n\n\nSiegerehrung ca. 30 Minuten nach Abgabe Wertungen \n\n\n\nNenngeld \n\n\n\nErwachsene/Veteran € 25\,- \n\n\n\nJugend € 15\,- \n\n\n\nMini & Schüler frei \n\n\n\nDie Anmeldung ist nur nach Einzahlung auf unser Vereinskonto oder über 3D Skillboard gültig. Nicht bezahlte Anmeldungen werden 3 Wochen vor dem Turnier gelöscht. \n\n\n\nBankverbindungBSV Bärenwaldleiten | IBAN: AT53 2025 6000 0066 9143 \n\n\n\nAnmeldung \n\n\n\nOnline-Anmeldung bis 31.03.2026 / >>> Anmeldung<<< (Anmeldung über 3D Skillboard) \n\n\n\nBei freien Startplätzen Anmeldung bis zum Turniertag vor Ort möglich. \n\n\n\nOhne AAA-Lizenz nur Turnierwertung – keine AAA 3D Cup-Wertung. \n\n\n\nKontakt \n\n\n\nHarald Mazanek | +43 676 82533219 | BSV.Mank@pfeilfriedhof.at \n\n\n\nBogenklassen \n\n\n\nVisier-Klassen \n\n\n\nTraditional Recurve (TR – RB) \n\n\n\nTraditional Longbow (TR – LB) \n\n\n\nBarebow / Blankbogen (BB) \n\n\n\nPrimitivbow / Horsebow (PB – HB) \n\n\n\nTradiConal-Klassen \n\n\n\nCompound Unlimited (CU) \n\n\n\nCompound Hunter 3D (HU) \n\n\n\nCrossbow (Armbrust CRB) \n\n\n\nOlympic (OL) \n\n\n\nAltersklassen \n\n\n\nVeteranen Erwachsene Jugend Schüler Minis 55 Jahre und älter blauer oder roter Pflock (max. 27m od. max. 45m) \n\n\n\n18 bis 54 Jahre blauer oder roter Pflock (max. 27m od. max. 45m) \n\n\n\n15–17; blauer oder roter Pflock (max. 27m od. max. 45m) \n\n\n\n13-14; schießen vom blauen Pflock (max. 27m) \n\n\n\n10-12 Jahre; weißer Pflock (max. 18 m) \n\n\n\nGruppeneinteilung \n\n\n\nErfolgt durch die Austrian 3-D Archery Association. \n\n\n\nSchiedsrichter \n\n\n\nWird noch bekannt gegeben. \n\n\n\nWertung \n\n\n\n1 Pfeil Wertung \n\n\n\n32 3D Ziele \n\n\n\nWertung: 11 / 10 / 8 / 5 \n\n\n\nSchießregeln \n\n\n\nPro Scheibe und Klasse nur ein Abschusspflock\, Pflock muss berührt werden\, 90 Sec. Schießzeit pro Schütze. \n\n\n\nEs gilt das aktuelle >Regelwerk< der AAA 3D. \n\n\n\nBei Punktegleichheit \n\n\n\nZuerst = Anzahl der 0er\, dann 11er\, 10er\, 8er\, 5er \n\n\n\nGenaue Informationen zum Ablauf werden vor Ort bekanntgegeben. Der BSV-Bärenwaldleiten behält sich Änderungen im Turniergeschehen vor. Parcoursregeln und Sicherheitsmaßnahmen sind unbedingt einzuhalten! Gutes und festes Schuhwerk ist angeraten. Für Verletzungen jeglicher Art\, übernimmt der Verein keine Verantwortung. Jede(r) Schütz:in ist selbst verantwortlich. Der Veranstalter übernimmt keinerlei Haftung. \n\n\n\nDatenschutz & Dokumentation \n\n\n\nEU-Datenschutz-Grundverordnung: Aufgrund der Einwilligung der betroﬀenen Person nach Art. 6 Abs. 1 lit. A DSGVO bzw. der Erfüllung einer erträglichen bzw. rechtlichen Verpflichtung des Verantwortlichen nach Art. 6 Abs. 1 lit. B und C bzw. F DSGVO werden die personenbezogenen Daten der betroﬀenen Person\, soweit diese für die Leistungs-/Ergebniserfassung bzw. Ergebnismanagement im Zusammenhang mit der Anmeldung oder Teilnahme an (sportlichen) Veranstaltungen oder Wettkämpfen erforderlich sind\, \n\n\n\ngespeichert und auch nach Art. 17 Abs. 3 in Verbindung mit Art. 89 DSGVO für im öﬀentlichen Interesse liegende Archivzwecke und berechtigte Interessen des Verantwortlichen gespeichert und öﬀentlich zugänglich gemacht sowie von der Österreichische Bundes-Sportorganisation BSO\, 1040 Wien\, Prinz-Eugen-Str. 12\, gespeichert und öﬀentlich zugänglich gemacht. \n\n\n\nDies wird von der betroﬀenen Person ausdrücklich zur Kenntnis genommen. \n\n\n\nMit der Teilnahme an dieser Veranstaltung nehme ich zur Kenntnis\, dass Fotografien und Videomaterialien\, auf denen ich abgebildet bin\, zur Presse-Berichterstattung verwendet und in verschiedenen (Sozialen) Medien\, Publikationen und auf Webseiten (z.B.: unserer Vereins-Verbands-Webseite und den dazugehörigen Social-Media-Kanälen) veröﬀentlicht werden. \n\n\n\nVerpflegung \n\n\n\nFrühstück mit Semmeln\, Kaﬀee und Tee. Verpflegung bei den Laben. Mittagessen bitte bei der Anmeldung vor Ort auswählen und Bon aufbewahren.
URL:https://aaa3d.at/event/aaa-3d-cup-bsv-baerenwaldleiten-mank-12-04-2026/
LOCATION:BSV Bärenwaldleiten Mank\, Altenhofen\, Mank\, NÖ\, 3240\, Austria
CATEGORIES:Turniere
ATTACH;FMTTYPE=image/webp:https://aaa3d.at/wp-content/uploads/2024/11/bsv_brnwaldleiten_mank_turnier-scaled.webp
ORGANIZER;CN="BSV B%C3%A4renwaldleiten Mank":MAILTO:bsv.mank@pfeilfriedhof.at
END:VEVENT
BEGIN:VEVENT
DTSTART;TZID=Europe/Vienna:20260412T080000
DTEND;TZID=Europe/Vienna:20260412T170000
DTSTAMP:20260422T001642
CREATED:20251203T091640Z
LAST-MODIFIED:20260112T143444Z
UID:8394-1775980800-1776013200@aaa3d.at
SUMMARY:WA 3-D Sternurnier | HSV Walls
DESCRIPTION:WA 3-D Sternurnier | HSV Walls
URL:https://aaa3d.at/event/wa-3-d-sternurnier-hsv-walls/
LOCATION:Club 3-D Wals\, Grünaustraße 72\, Wals-Siezenheim\, Salzburg\, 5071\, Austria
CATEGORIES:Turniere
ORGANIZER;CN="Club 3-D Wals":MAILTO:zehentmayr1@hotmail.com
END:VEVENT
END:VCALENDAR