BEGIN:VCALENDAR
VERSION:2.0
PRODID:-//AAA 3D - Austrian 3D Archery Association - ECPv6.15.20//NONSGML v1.0//EN
CALSCALE:GREGORIAN
METHOD:PUBLISH
X-ORIGINAL-URL:https://aaa3d.at
X-WR-CALDESC:Veranstaltungen für AAA 3D - Austrian 3D Archery Association
REFRESH-INTERVAL;VALUE=DURATION:PT1H
X-Robots-Tag:noindex
X-PUBLISHED-TTL:PT1H
BEGIN:VTIMEZONE
TZID:Europe/Vienna
BEGIN:DAYLIGHT
TZOFFSETFROM:+0100
TZOFFSETTO:+0200
TZNAME:CEST
DTSTART:20250330T010000
END:DAYLIGHT
BEGIN:STANDARD
TZOFFSETFROM:+0200
TZOFFSETTO:+0100
TZNAME:CET
DTSTART:20251026T010000
END:STANDARD
BEGIN:DAYLIGHT
TZOFFSETFROM:+0100
TZOFFSETTO:+0200
TZNAME:CEST
DTSTART:20260329T010000
END:DAYLIGHT
BEGIN:STANDARD
TZOFFSETFROM:+0200
TZOFFSETTO:+0100
TZNAME:CET
DTSTART:20261025T010000
END:STANDARD
BEGIN:DAYLIGHT
TZOFFSETFROM:+0100
TZOFFSETTO:+0200
TZNAME:CEST
DTSTART:20270328T010000
END:DAYLIGHT
BEGIN:STANDARD
TZOFFSETFROM:+0200
TZOFFSETTO:+0100
TZNAME:CET
DTSTART:20271031T010000
END:STANDARD
END:VTIMEZONE
BEGIN:VEVENT
DTSTART;TZID=Europe/Vienna:20260501T070000
DTEND;TZID=Europe/Vienna:20260502T170000
DTSTAMP:20260421T230653
CREATED:20250416T071804Z
LAST-MODIFIED:20250728T053210Z
UID:4471-1777618800-1777741200@aaa3d.at
SUMMARY:2 AAA 3D Cup Turniere - BSC 3D Vorau
DESCRIPTION:Austragungsort \n\n\n\nBSC Vorau\, 8250 Vorau\, Schachen 13a\, >Google Maps<\, 47°23’41.6″\, N 15°52’28.9″E
URL:https://aaa3d.at/event/2-aaa-3d-cup-turniere-bsc-3d-vorau/
LOCATION:BSC 3D Vorau\, Schachen 13a\, Vorau\, Steiermark\, 8250\, Austria
CATEGORIES:Turniere
ATTACH;FMTTYPE=image/webp:https://aaa3d.at/wp-content/uploads/2024/07/logo_aaa_3d.webp
ORGANIZER;CN="BSC 3D Vorau":MAILTO:bogenschuetzen-vorau@gmx.at
END:VEVENT
BEGIN:VEVENT
DTSTART;TZID=Europe/Vienna:20260501T080000
DTEND;TZID=Europe/Vienna:20260531T170000
DTSTAMP:20260421T230653
CREATED:20251203T083732Z
LAST-MODIFIED:20260112T143515Z
UID:8370-1777622400-1780246800@aaa3d.at
SUMMARY:VLBC | BSC Vulkanland
DESCRIPTION:VLBC | BSC Vulkanland
URL:https://aaa3d.at/event/vlbc-bsc-vulkanland/
LOCATION:BSC Vulkanland\, Petzelsdorf 26\, Fehring\, Steiermark\, 8350
CATEGORIES:Turniere
ORGANIZER;CN="BSC Vulkanland":MAILTO:bscvulkanland@gmx.at
END:VEVENT
END:VCALENDAR