BEGIN:VCALENDAR
VERSION:2.0
PRODID:-//AAA 3D - Austrian 3D Archery Association - ECPv6.15.20//NONSGML v1.0//EN
CALSCALE:GREGORIAN
METHOD:PUBLISH
X-ORIGINAL-URL:https://aaa3d.at
X-WR-CALDESC:Veranstaltungen für AAA 3D - Austrian 3D Archery Association
REFRESH-INTERVAL;VALUE=DURATION:PT1H
X-Robots-Tag:noindex
X-PUBLISHED-TTL:PT1H
BEGIN:VTIMEZONE
TZID:Europe/Vienna
BEGIN:DAYLIGHT
TZOFFSETFROM:+0100
TZOFFSETTO:+0200
TZNAME:CEST
DTSTART:20250330T010000
END:DAYLIGHT
BEGIN:STANDARD
TZOFFSETFROM:+0200
TZOFFSETTO:+0100
TZNAME:CET
DTSTART:20251026T010000
END:STANDARD
BEGIN:DAYLIGHT
TZOFFSETFROM:+0100
TZOFFSETTO:+0200
TZNAME:CEST
DTSTART:20260329T010000
END:DAYLIGHT
BEGIN:STANDARD
TZOFFSETFROM:+0200
TZOFFSETTO:+0100
TZNAME:CET
DTSTART:20261025T010000
END:STANDARD
BEGIN:DAYLIGHT
TZOFFSETFROM:+0100
TZOFFSETTO:+0200
TZNAME:CEST
DTSTART:20270328T010000
END:DAYLIGHT
BEGIN:STANDARD
TZOFFSETFROM:+0200
TZOFFSETTO:+0100
TZNAME:CET
DTSTART:20271031T010000
END:STANDARD
END:VTIMEZONE
BEGIN:VEVENT
DTSTART;TZID=Europe/Vienna:20260501T080000
DTEND;TZID=Europe/Vienna:20260531T170000
DTSTAMP:20260422T001811
CREATED:20251203T083732Z
LAST-MODIFIED:20260112T143515Z
UID:8370-1777622400-1780246800@aaa3d.at
SUMMARY:VLBC | BSC Vulkanland
DESCRIPTION:VLBC | BSC Vulkanland
URL:https://aaa3d.at/event/vlbc-bsc-vulkanland/
LOCATION:BSC Vulkanland\, Petzelsdorf 26\, Fehring\, Steiermark\, 8350
CATEGORIES:Turniere
ORGANIZER;CN="BSC Vulkanland":MAILTO:bscvulkanland@gmx.at
END:VEVENT
BEGIN:VEVENT
DTSTART;TZID=Europe/Vienna:20260530T070000
DTEND;TZID=Europe/Vienna:20260530T170000
DTSTAMP:20260422T001811
CREATED:20250414T122324Z
LAST-MODIFIED:20260112T152710Z
UID:3998-1780124400-1780160400@aaa3d.at
SUMMARY:Antoniusturnier - BSC Rietz
DESCRIPTION:Antoniusturnier – BSC Rietz
URL:https://aaa3d.at/event/antoniusturnier-bsc-rietz/
LOCATION:BSC Rietz\, Bacheben Kapelle\, Rietz\, Steiermark\, 6421\, Austria
CATEGORIES:Turniere
ORGANIZER;CN="BSC Rietz":MAILTO:info@bsc-rietz.at
END:VEVENT
BEGIN:VEVENT
DTSTART;TZID=Europe/Vienna:20260530T070000
DTEND;TZID=Europe/Vienna:20260531T170000
DTSTAMP:20260422T001811
CREATED:20250414T133824Z
LAST-MODIFIED:20250829T181846Z
UID:4028-1780124400-1780246800@aaa3d.at
SUMMARY:19. Int. Dolomitenturnier - HSV Lienz
DESCRIPTION:
URL:https://aaa3d.at/event/19-int-dolomitenturnier-hsv-lienz/
LOCATION:HSV Lienz Bogensport\, Penzelberg 25\, Winklern\, Kärnten\, 9841\, Austria
CATEGORIES:Turniere
ORGANIZER;CN="HSV Lienz":MAILTO:manfredkollnig.hsv@gmail.com
END:VEVENT
BEGIN:VEVENT
DTSTART;TZID=Europe/Vienna:20260530T080000
DTEND;TZID=Europe/Vienna:20260531T170000
DTSTAMP:20260422T001811
CREATED:20260112T144134Z
LAST-MODIFIED:20260112T144135Z
UID:8402-1780128000-1780246800@aaa3d.at
SUMMARY:LM Outdoor & Kernölspirit | BSU Großklein
DESCRIPTION:LM Outdoor & Kernölspirit | BSU Großklein
URL:https://aaa3d.at/event/lm-outdoor-kernoelspirit-bsu-grossklein/
LOCATION:BSU Grossklein\, Goldes 49\, Grossklein\, Steiermark\, 8452\, Austria
CATEGORIES:Turniere
ORGANIZER;CN="BSU Grossklein":MAILTO:nina@diebogentrainerin.at
END:VEVENT
END:VCALENDAR