BEGIN:VCALENDAR
VERSION:2.0
PRODID:-//AAA 3D - Austrian 3D Archery Association - ECPv6.15.20//NONSGML v1.0//EN
CALSCALE:GREGORIAN
METHOD:PUBLISH
X-WR-CALNAME:AAA 3D - Austrian 3D Archery Association
X-ORIGINAL-URL:https://aaa3d.at
X-WR-CALDESC:Veranstaltungen für AAA 3D - Austrian 3D Archery Association
REFRESH-INTERVAL;VALUE=DURATION:PT1H
X-Robots-Tag:noindex
X-PUBLISHED-TTL:PT1H
BEGIN:VTIMEZONE
TZID:Europe/Vienna
BEGIN:DAYLIGHT
TZOFFSETFROM:+0100
TZOFFSETTO:+0200
TZNAME:CEST
DTSTART:20250330T010000
END:DAYLIGHT
BEGIN:STANDARD
TZOFFSETFROM:+0200
TZOFFSETTO:+0100
TZNAME:CET
DTSTART:20251026T010000
END:STANDARD
BEGIN:DAYLIGHT
TZOFFSETFROM:+0100
TZOFFSETTO:+0200
TZNAME:CEST
DTSTART:20260329T010000
END:DAYLIGHT
BEGIN:STANDARD
TZOFFSETFROM:+0200
TZOFFSETTO:+0100
TZNAME:CET
DTSTART:20261025T010000
END:STANDARD
BEGIN:DAYLIGHT
TZOFFSETFROM:+0100
TZOFFSETTO:+0200
TZNAME:CEST
DTSTART:20270328T010000
END:DAYLIGHT
BEGIN:STANDARD
TZOFFSETFROM:+0200
TZOFFSETTO:+0100
TZNAME:CET
DTSTART:20271031T010000
END:STANDARD
END:VTIMEZONE
BEGIN:VEVENT
DTSTART;TZID=Europe/Vienna:20260601T080000
DTEND;TZID=Europe/Vienna:20260630T170000
DTSTAMP:20260422T012626
CREATED:20251203T083916Z
LAST-MODIFIED:20260112T143621Z
UID:8376-1780300800-1782838800@aaa3d.at
SUMMARY:VLBC | BSV Takern II - Die Highlander
DESCRIPTION:VLBC | BSV Takern II – Die Highlander
URL:https://aaa3d.at/event/vlbc-bsv-takern-ii-die-highlander/
LOCATION:Die Highlander BSV Takern II\, Takern II 24\, St. Margarethen an der Raab\, Steiermark\, 8321\, Austria
CATEGORIES:Turniere
ORGANIZER;CN="Die Highlander BSV Takern II":MAILTO:bsvtakern@gmail.com
END:VEVENT
BEGIN:VEVENT
DTSTART;TZID=Europe/Vienna:20260620T070000
DTEND;TZID=Europe/Vienna:20260620T170000
DTSTAMP:20260422T012626
CREATED:20250803T160050Z
LAST-MODIFIED:20250803T160052Z
UID:6176-1781938800-1781974800@aaa3d.at
SUMMARY:LM WA 3D - ASKÖ Bogensport St. Oswald
DESCRIPTION:ASKÖ Bogensport St. Oswald bei Freistadt | AAA 3D Österreichische Meisterschaft19.09.2026 | 20.09.2026
URL:https://aaa3d.at/event/lm-wa-3d-askoe-bogensport-st-oswald/
LOCATION:ASKÖ BS St. Oswald bei Freistadt\, Etzelsdorf 7\, St. Oswald bei Freistadt\, OÖ\, 4271\, Austria
CATEGORIES:Turniere
ATTACH;FMTTYPE=image/png:https://aaa3d.at/wp-content/uploads/2025/03/AAA_logo_st_oswald.png
ORGANIZER;CN="ASK%C3%96 BS St. Oswald bei Freistadt":MAILTO:bogensport.oswald@b-s-o.at
END:VEVENT
BEGIN:VEVENT
DTSTART;TZID=Europe/Vienna:20260620T080000
DTEND;TZID=Europe/Vienna:20260620T170000
DTSTAMP:20260422T012626
CREATED:20260102T203830Z
LAST-MODIFIED:20260112T144251Z
UID:9026-1781942400-1781974800@aaa3d.at
SUMMARY:Judenburger 900er Runde | HBSV Sagitta et Arcum
DESCRIPTION:Judenburger 900er Runde | HBSV Sagitta et Arcum
URL:https://aaa3d.at/event/judenburger-900er-runde-hbsv-sagitta-et-arcum/
LOCATION:HBSV Sagitta Et Arcum\, Murdorfer Strasse 39\, Judenburg\, Steiermark\, 8750
ORGANIZER;CN="HBSV Sagitta Et Arcum":MAILTO:sagitta.arcum@gmail.com
END:VEVENT
BEGIN:VEVENT
DTSTART;TZID=Europe/Vienna:20260620T080000
DTEND;TZID=Europe/Vienna:20260620T170000
DTSTAMP:20260422T012626
CREATED:20260215T101312Z
LAST-MODIFIED:20260215T101313Z
UID:9997-1781942400-1781974800@aaa3d.at
SUMMARY:DUO Turnier | BSV Redcloud
DESCRIPTION:DUO Turnier | BSV Redcloud
URL:https://aaa3d.at/event/duo-turnier-bsv-redcloud/
LOCATION:BSV Redcloud\, Pitzerweg Vorberg 36-31\, Oppenberg\, Steiermark\, 8786\, Austria
CATEGORIES:Turniere
ORGANIZER;CN="BSV Redcloud":MAILTO:redcloud@aon.at
END:VEVENT
END:VCALENDAR