BEGIN:VCALENDAR
VERSION:2.0
PRODID:-//AAA 3D - Austrian 3D Archery Association - ECPv6.15.20//NONSGML v1.0//EN
CALSCALE:GREGORIAN
METHOD:PUBLISH
X-ORIGINAL-URL:https://aaa3d.at
X-WR-CALDESC:Veranstaltungen für AAA 3D - Austrian 3D Archery Association
REFRESH-INTERVAL;VALUE=DURATION:PT1H
X-Robots-Tag:noindex
X-PUBLISHED-TTL:PT1H
BEGIN:VTIMEZONE
TZID:Europe/Vienna
BEGIN:DAYLIGHT
TZOFFSETFROM:+0100
TZOFFSETTO:+0200
TZNAME:CEST
DTSTART:20250330T010000
END:DAYLIGHT
BEGIN:STANDARD
TZOFFSETFROM:+0200
TZOFFSETTO:+0100
TZNAME:CET
DTSTART:20251026T010000
END:STANDARD
BEGIN:DAYLIGHT
TZOFFSETFROM:+0100
TZOFFSETTO:+0200
TZNAME:CEST
DTSTART:20260329T010000
END:DAYLIGHT
BEGIN:STANDARD
TZOFFSETFROM:+0200
TZOFFSETTO:+0100
TZNAME:CET
DTSTART:20261025T010000
END:STANDARD
BEGIN:DAYLIGHT
TZOFFSETFROM:+0100
TZOFFSETTO:+0200
TZNAME:CEST
DTSTART:20270328T010000
END:DAYLIGHT
BEGIN:STANDARD
TZOFFSETFROM:+0200
TZOFFSETTO:+0100
TZNAME:CET
DTSTART:20271031T010000
END:STANDARD
END:VTIMEZONE
BEGIN:VEVENT
DTSTART;TZID=Europe/Vienna:20260701T080000
DTEND;TZID=Europe/Vienna:20260731T170000
DTSTAMP:20260422T013337
CREATED:20251203T084115Z
LAST-MODIFIED:20260112T143729Z
UID:8378-1782892800-1785517200@aaa3d.at
SUMMARY:VLBC | BS Foberl
DESCRIPTION:VLBC | BS Foberl
URL:https://aaa3d.at/event/vlbc-bs-foberl/
LOCATION:BS Foberl\, Dörfla 2\, Kirchbach\, Steiermark\, 8082
CATEGORIES:Turniere
END:VEVENT
BEGIN:VEVENT
DTSTART;TZID=Europe/Vienna:20260704T073000
DTEND;TZID=Europe/Vienna:20260705T170000
DTSTAMP:20260422T013337
CREATED:20250803T044037Z
LAST-MODIFIED:20260111T204023Z
UID:6166-1783150200-1783270800@aaa3d.at
SUMMARY:2 AAA Cup Turniere | TBS Artemis Liezen/Planneralm
DESCRIPTION:2 AAA Cup Turniere | TBS Artemis Liezen/Planneralm | 04. & 05. Juli 2026\n\n\n\n04. Juli 2026 AAA Cup-Turnier 1 \n\n\n\n05. Juli 2026 AAA Cup-Turnier 2 \n\n\n\nAAA 3D | Verein | Planneralm – Home of Ullr\n\n\n\nAnmeldung Samstag 04.07.2026EinladungAnmeldung Sonntag 05.07.2026 \n\n\n\nAAA 3D Cup Turnier | BTS Artemis Liezen/Planneralm | 04. & 05.07. 2026\n\n\n\nAustragungsort\n\n\n\nPlanneralm/Home of Ullr\, 8953 Planneralm | >>>Google Maps<<< \n\n\n\nSamstag\, 04.07.2026 | AAA 3D Cup Turnier | TBS-Artemis-Liezen | Home of Ullr / Planneralm\n\n\n\nAnmeldung | 07:30 – 08:15 UhrTraining | 07:30 08:30 UhrBegrüßung/Einteilung | 09:00 UhrStart/Schießbeginn Runde 1 | 09:30 UhrMittag | 11:30 – 12:30 UhrStart/Schießbeginn Runde 2 | ca. 12:30 UhrScore-Abgabe | ca. 15:00 UhrSiegerehrung | ca. 15:30 Uhr \n\n\n\nSonntag\, 05.07.2026 | AAA 3D Cup Turnier | TBS-Artemis-Liezen | Home of Ullr / Planneralm\n\n\n\nAnmeldung | 07:30 – 08:15 UhrTraining | 07:30 08:30 UhrBegrüßung/Einteilung | 09:00 UhrStart/Schießbeginn Runde 1 | 09:30 UhrMittag | 11:30 – 12:30 UhrStart/Schießbeginn Runde 2 | ca. 12:30 UhrScore-Abgabe | ca. 15:00 UhrSiegerehrung | ca. 15:30 Uhr \n\n\n\nNenngeld\n\n\n\nErwachsene/Veteran | € 25\,00         beide Tage € 45\,-Jugend | € 15\,00                                beide Tage € 25\,-Mini & Schüler | frei \n\n\n\nGästeklasse | € 25\,00                         beide Tage € 45\,- \n\n\n\nDie Anmeldung ist nur nach Einzahlung über 3D Skillboard gültig.Nicht bezahlte Anmeldungen werden 2 Wochen vor dem Turnier gelöscht. \n\n\n\nOnline-Anmeldung bis 15.06.2026 / >>> Anmeldung<<< (Anmeldung über 3D Skillboard) \n\n\n\nBei freien Startplätzen Anmeldung bis zum Turniertag vor Ort möglich. \n\n\n\nKontaktDaniel Radauer | +436602608514 | daniel.kamerberger@aon.at \n\n\n\nBogenklassen:\n\n\n\nVisier-KlassenCompound Unlimited (CU)Compound Hunter 3D (HU)Crossbow (Armbrust CRB)Olympic (OL) \n\n\n\nTraditional-KlassenTraditional Recurve (TR – RB)Traditional Longbow (TR – LB)Barebow / Blankbogen (BB)Primitivbow / Horsebow (PB – HB) \n\n\n\nAltersklassen\n\n\n\nVeteranen | 55 Jahre und älter blauer oder roter Pflock (max. 27m od. max. 45m)Erwachsene | 18 bis 54 Jahre blauer oder roter Pflock (max. 27m od. max. 45m)Jugend | 15–17; blauer oder roter Pflock (max. 27m od. max. 45m)Schüler | 13-14; schießen vom blauen Pflock (max. 27m)Minis | 10-12 Jahre; weißer Pflock (max. 18 m) \n\n\n\nSchiedsrichter\n\n\n\nwird noch bekannt gegeben \n\n\n\nWertung1 Pfeil Wertung2×20 3D ZieleWertung: 11 / 10 / 8 / 5 \n\n\n\nSchießregeln\n\n\n\nPro Scheibe und Klasse nur ein Abschusspflock\, Pflock muss berührt werden\, 90 Sec. Schießzeit pro Schütze. Es gilt das aktuelle >Regelwerk< der AAA 3D. \n\n\n\nBei Punktegleichheit\n\n\n\nZuerst = Anzahl der 0er\, dann 11er\, 10er\, 8er\, 5er \n\n\n\nDetailsGenaue Informationen zum Ablauf werden vor Ort bekanntgegeben. Der TBS-Artemis-Liezen behält sich Änderungen im Turniergeschehen vor. Parcoursregeln und Sicherheitsmaßnahmen sind unbedingt einzuhalten! Gutes und festes Schuhwerk ist angeraten. Für Verletzungen jeglicher Art\, übernimmt der Verein keine Verantwortung. Jede(r) Schütz:in ist selbst verantwortlich. Der Veranstalter übernimmt keinerlei Haftung. \n\n\n\nDatenschutz & Dokumentation\n\n\n\nEU-Datenschutz-Grundverordnung: Aufgrund der Einwilligung der betroffenen Person nach Art. 6 Abs. 1 lit. A DSGVO bzw. der Erfüllung einer erträglichen bzw. rechtlichen Verpflichtung des Verantwortlichen nach Art. 6 Abs. 1 lit. B und C bzw. F DSGVO werden die personenbezogenen Daten der betroffenen Person\, soweit diese für die Leistungs-/Ergebniserfassung bzw. Ergebnismanagement im Zusammenhang mit der Anmeldung oder Teilnahme an (sportlichen) Veranstaltungen oder Wettkämpfen erforderlich sind\, gespeichert und auch nach Art. 17 Abs. 3 in Verbindung mit Art. 89 DSGVO für im öffentlichen Interesse liegende Archivzwecke und berechtigte Interessen des Verantwortlichen gespeichert und öffentlich zugänglich gemacht sowie von der Österreichische Bundes-Sportorganisation BSO\, 1040 Wien\, Prinz-Eugen-Str. 12\, gespeichert und öffentlich zugänglich gemacht. Dies wird von der betroffenen Person ausdrücklich zur Kenntnis genommen. \n\n\n\nMit der Teilnahme an dieser Veranstaltung nehme ich zur Kenntnis\, dass Fotografien und Videomaterialien\, auf denen ich abgebildet bin\, zur Presse-Berichterstattung verwendet und in verschiedenen (Sozialen) Medien\, Publikationen und auf Webseiten (z.B.: unserer Vereins-Verbands-Webseite und den dazugehörigen Social-Media-Kanälen) veröffentlicht werden. \n\n\n\nVerpflegung\n\n\n\nFrühstücksbuffet vor Ort. Verpflegung bei den Laben.Mittagessen bitte bei der Anmeldung vor Ort auswählen und Bon aufheben.
URL:https://aaa3d.at/event/2-aaa-cup-turniere-tbs-artemis-liezen-planneralm/
LOCATION:TBS Artemis Liezen | Planneralm\, Planneralm 56\, Donnersbach\, Steiermark\, 8953\, Austria
CATEGORIES:Turniere
ATTACH;FMTTYPE=image/webp:https://aaa3d.at/wp-content/uploads/2024/07/logo_aaa_3d.webp
ORGANIZER;CN="TBS Artemis Liezen | Planneralm":MAILTO:daniel.kamerberger@aon.at
END:VEVENT
END:VCALENDAR