BEGIN:VCALENDAR
VERSION:2.0
PRODID:-//AAA 3D - Austrian 3D Archery Association - ECPv6.15.20//NONSGML v1.0//EN
CALSCALE:GREGORIAN
METHOD:PUBLISH
X-ORIGINAL-URL:https://aaa3d.at
X-WR-CALDESC:Veranstaltungen für AAA 3D - Austrian 3D Archery Association
REFRESH-INTERVAL;VALUE=DURATION:PT1H
X-Robots-Tag:noindex
X-PUBLISHED-TTL:PT1H
BEGIN:VTIMEZONE
TZID:Europe/Vienna
BEGIN:DAYLIGHT
TZOFFSETFROM:+0100
TZOFFSETTO:+0200
TZNAME:CEST
DTSTART:20250330T010000
END:DAYLIGHT
BEGIN:STANDARD
TZOFFSETFROM:+0200
TZOFFSETTO:+0100
TZNAME:CET
DTSTART:20251026T010000
END:STANDARD
BEGIN:DAYLIGHT
TZOFFSETFROM:+0100
TZOFFSETTO:+0200
TZNAME:CEST
DTSTART:20260329T010000
END:DAYLIGHT
BEGIN:STANDARD
TZOFFSETFROM:+0200
TZOFFSETTO:+0100
TZNAME:CET
DTSTART:20261025T010000
END:STANDARD
BEGIN:DAYLIGHT
TZOFFSETFROM:+0100
TZOFFSETTO:+0200
TZNAME:CEST
DTSTART:20270328T010000
END:DAYLIGHT
BEGIN:STANDARD
TZOFFSETFROM:+0200
TZOFFSETTO:+0100
TZNAME:CET
DTSTART:20271031T010000
END:STANDARD
END:VTIMEZONE
BEGIN:VEVENT
DTSTART;TZID=Europe/Vienna:20260801T080000
DTEND;TZID=Europe/Vienna:20260831T170000
DTSTAMP:20260422T040341
CREATED:20251203T084647Z
LAST-MODIFIED:20260112T142103Z
UID:8380-1785571200-1788195600@aaa3d.at
SUMMARY:VLNC | Redfeathers
DESCRIPTION:VLNC | Redfeathers
URL:https://aaa3d.at/event/vlbc-redfeathers/
LOCATION:BSV Obergroßau / Redfeathers\, Obergroßau 24\, Sinabelkirchen\, Steiermark\, 8261\, Austria
CATEGORIES:Turniere
ORGANIZER;CN="BSV Obergro%C3%9Fau / Redfeathers":MAILTO:redfeathers@gmx.at
END:VEVENT
BEGIN:VEVENT
DTSTART;TZID=Europe/Vienna:20260829T070000
DTEND;TZID=Europe/Vienna:20260829T170000
DTSTAMP:20260422T040341
CREATED:20250618T050248Z
LAST-MODIFIED:20260112T140927Z
UID:5583-1787986800-1788022800@aaa3d.at
SUMMARY:22. Rattenjagd - Die Kellerratten
DESCRIPTION:22. Rattenjagd – Die Kellerratten
URL:https://aaa3d.at/event/22-rattenjagd-die-kellerratten/
LOCATION:Die Kellerratten\, Göttelsberg 19\, Weiz\, Steiermark\, 8160\, Austria
CATEGORIES:Turniere
ORGANIZER;CN="Die Kellerratten":MAILTO:office@diekellerratten.at
END:VEVENT
BEGIN:VEVENT
DTSTART;TZID=Europe/Vienna:20260829T080000
DTEND;TZID=Europe/Vienna:20260829T170000
DTSTAMP:20260422T040341
CREATED:20260215T102252Z
LAST-MODIFIED:20260215T102315Z
UID:4337-1787990400-1788022800@aaa3d.at
SUMMARY:Ruinenturnier | BSC Arrow Cats
DESCRIPTION:Ruinenturnier | BSC Arrow Cats
URL:https://aaa3d.at/event/ruinenturnier-bsc-arrow-cats/
LOCATION:BSC Arrow Cats\, Kollmitzgraben\, Kollmitz\, NÖ\, 3321\, Austria
CATEGORIES:Turniere
ORGANIZER;CN="BSC Arrow Cats":MAILTO:ruinenturnier@gmx.at
END:VEVENT
END:VCALENDAR