BEGIN:VCALENDAR
VERSION:2.0
PRODID:-//AAA 3D - Austrian 3D Archery Association - ECPv6.15.20//NONSGML v1.0//EN
CALSCALE:GREGORIAN
METHOD:PUBLISH
X-WR-CALNAME:AAA 3D - Austrian 3D Archery Association
X-ORIGINAL-URL:https://aaa3d.at
X-WR-CALDESC:Veranstaltungen für AAA 3D - Austrian 3D Archery Association
REFRESH-INTERVAL;VALUE=DURATION:PT1H
X-Robots-Tag:noindex
X-PUBLISHED-TTL:PT1H
BEGIN:VTIMEZONE
TZID:Europe/Vienna
BEGIN:DAYLIGHT
TZOFFSETFROM:+0100
TZOFFSETTO:+0200
TZNAME:CEST
DTSTART:20250330T010000
END:DAYLIGHT
BEGIN:STANDARD
TZOFFSETFROM:+0200
TZOFFSETTO:+0100
TZNAME:CET
DTSTART:20251026T010000
END:STANDARD
BEGIN:DAYLIGHT
TZOFFSETFROM:+0100
TZOFFSETTO:+0200
TZNAME:CEST
DTSTART:20260329T010000
END:DAYLIGHT
BEGIN:STANDARD
TZOFFSETFROM:+0200
TZOFFSETTO:+0100
TZNAME:CET
DTSTART:20261025T010000
END:STANDARD
BEGIN:DAYLIGHT
TZOFFSETFROM:+0100
TZOFFSETTO:+0200
TZNAME:CEST
DTSTART:20270328T010000
END:DAYLIGHT
BEGIN:STANDARD
TZOFFSETFROM:+0200
TZOFFSETTO:+0100
TZNAME:CET
DTSTART:20271031T010000
END:STANDARD
END:VTIMEZONE
BEGIN:VEVENT
DTSTART;TZID=Europe/Vienna:20260912T070000
DTEND;TZID=Europe/Vienna:20260912T170000
DTSTAMP:20260422T052853
CREATED:20250903T180845Z
LAST-MODIFIED:20260112T140545Z
UID:6725-1789196400-1789232400@aaa3d.at
SUMMARY:Südcup - BS Foberl
DESCRIPTION:Südcup – BS Foberl
URL:https://aaa3d.at/event/suedcup-bs-foberl/
LOCATION:BS Foberl\, Dörfla 2\, Kirchbach\, Steiermark\, 8082
CATEGORIES:Turniere
END:VEVENT
BEGIN:VEVENT
DTSTART;TZID=Europe/Vienna:20260912T070000
DTEND;TZID=Europe/Vienna:20260912T170000
DTSTAMP:20260422T052853
CREATED:20251009T053105Z
LAST-MODIFIED:20260112T140508Z
UID:4480-1789196400-1789232400@aaa3d.at
SUMMARY:Nordcup - ASKÖ Bogensport St. Oswald
DESCRIPTION:Nordcup – ASKÖ Bogensport St. Oswald
URL:https://aaa3d.at/event/nordcup-askoe-bogensport-st-oswald/
LOCATION:ASKÖ BS St. Oswald bei Freistadt\, Etzelsdorf 7\, St. Oswald bei Freistadt\, OÖ\, 4271\, Austria
CATEGORIES:Turniere
ATTACH;FMTTYPE=image/png:https://aaa3d.at/wp-content/uploads/2025/03/AAA_logo_st_oswald.png
ORGANIZER;CN="ASK%C3%96 BS St. Oswald bei Freistadt":MAILTO:bogensport.oswald@b-s-o.at
END:VEVENT
BEGIN:VEVENT
DTSTART;TZID=Europe/Vienna:20260912T070000
DTEND;TZID=Europe/Vienna:20260912T170000
DTSTAMP:20260422T052853
CREATED:20251110T174327Z
LAST-MODIFIED:20251110T174328Z
UID:7862-1789196400-1789232400@aaa3d.at
SUMMARY:Tiroler LM WA 3D - BSC Rietz
DESCRIPTION:
URL:https://aaa3d.at/event/tiroler-lm-wa-3d-bsc-rietz/
LOCATION:BSC Rietz\, Bacheben Kapelle\, Rietz\, Steiermark\, 6421\, Austria
CATEGORIES:Turniere
ORGANIZER;CN="BSC Rietz":MAILTO:info@bsc-rietz.at
END:VEVENT
END:VCALENDAR