BEGIN:VCALENDAR
VERSION:2.0
PRODID:-//AAA 3D - Austrian 3D Archery Association - ECPv6.15.20//NONSGML v1.0//EN
CALSCALE:GREGORIAN
METHOD:PUBLISH
X-ORIGINAL-URL:https://aaa3d.at
X-WR-CALDESC:Veranstaltungen für AAA 3D - Austrian 3D Archery Association
REFRESH-INTERVAL;VALUE=DURATION:PT1H
X-Robots-Tag:noindex
X-PUBLISHED-TTL:PT1H
BEGIN:VTIMEZONE
TZID:Europe/Vienna
BEGIN:DAYLIGHT
TZOFFSETFROM:+0100
TZOFFSETTO:+0200
TZNAME:CEST
DTSTART:20250330T010000
END:DAYLIGHT
BEGIN:STANDARD
TZOFFSETFROM:+0200
TZOFFSETTO:+0100
TZNAME:CET
DTSTART:20251026T010000
END:STANDARD
BEGIN:DAYLIGHT
TZOFFSETFROM:+0100
TZOFFSETTO:+0200
TZNAME:CEST
DTSTART:20260329T010000
END:DAYLIGHT
BEGIN:STANDARD
TZOFFSETFROM:+0200
TZOFFSETTO:+0100
TZNAME:CET
DTSTART:20261025T010000
END:STANDARD
BEGIN:DAYLIGHT
TZOFFSETFROM:+0100
TZOFFSETTO:+0200
TZNAME:CEST
DTSTART:20270328T010000
END:DAYLIGHT
BEGIN:STANDARD
TZOFFSETFROM:+0200
TZOFFSETTO:+0100
TZNAME:CET
DTSTART:20271031T010000
END:STANDARD
BEGIN:DAYLIGHT
TZOFFSETFROM:+0100
TZOFFSETTO:+0200
TZNAME:CEST
DTSTART:20280326T010000
END:DAYLIGHT
BEGIN:STANDARD
TZOFFSETFROM:+0200
TZOFFSETTO:+0100
TZNAME:CET
DTSTART:20281029T010000
END:STANDARD
END:VTIMEZONE
BEGIN:VEVENT
DTSTART;TZID=Europe/Vienna:20261010T080000
DTEND;TZID=Europe/Vienna:20261010T170000
DTSTAMP:20260422T063748
CREATED:20260112T090318Z
LAST-MODIFIED:20260112T140216Z
UID:9579-1791619200-1791651600@aaa3d.at
SUMMARY:Champion Turnier | BSV Hiaslbauer
DESCRIPTION:Champion Turnier | BSV Hiaslbauer
URL:https://aaa3d.at/event/champion-turnier-bsv-hiaslbauer/
LOCATION:BSV Hiaslbauer\, Grensberg 15\, Lasberg\, OÖ\, 4291\, Austria
CATEGORIES:Turniere
ORGANIZER;CN="SV Champion Club":MAILTO:office@champion-club.at
END:VEVENT
BEGIN:VEVENT
DTSTART;TZID=Europe/Vienna:20261017T070000
DTEND;TZID=Europe/Vienna:20261018T170000
DTSTAMP:20260422T063748
CREATED:20250901T081438Z
LAST-MODIFIED:20260111T074414Z
UID:4257-1792220400-1792342800@aaa3d.at
SUMMARY:2 AAA 3D Cup Turniere + Finale AAA 3D Cup 2026 - BSC Lienzer Dolomiten-Irschen
DESCRIPTION:2 AAA 3D Cup Turniere + Finale AAA 3D Cup 2026 – BSC Lienzer Dolomiten-Irschen\n\n\n\nAAA 3D | Cup Turnier | BSV Lienzer Dolomiten | Irschen\n\n\n\n\n\n\n\nTiroler Meisterschaft / 2 AAA 3D Cup Turniere+ Cup Finale | BSC Lienzer Dolomiten – Irschen\n\n\n\n17. & 18. Oktober 2026 BSC Lienzer Dolomiten – Irschen \n\n\n\nVeranstalter\n\n\n\nBSC Lienzer Dolomiten \n\n\n\nOrt\n\n\n\nRittersdorf 79 | 9773 Irschen beim Feuerwehrhaus>>>Google | 46.750933917659836\, 13.03132582990953 \n\n\n\nAnfahrt\n\n\n\nAus Richtung Lienz kommend über die B 100 bis zum Gasthof Gröfelhof fahren. Abbiegen links Richtung Irschen. Hinweisschilder Turniergelände beachten. \n\n\n\nAus Richtung Spittal kommend über die B 100 bis zum Gasthof Gröfelhof fahren. Abbiegen rechts Richtung Irschen. Hinweisschilder Turniergelände beachten. \n\n\n\nDatum\n\n\n\n17. & 18. Oktober 2026 \n\n\n\nWebseite\n\n\n\nwww.bsc-lienzer-dolomiten.at \n\n\n\nTurnierleitung\n\n\n\nFranz Reinprecht \n\n\n\nAblauf\n\n\n\nSamstag\, 17.10.2026 | 1.Tag – Samstag 28 3D ZieleAnmeldung | 07:00-08:15 UhrTraining | 07:30 08:30 UhrBegrüßung/Einteilung | 08:30 UhrAbmarsch Parcours | 08:45 UhrStart/Schießbeginn | 09:30 Uhr \n\n\n\nSonntag\, 18.10.2026 | 2. Tag – Sonntag 20 3D ZieleTraining | 07:00-08:15 UhrBegrüßung/Einteilung | 08:30 UhrAbmarsch Parcours | 08:45 UhrStart/Schießbeginn | 09:00 Uhr \n\n\n\nFinale Cup | ca. 12:30 UhrSiegerehrung | ca. 15:00 Uhr \n\n\n\nNenngeld\n\n\n\nErwachsene/Veteran | € 25\,00\, beide Tage € 45\,00Jugend | € 15\,00\, beide Tage € 25\,00Mini & Schüler | frei \n\n\n\nBeide Tage | 45\,00 € (€ 25\,- für Jugend)Bei Bezahlung über 3D SkillBoard werden € 5\,- als Bon beim Turnier retourniert. \n\n\n\nDie Anmeldung ist nur nach Einzahlung auf unser Vereinskonto oder über 3D Skillboard gültig. 7 Tage vor dem Turnier wird die Anmeldung geschlossen und nicht bezahlte Anmeldungen werden gelöscht. Bankverbindung:BSC Lienzer Dolomiten | Raiffeisen Bank Zweigstelle OberdrauburgIBAN: AT23 3956 1000 0625 2605 | Bitte Verwendungszweck\, Name und Verein angeben Für die Cup-Wertung ist eine gültige Lizenz 2026 erforderlich. Der Zahlungseingang für die Lizenz 2026 muss 7 Tage vor dem Turnier auf das Konto der AAA eingegangen sein. Bankverbindung: Austria 3-D Archery Association\, IBAN: AT65 4715 0119 8509 0000 \n\n\n\nBankverbindung\n\n\n\nBSC Lienzer Dolomiten | Raiffeisen Bank Zweigstelle OberdrauburgIBAN: AT23 3956 1000 0625 2605 | Bitte Verwendungszweck\, Name und Verein angeben \n\n\n\nOnline-Anmeldung\n\n\n\nbis 03.10.2026 >>> Anmeldung Samstag   >>> Anmeldung Sonntag(Anmeldung nur über 3D Skillboard) \n\n\n\nBogenklassen\n\n\n\nVisier-Klassen (roter Pflock ab Jugend\, blauer Pflock für Schüler/Minis) \n\n\n\n\nCU-Compound Unlimited\n\n\n\nHU-Compound Hunter 3D\n\n\n\nCB-Compound Barebow\n\n\n\nCRB-Crossbow\n\n\n\nOL-Olympic Recurve\n\n\n\n\nTraditional-Klassen (blauer Pflock ab Jugend\, weißer Pflock für Schüler/Minis) \n\n\n\n\nTR-RB-Traditional Recurve\n\n\n\nTTR-LB-Traditional Longbow\n\n\n\nBB-Barebow\n\n\n\nPB-HB-Primitive / Horsebow\n\n\n\n\nAltersklassen\n\n\n\nVeteranen: 55 Jahre und älter blauer oder roter Pﬂock (max. 27m od. max. 45m)Erwachsene: 18 bis 54 Jahre blauer oder roter Pﬂock (max. 27m od. max. 45m)Jugend: 15–17; blauer oder roter Pﬂock (max. 27m od. max. 45m)Schüler: 13-14; schießen vom blauen Pﬂock (max. 27m)Minis: 10-12 Jahre; weißer Pﬂock (max. 18 m) \n\n\n\nSchiedsrichter\n\n\n\nWird vom Verband bekannt gegeben. \n\n\n\nSchießregeln\n\n\n\nPro Scheibe und Klasse nur ein Abschusspﬂock\, Pﬂock muss berührt werden\, 90 Sec. Schießzeit pro Schütze. Es gilt das aktuelle >Regelwerk< der AAA 3D. \n\n\n\nBei Punktegleichheit\n\n\n\nZuerst = Anzahl der 0er\, dann 11er\, 10er\, 8er\, 5er \n\n\n\nWeitere Infos\n\n\n\nGenaue Informationen zum Ablauf werden vor Ort bekanntgegeben. Der BSC Lienzer Dolomiten behält sich Änderungen im Turniergeschehen vor. Parcoursregeln und Sicherheitsmaßnahmen sind unbedingt einzuhalten! Gutes und festes Schuhwerk ist angeraten. Für Verletzungen jeglicher Art\, übernimmt der Verein keine Verantwortung. Jede(r) Schütz:in ist selbst verantwortlich. Der Veranstalter übernimmt keinerlei Haftung. \n\n\n\nDatenschutz & Dokumentation\n\n\n\nEU-Datenschutz Grundverordnung: Aufgrund der Einwilligung der betroffenen Person nach Art. 6 Abs. 1 lit. A DSGVO bzw. der Erfüllung einer erträglichen bzw. rechtlichen Verpflichtung des Verantwortlichen nach Art. 6 Abs. 1 lit. B und C bzw. F DSGVO werden die personenbezogenen Daten der betroffenen Person\, soweit diese für die Leistungs-/Ergebniserfassung bzw. Ergebnismanagement im Zusammenhang mit der Anmeldung oder Teilnahme an (sportlichen) Veranstaltungen oder Wettkämpfen erforderlich sind\, gespeichert und auch nach Art. 17 Abs. 3 in Verbindung mit Art. 89 DSGVO für im öffentlichen Interesse liegende Archivzwecke und berechtigte Interessen des Verantwortlichen gespeichert und öffentlich zugänglich gemacht sowie von der Österreichische Bundes-Sportorganisation BSO\, 1040 Wien\, Prinz-Eugen- Str. 12\, gespeichert und öffentlich zugänglich gemacht. Dies wird von der betroffenen Person ausdrücklich zur Kenntnis genommen. \n\n\n\nMit der Teilnahme an dieser Veranstaltung nehme ich zur Kenntnis\, dass Fotografien und Videomaterialien\, auf denen ich abgebildet bin\, zur Presse-Berichterstattung verwendet und in verschiedenen (Sozialen) Medien\, Publikationen und auf Webseiten (z.B.: unserer Vereins-Verbands-Webseite und den dazugehörigen Social-Media-Kanälen) veröffentlicht werden. \n\n\n\nVerpflegung\n\n\n\nFrühstück. Verpflegung bei den Laben. Mittagessen.
URL:https://aaa3d.at/event/2-aaa-3d-cup-turniere-finale-aaa-3d-cup-2026-bsc-lienzer-dolomiten-irschen/
LOCATION:BSC Lienzer Dolomiten\, Rittersdorf 79 | beim Feuerwehrhaus\, Irschen\, Kärnten\, 9773\, Austria
CATEGORIES:Turniere
ATTACH;FMTTYPE=image/webp:https://aaa3d.at/wp-content/uploads/2024/07/logo_aaa_3d.webp
ORGANIZER;CN="BSC Lienzer Dolomiten":MAILTO:franz@reinprecht.co.at
END:VEVENT
BEGIN:VEVENT
DTSTART;TZID=Europe/Vienna:20261017T080000
DTEND;TZID=Europe/Vienna:20261017T170000
DTSTAMP:20260422T063748
CREATED:20251110T174944Z
LAST-MODIFIED:20251211T173556Z
UID:7868-1792224000-1792256400@aaa3d.at
SUMMARY:Herbstturnier - BS Hohenau
DESCRIPTION:
URL:https://aaa3d.at/event/herbstturnier-bs-hohenau/
LOCATION:BS Hohenau\, Thayastraße\, Hohenau an der March\, Niederösterreich\, 2273\, Austria
CATEGORIES:Turniere
ORGANIZER;CN="BS Hohenau":MAILTO:office@bogensport-hohenau.at
END:VEVENT
BEGIN:VEVENT
DTSTART;TZID=Europe/Vienna:20261026T070000
DTEND;TZID=Europe/Vienna:20261026T170000
DTSTAMP:20260422T063748
CREATED:20250415T140535Z
LAST-MODIFIED:20260215T103211Z
UID:4374-1792998000-1793034000@aaa3d.at
SUMMARY:Nationalfeiertags Turnier | Archery Yspertal
DESCRIPTION:Nationalfeiertags Turnier | Archery Yspertal
URL:https://aaa3d.at/event/nationalfeiertags-turnier-archery-yspertal/
LOCATION:Archery Yspertal\, Kapelleramt 20\, Yspertal\, NÖ\, 3683\, Austria
CATEGORIES:Turniere
ORGANIZER;CN="Archery Yspertal":MAILTO:info@archery-yspertal.at
END:VEVENT
BEGIN:VEVENT
DTSTART;TZID=Europe/Vienna:20261031T150000
DTEND;TZID=Europe/Vienna:20261031T230000
DTSTAMP:20260422T063748
CREATED:20251110T175126Z
LAST-MODIFIED:20251110T175126Z
UID:5389-1793458800-1793487600@aaa3d.at
SUMMARY:Highlander-Halloween-Turnier - BSV Takern II
DESCRIPTION:
URL:https://aaa3d.at/event/highlander-halloween-turnier-bsv-takern-ii/
LOCATION:Die Highlander BSV Takern II\, Takern II 24\, St. Margarethen an der Raab\, Steiermark\, 8321\, Austria
CATEGORIES:Turniere
ORGANIZER;CN="Die Highlander BSV Takern II":MAILTO:bsvtakern@gmail.com
END:VEVENT
BEGIN:VEVENT
DTSTART;TZID=Europe/Vienna:20261107T070000
DTEND;TZID=Europe/Vienna:20261107T170000
DTSTAMP:20260422T063748
CREATED:20250416T064726Z
LAST-MODIFIED:20260215T175206Z
UID:4436-1794034800-1794070800@aaa3d.at
SUMMARY:Indoor Opening | ASKÖ Steyrermühl
DESCRIPTION:Indoor Opening | ASKÖ Steyrermühl
URL:https://aaa3d.at/event/indoor-opening-askoe-steyrermuehl/
LOCATION:ASKÖ Steyrermühl\, Obertshausenerstraße 2\, Laakirchen\, OÖ\, 4663\, Austria
CATEGORIES:Turniere
ORGANIZER;CN="ASK%C3%96 Steyrerm%C3%BChl":MAILTO:stefan.hoepoltseder@skidata.com
END:VEVENT
BEGIN:VEVENT
DTSTART;TZID=Europe/Vienna:20261107T080000
DTEND;TZID=Europe/Vienna:20261107T170000
DTSTAMP:20260422T063748
CREATED:20260215T103413Z
LAST-MODIFIED:20260215T103414Z
UID:10015-1794038400-1794070800@aaa3d.at
SUMMARY:Schwarzlicht Turnier | UBC Schmidatal Thern
DESCRIPTION:Schwarzlicht Turnier | UBC Schmidatal Thern
URL:https://aaa3d.at/event/schwarzlicht-turnier-ubc-schmidatal-thern/
LOCATION:UBC Schmidatal Thern\, Oberthern 91\, Großweikersdorf\, NÖ\, 3701\, Austria
CATEGORIES:Turniere
ORGANIZER;CN="UBC Schmidatal Thern":MAILTO:ubc-schmidatal-thern@gmx.at
END:VEVENT
BEGIN:VEVENT
DTSTART;TZID=Europe/Vienna:20261205T080000
DTEND;TZID=Europe/Vienna:20261205T170000
DTSTAMP:20260422T063748
CREATED:20250416T070425Z
LAST-MODIFIED:20260215T175311Z
UID:4457-1796457600-1796490000@aaa3d.at
SUMMARY:Krampusturnier | EBSV Gresten
DESCRIPTION:Krampusturnier | EBSV Gresten
URL:https://aaa3d.at/event/krampusturnier-ebsv-gresten/
LOCATION:EBSV Gresten\, Wiesergraben 13\, Gresten.\, 3264\, Austria
CATEGORIES:Turniere
ORGANIZER;CN="EBSV Gresten":MAILTO:a.kreillechner70@gmail.com
END:VEVENT
BEGIN:VEVENT
DTSTART;TZID=Europe/Vienna:20261227T070000
DTEND;TZID=Europe/Vienna:20261227T170000
DTSTAMP:20260422T063748
CREATED:20250415T112624Z
LAST-MODIFIED:20260215T175604Z
UID:4273-1798354800-1798390800@aaa3d.at
SUMMARY:Weihnachtsturnier | Bogensport Waldviertel
DESCRIPTION:Weihnachtsturnier | Bogensport Waldviertel
URL:https://aaa3d.at/event/weihnachtsturnier-bogensport-waldviertel/
LOCATION:Bogensport Waldviertel\, Forstamt 9\, Dorfstetten\, OÖ\, 4392\, Austria
CATEGORIES:Turniere
ORGANIZER;CN="Bogensport Waldviertel":MAILTO:office@bogensport-waldviertel.at
END:VEVENT
BEGIN:VEVENT
DTSTART;TZID=Europe/Vienna:20270109T070000
DTEND;TZID=Europe/Vienna:20270109T170000
DTSTAMP:20260422T063748
CREATED:20250929T083931Z
LAST-MODIFIED:20260215T175802Z
UID:7286-1799478000-1799514000@aaa3d.at
SUMMARY:Neujahrsturnier | Attergauer Bowhunters
DESCRIPTION:Neujahrsturnier | Attergauer Bowhunters
URL:https://aaa3d.at/event/neujahrsturnier-attergauer-bowhunters/
LOCATION:Attergauer Bowhunters\, Oberleiten 10\, Straß im Attergau\, Salzburg\, 4881\, Austria
CATEGORIES:Turniere
ORGANIZER;CN="Attergauer Bowhunters":MAILTO:info@bogensport-attergau.at
END:VEVENT
BEGIN:VEVENT
DTSTART;TZID=Europe/Vienna:20270116T070000
DTEND;TZID=Europe/Vienna:20270116T170000
DTSTAMP:20260422T063748
CREATED:20250929T090624Z
LAST-MODIFIED:20260215T182534Z
UID:7292-1800082800-1800118800@aaa3d.at
SUMMARY:LM IFAA Indoor mit Sternstatus - BSV Thermenland
DESCRIPTION:LM IFAA Indoor mit Sternstatus – BSV Thermenland
URL:https://aaa3d.at/event/stmk-lm-ifaa-indoor-2026-mit-sternstatus-bsv-thermenland/
LOCATION:Kulturzentrum Bad Blumau\, Bad Blumau 79\, Bad Blumau\, Steiermark\, 8283\, Austria
CATEGORIES:Turniere
END:VEVENT
BEGIN:VEVENT
DTSTART;TZID=Europe/Vienna:20270117T070000
DTEND;TZID=Europe/Vienna:20270117T170000
DTSTAMP:20260422T063748
CREATED:20250929T090439Z
LAST-MODIFIED:20260215T180139Z
UID:7290-1800169200-1800205200@aaa3d.at
SUMMARY:ÖM IFAA Indoor | BSV Thermenland
DESCRIPTION:ÖM IFAA Indoor | BSV Thermenland
URL:https://aaa3d.at/event/oem-ifaa-indoor-bsv-thermenland/
LOCATION:Kulturzentrum Bad Blumau\, Bad Blumau 79\, Bad Blumau\, Steiermark\, 8283\, Austria
CATEGORIES:Turniere
END:VEVENT
END:VCALENDAR