BEGIN:VCALENDAR
VERSION:2.0
PRODID:-//AAA 3D - Austrian 3D Archery Association - ECPv6.15.20//NONSGML v1.0//EN
CALSCALE:GREGORIAN
METHOD:PUBLISH
X-WR-CALNAME:AAA 3D - Austrian 3D Archery Association
X-ORIGINAL-URL:https://aaa3d.at
X-WR-CALDESC:Veranstaltungen für AAA 3D - Austrian 3D Archery Association
REFRESH-INTERVAL;VALUE=DURATION:PT1H
X-Robots-Tag:noindex
X-PUBLISHED-TTL:PT1H
BEGIN:VTIMEZONE
TZID:Europe/Vienna
BEGIN:DAYLIGHT
TZOFFSETFROM:+0100
TZOFFSETTO:+0200
TZNAME:CEST
DTSTART:20240331T010000
END:DAYLIGHT
BEGIN:STANDARD
TZOFFSETFROM:+0200
TZOFFSETTO:+0100
TZNAME:CET
DTSTART:20241027T010000
END:STANDARD
BEGIN:DAYLIGHT
TZOFFSETFROM:+0100
TZOFFSETTO:+0200
TZNAME:CEST
DTSTART:20250330T010000
END:DAYLIGHT
BEGIN:STANDARD
TZOFFSETFROM:+0200
TZOFFSETTO:+0100
TZNAME:CET
DTSTART:20251026T010000
END:STANDARD
BEGIN:DAYLIGHT
TZOFFSETFROM:+0100
TZOFFSETTO:+0200
TZNAME:CEST
DTSTART:20260329T010000
END:DAYLIGHT
BEGIN:STANDARD
TZOFFSETFROM:+0200
TZOFFSETTO:+0100
TZNAME:CET
DTSTART:20261025T010000
END:STANDARD
END:VTIMEZONE
BEGIN:VEVENT
DTSTART;TZID=Europe/Vienna:20250602T070000
DTEND;TZID=Europe/Vienna:20250602T170000
DTSTAMP:20260422T102101
CREATED:20250602T182407Z
LAST-MODIFIED:20250915T040502Z
UID:5399-1748847600-1748883600@aaa3d.at
SUMMARY:Prim-Cup-Turnier - Dian Targets
DESCRIPTION:
URL:https://aaa3d.at/event/prim-cup-turnier-dian-targets/
LOCATION:Dian Targets\, Maierhofbergen 43\, Großwilfersdorf\, Steiermark\, 8263\, Austria
CATEGORIES:Turniere
ORGANIZER;CN="Dian Targets":MAILTO:office@dian-targets.at
END:VEVENT
BEGIN:VEVENT
DTSTART;TZID=Europe/Vienna:20250607T070000
DTEND;TZID=Europe/Vienna:20250607T170000
DTSTAMP:20260422T102101
CREATED:20250414T194825Z
LAST-MODIFIED:20250915T040454Z
UID:4074-1749279600-1749315600@aaa3d.at
SUMMARY:Schwamfreds Speziale - Nur mit Einladung
DESCRIPTION:
URL:https://aaa3d.at/event/schwamfreds-speziale-nur-mit-einladung/
LOCATION:HotSpot Trophy Bogensport\, Neukirchen 10\, Neukirchen\, OÖ\, 4671\, Austria
CATEGORIES:Turniere
ORGANIZER;CN="HotSpot Trophy Bogensport":MAILTO:m.schwamborn@hotspot-trophy.at
END:VEVENT
BEGIN:VEVENT
DTSTART;TZID=Europe/Vienna:20250607T070000
DTEND;TZID=Europe/Vienna:20250608T170000
DTSTAMP:20260422T102101
CREATED:20250415T033133Z
LAST-MODIFIED:20250416T084911Z
UID:4107-1749279600-1749402000@aaa3d.at
SUMMARY:WA Sternturnier & LM OÖ - Lion Bowhunterclub
DESCRIPTION:
URL:https://aaa3d.at/event/wa-sternturnier-lm-ooe-lion-bowhunterclub/
LOCATION:Lion Bowhunterclub\, Mitteregg 1\, Aschach/Steyr\, OÖ\, 4421\, Austria
CATEGORIES:Turniere
ORGANIZER;CN="Lion Bowhunterclub":MAILTO:verein@lion-bhc.at
END:VEVENT
BEGIN:VEVENT
DTSTART;TZID=Europe/Vienna:20250614T070000
DTEND;TZID=Europe/Vienna:20250614T170000
DTSTAMP:20260422T102101
CREATED:20250415T033838Z
LAST-MODIFIED:20250415T033839Z
UID:4116-1749884400-1749920400@aaa3d.at
SUMMARY:Wald- Mostviertelcup - Lackenhof
DESCRIPTION:
URL:https://aaa3d.at/event/wald-mostviertelcup-lackenhof/
LOCATION:Lackenhof-Ötscher\, Weitental 51\, Lackenhof\, NÖ\, 3295\, Austria
CATEGORIES:Turniere
ORGANIZER;CN="Lackenhof-%C3%96tscher":MAILTO:info@oetscher.at
END:VEVENT
BEGIN:VEVENT
DTSTART;TZID=Europe/Vienna:20250614T070000
DTEND;TZID=Europe/Vienna:20250614T170000
DTSTAMP:20260422T102101
CREATED:20250417T115935Z
LAST-MODIFIED:20250417T115936Z
UID:4591-1749884400-1749920400@aaa3d.at
SUMMARY:27. Bgld. LM + 5. int. Sternturnier - BSV Potzneusiedl
DESCRIPTION:
URL:https://aaa3d.at/event/27-bgld-lm-5-int-sternturnier-bsv-potzneusiedl/
LOCATION:BSV Potzneusiedl\, Kellergasse 2\, Potzneusiedl\, Burgenland\, 2473\, Austria
CATEGORIES:Turniere
ORGANIZER;CN="BSV Potzneusiedl":MAILTO:office@bsvpotzneusiedl.at
END:VEVENT
BEGIN:VEVENT
DTSTART;TZID=Europe/Vienna:20250614T080000
DTEND;TZID=Europe/Vienna:20250614T170000
DTSTAMP:20260422T102101
CREATED:20250415T034510Z
LAST-MODIFIED:20250415T034511Z
UID:4121-1749888000-1749920400@aaa3d.at
SUMMARY:WA Turnier - 1. KBSV Pörtschach
DESCRIPTION:
URL:https://aaa3d.at/event/wa-turnier-1-kbsv-poertschach/
LOCATION:1. KBSV Pörtschach\, Seeburgerweg\, Pörtschach\, Kärnten\, 9210\, Austria
CATEGORIES:Turniere
ORGANIZER;CN="1. KBSV P%C3%B6rtschach":MAILTO:1kbsv.schriftfuehrung@gmail.com
END:VEVENT
BEGIN:VEVENT
DTSTART;TZID=Europe/Vienna:20250619T080000
DTEND;TZID=Europe/Vienna:20250619T170000
DTSTAMP:20260422T102101
CREATED:20250415T035602Z
LAST-MODIFIED:20250415T035603Z
UID:4134-1750320000-1750352400@aaa3d.at
SUMMARY:2. Wenner Holzpfeilturnier
DESCRIPTION:
URL:https://aaa3d.at/event/2-wenner-holzpfeilturnier/
LOCATION:JBV Wenns\, Obermühlbach\, Wenns\, Tirol\, 6473
CATEGORIES:Turniere
ORGANIZER;CN="JBV Wenns":MAILTO:obmann@jbv-wenns.com
END:VEVENT
BEGIN:VEVENT
DTSTART;TZID=Europe/Vienna:20250621T070000
DTEND;TZID=Europe/Vienna:20250621T170000
DTSTAMP:20260422T102101
CREATED:20250415T035013Z
LAST-MODIFIED:20250415T035014Z
UID:4128-1750489200-1750525200@aaa3d.at
SUMMARY:Holzpfeilturnier - 1. BSC Piestingtal
DESCRIPTION:
URL:https://aaa3d.at/event/holzpfeilturnier-1-bsc-piestingtal/
LOCATION:Hauer Hill\, Kühweg\, Markt Piesting\, NÖ\, 2753
CATEGORIES:Turniere
ORGANIZER;CN="1. BSC Piestingtal":MAILTO:info@bsc-piestingtal.at
END:VEVENT
BEGIN:VEVENT
DTSTART;TZID=Europe/Vienna:20250621T070000
DTEND;TZID=Europe/Vienna:20250622T170000
DTSTAMP:20260422T102101
CREATED:20250415T044715Z
LAST-MODIFIED:20250415T044716Z
UID:4156-1750489200-1750611600@aaa3d.at
SUMMARY:Holzpfeilturnier - Lebensbogen Grünbach
DESCRIPTION:
URL:https://aaa3d.at/event/holzpfeilturnier-lebensbogen-gruenbach/
LOCATION:Lebensbogen\, Am Neuschacht 7\, Grünbach am Schneeberg\, NÖ\, 2733\, Austria
CATEGORIES:Turniere
ORGANIZER;CN="Lebensbogen":MAILTO:office@lebensbogen.at
END:VEVENT
BEGIN:VEVENT
DTSTART;TZID=Europe/Vienna:20250628T070000
DTEND;TZID=Europe/Vienna:20250628T170000
DTSTAMP:20260422T102101
CREATED:20250415T045649Z
LAST-MODIFIED:20250415T045917Z
UID:4169-1751094000-1751130000@aaa3d.at
SUMMARY:4. Brugger Alm Challenge - St. Veit
DESCRIPTION:
URL:https://aaa3d.at/event/4-brugger-alm-challenge-st-veit/
LOCATION:Union St. Veit\, Bruggen 35\, St. Veit\, Kärnten\, 9962\, Austria
CATEGORIES:Turniere
ORGANIZER;CN="Union St. Veit":MAILTO:rautamotz@gmail.com
END:VEVENT
BEGIN:VEVENT
DTSTART;TZID=Europe/Vienna:20250628T070000
DTEND;TZID=Europe/Vienna:20250628T170000
DTSTAMP:20260422T102101
CREATED:20250415T050436Z
LAST-MODIFIED:20250415T050437Z
UID:4172-1751094000-1751130000@aaa3d.at
SUMMARY:WA Sternturnier - ASKÖ BS St. Oswald
DESCRIPTION:
URL:https://aaa3d.at/event/wa-sternturnier-askoe-bs-st-oswald/
LOCATION:ASKÖ BS St. Oswald bei Freistadt\, Etzelsdorf 7\, St. Oswald bei Freistadt\, OÖ\, 4271\, Austria
CATEGORIES:Turniere
ORGANIZER;CN="ASK%C3%96 BS St. Oswald bei Freistadt":MAILTO:bogensport.oswald@b-s-o.at
END:VEVENT
BEGIN:VEVENT
DTSTART;TZID=Europe/Vienna:20250628T070000
DTEND;TZID=Europe/Vienna:20250628T170000
DTSTAMP:20260422T102101
CREATED:20250415T050917Z
LAST-MODIFIED:20250415T050918Z
UID:4183-1751094000-1751130000@aaa3d.at
SUMMARY:YoA Turnier - BSV Gleisdorf
DESCRIPTION:
URL:https://aaa3d.at/event/yoa-turnier-bsv-gleisdorf/
LOCATION:BSV Gleisdorf\, Rosenbergerweg\, Gleisdorf\, Steiermark\, 8200\, Austria
CATEGORIES:Turniere
ORGANIZER;CN="BSV Gleisdorf":MAILTO:gummiviechakilla@gmail.com
END:VEVENT
BEGIN:VEVENT
DTSTART;TZID=Europe/Vienna:20250628T080000
DTEND;TZID=Europe/Vienna:20250628T170000
DTSTAMP:20260422T102101
CREATED:20250415T045142Z
LAST-MODIFIED:20250415T045144Z
UID:4162-1751097600-1751130000@aaa3d.at
SUMMARY:Orig. Hochgattern 3D Turnier - BSV Peilstein
DESCRIPTION:
URL:https://aaa3d.at/event/orig-hochgattern-3d-turnier-bsv-peilstein/
LOCATION:BSV Peilstein am Hochgattern\, Niederkraml 22\, Peilstein im Mühlviertel\, OÖ\, 4153\, Austria
CATEGORIES:Turniere
ORGANIZER;CN="BSV Peilstein":MAILTO:obmann@bsv-peilstein.at
END:VEVENT
BEGIN:VEVENT
DTSTART;TZID=Europe/Vienna:20250629T070000
DTEND;TZID=Europe/Vienna:20250629T170000
DTSTAMP:20260422T102101
CREATED:20250415T053238Z
LAST-MODIFIED:20250415T053240Z
UID:4186-1751180400-1751216400@aaa3d.at
SUMMARY:Jugendturnier - ASKÖ BS St. Oswald
DESCRIPTION:
URL:https://aaa3d.at/event/jugendturnier-askoe-bs-st-oswald/
LOCATION:ASKÖ BS St. Oswald bei Freistadt\, Etzelsdorf 7\, St. Oswald bei Freistadt\, OÖ\, 4271\, Austria
CATEGORIES:Turniere
ATTACH;FMTTYPE=image/png:https://aaa3d.at/wp-content/uploads/2025/03/AAA_logo_st_oswald.png
ORGANIZER;CN="ASK%C3%96 BS St. Oswald bei Freistadt":MAILTO:bogensport.oswald@b-s-o.at
END:VEVENT
BEGIN:VEVENT
DTSTART;TZID=Europe/Vienna:20250629T070000
DTEND;TZID=Europe/Vienna:20250629T170000
DTSTAMP:20260422T102101
CREATED:20250415T054937Z
LAST-MODIFIED:20250415T054939Z
UID:4192-1751180400-1751216400@aaa3d.at
SUMMARY:Jubiläumsturnier - Bogenparcours Scheiblingstein
DESCRIPTION:
URL:https://aaa3d.at/event/jubilaeumsturnier-bogenparcours-scheiblingstein/
LOCATION:Bogenparcours Scheiblingstein\, Scheiblingstein\, Scheiblingstein\, NÖ\, 3400\, Austria
CATEGORIES:Turniere
ORGANIZER;CN="Bogenparcours Scheiblingstein":MAILTO:peter@bogenparcours-scheiblingstein.at
END:VEVENT
BEGIN:VEVENT
DTSTART;TZID=Europe/Vienna:20250629T070000
DTEND;TZID=Europe/Vienna:20250629T170000
DTSTAMP:20260422T102101
CREATED:20250415T060129Z
LAST-MODIFIED:20250415T065522Z
UID:4204-1751180400-1751216400@aaa3d.at
SUMMARY:Schwarzenberg-Outdoor Turnier Wals Open LM OÖ/Salzbg
DESCRIPTION:
URL:https://aaa3d.at/event/schwarzenberg-outdoor-turnier-wals-open-lm-ooe-salzbg/
LOCATION:Club 3-D Wals\, Grünaustraße 72\, Wals-Siezenheim\, Salzburg\, 5071\, Austria
CATEGORIES:Turniere
ORGANIZER;CN="Club 3-D Wals":MAILTO:zehentmayr1@hotmail.com
END:VEVENT
BEGIN:VEVENT
DTSTART;TZID=Europe/Vienna:20250629T070000
DTEND;TZID=Europe/Vienna:20250629T170000
DTSTAMP:20260422T102101
CREATED:20250417T123448Z
LAST-MODIFIED:20250417T124028Z
UID:4597-1751180400-1751216400@aaa3d.at
SUMMARY:Alpe Adria Stern Turnier + Ktn. LM - Bogensportverband Kärnten
DESCRIPTION:
URL:https://aaa3d.at/event/alpe-adria-stern-turnier-ktn-lm-bogensportverband-kaernten/
LOCATION:Villacher Arbeitersportverein\, Purtschellerstraße 12\, Villach\, Kärnten\, 9500\, Austria
CATEGORIES:Turniere
ORGANIZER;CN="Bogensportverband K%C3%A4rnten":MAILTO:sebastian.altersberger@gmx.at
END:VEVENT
BEGIN:VEVENT
DTSTART;TZID=Europe/Vienna:20250629T080000
DTEND;TZID=Europe/Vienna:20250629T170000
DTSTAMP:20260422T102101
CREATED:20250415T055645Z
LAST-MODIFIED:20250415T055647Z
UID:4198-1751184000-1751216400@aaa3d.at
SUMMARY:YoA Turnier - Tobisch Bogenranch
DESCRIPTION:
URL:https://aaa3d.at/event/yoa-turnier-tobisch-bogenranch/
LOCATION:Tobisch Bogenranch\, Obersaifen 5\, Pöllau bei Hartberg\, Steiermark\, 8225\, Austria
CATEGORIES:Turniere
ORGANIZER;CN="TOBISCH BOGENRANCH":MAILTO:+436642528525
END:VEVENT
END:VCALENDAR