BEGIN:VCALENDAR
VERSION:2.0
PRODID:-//AAA 3D - Austrian 3D Archery Association - ECPv6.15.20//NONSGML v1.0//EN
CALSCALE:GREGORIAN
METHOD:PUBLISH
X-WR-CALNAME:AAA 3D - Austrian 3D Archery Association
X-ORIGINAL-URL:https://aaa3d.at
X-WR-CALDESC:Veranstaltungen für AAA 3D - Austrian 3D Archery Association
REFRESH-INTERVAL;VALUE=DURATION:PT1H
X-Robots-Tag:noindex
X-PUBLISHED-TTL:PT1H
BEGIN:VTIMEZONE
TZID:Europe/Vienna
BEGIN:DAYLIGHT
TZOFFSETFROM:+0100
TZOFFSETTO:+0200
TZNAME:CEST
DTSTART:20240331T010000
END:DAYLIGHT
BEGIN:STANDARD
TZOFFSETFROM:+0200
TZOFFSETTO:+0100
TZNAME:CET
DTSTART:20241027T010000
END:STANDARD
BEGIN:DAYLIGHT
TZOFFSETFROM:+0100
TZOFFSETTO:+0200
TZNAME:CEST
DTSTART:20250330T010000
END:DAYLIGHT
BEGIN:STANDARD
TZOFFSETFROM:+0200
TZOFFSETTO:+0100
TZNAME:CET
DTSTART:20251026T010000
END:STANDARD
BEGIN:DAYLIGHT
TZOFFSETFROM:+0100
TZOFFSETTO:+0200
TZNAME:CEST
DTSTART:20260329T010000
END:DAYLIGHT
BEGIN:STANDARD
TZOFFSETFROM:+0200
TZOFFSETTO:+0100
TZNAME:CET
DTSTART:20261025T010000
END:STANDARD
END:VTIMEZONE
BEGIN:VEVENT
DTSTART;TZID=Europe/Vienna:20251108T070000
DTEND;TZID=Europe/Vienna:20251109T170000
DTSTAMP:20260422T041052
CREATED:20250416T065526Z
LAST-MODIFIED:20250416T065528Z
UID:4448-1762585200-1762707600@aaa3d.at
SUMMARY:Carinthian Indoor Open - Archery Carinthia
DESCRIPTION:
URL:https://aaa3d.at/event/carinthian-indoor-open-archery-carinthia/
LOCATION:Archery Carinthia\, Völkermarkt\, Völkermarkt\, Kärnten\, 9100\, Austria
CATEGORIES:Turniere
ORGANIZER;CN="Archery Carinthia":MAILTO:office@archery-carinthia.com
END:VEVENT
BEGIN:VEVENT
DTSTART;TZID=Europe/Vienna:20251115T070000
DTEND;TZID=Europe/Vienna:20251115T170000
DTSTAMP:20260422T041052
CREATED:20250417T111842Z
LAST-MODIFIED:20260112T144441Z
UID:4579-1763190000-1763226000@aaa3d.at
SUMMARY:Pleitegeierschießen - BSV Raabtal
DESCRIPTION:Pleitegeierschießen – BSV Raabtal
URL:https://aaa3d.at/event/pleitegeierschiessen-bsv-raabtal/
LOCATION:BSV Raabtal\, Schwabengraben 28\, Welten\, Burgenland\, 8385\, Austria
CATEGORIES:Turniere
ORGANIZER;CN="BSV Raabtal":MAILTO:kontakt@bsv-raabtal.at
END:VEVENT
BEGIN:VEVENT
DTSTART;TZID=Europe/Vienna:20251128T070000
DTEND;TZID=Europe/Vienna:20251128T170000
DTSTAMP:20260422T041052
CREATED:20250416T070151Z
LAST-MODIFIED:20250416T070222Z
UID:4454-1764313200-1764349200@aaa3d.at
SUMMARY:Adventturnier - BSC Edelweiss
DESCRIPTION:
URL:https://aaa3d.at/event/adventturnier-bsc-edelweiss/
LOCATION:BSC Edelweiss\, Wiesengasse 39\, Hartberg\, Steiermark\, 8230
CATEGORIES:Turniere
ORGANIZER;CN="BSC Edelweiss":MAILTO:edelweissbogen@gmail.com
END:VEVENT
END:VCALENDAR