BEGIN:VCALENDAR
VERSION:2.0
PRODID:-//AAA 3D - Austrian 3D Archery Association - ECPv6.15.20//NONSGML v1.0//EN
CALSCALE:GREGORIAN
METHOD:PUBLISH
X-WR-CALNAME:AAA 3D - Austrian 3D Archery Association
X-ORIGINAL-URL:https://aaa3d.at
X-WR-CALDESC:Veranstaltungen für AAA 3D - Austrian 3D Archery Association
REFRESH-INTERVAL;VALUE=DURATION:PT1H
X-Robots-Tag:noindex
X-PUBLISHED-TTL:PT1H
BEGIN:VTIMEZONE
TZID:Europe/Vienna
BEGIN:DAYLIGHT
TZOFFSETFROM:+0100
TZOFFSETTO:+0200
TZNAME:CEST
DTSTART:20250330T010000
END:DAYLIGHT
BEGIN:STANDARD
TZOFFSETFROM:+0200
TZOFFSETTO:+0100
TZNAME:CET
DTSTART:20251026T010000
END:STANDARD
BEGIN:DAYLIGHT
TZOFFSETFROM:+0100
TZOFFSETTO:+0200
TZNAME:CEST
DTSTART:20260329T010000
END:DAYLIGHT
BEGIN:STANDARD
TZOFFSETFROM:+0200
TZOFFSETTO:+0100
TZNAME:CET
DTSTART:20261025T010000
END:STANDARD
BEGIN:DAYLIGHT
TZOFFSETFROM:+0100
TZOFFSETTO:+0200
TZNAME:CEST
DTSTART:20270328T010000
END:DAYLIGHT
BEGIN:STANDARD
TZOFFSETFROM:+0200
TZOFFSETTO:+0100
TZNAME:CET
DTSTART:20271031T010000
END:STANDARD
END:VTIMEZONE
BEGIN:VEVENT
DTSTART;TZID=Europe/Vienna:20260103T070000
DTEND;TZID=Europe/Vienna:20260103T170000
DTSTAMP:20260422T013331
CREATED:20251110T155313Z
LAST-MODIFIED:20251110T155314Z
UID:7849-1767423600-1767459600@aaa3d.at
SUMMARY:Neujahrs-Schießen - ASKÖ Luftenberg
DESCRIPTION:
URL:https://aaa3d.at/event/neujahrs-schiessen-askoe-luftenberg/
LOCATION:BSC ASKÖ Luftenberg\, Lachstatt 1\, Lachstatt\, OÖ\, 4221\, Austria
CATEGORIES:Turniere
ATTACH;FMTTYPE=image/webp:https://aaa3d.at/wp-content/uploads/2024/10/aaa_logo_bsc_askoe_luftenberg_thumb.webp
ORGANIZER;CN="BSC ASK%C3%96 Luftenberg":MAILTO:info@bogensportluftenberg.at
END:VEVENT
BEGIN:VEVENT
DTSTART;TZID=Europe/Vienna:20260106T070000
DTEND;TZID=Europe/Vienna:20260106T170000
DTSTAMP:20260422T013331
CREATED:20250829T184834Z
LAST-MODIFIED:20250829T191508Z
UID:6591-1767682800-1767718800@aaa3d.at
SUMMARY:Drei Königsturnier - HBSV Sagitta et Arcum
DESCRIPTION:
URL:https://aaa3d.at/event/drei-koenigsturnier-hbsv-sagitta-et-arcum/
LOCATION:HBSV Sagitta Et Arcum\, Murdorfer Strasse 39\, Judenburg\, Steiermark\, 8750
CATEGORIES:Turniere
ORGANIZER;CN="HBSV Sagitta Et Arcum":MAILTO:sagitta.arcum@gmail.com
END:VEVENT
BEGIN:VEVENT
DTSTART;TZID=Europe/Vienna:20260106T080000
DTEND;TZID=Europe/Vienna:20260106T170000
DTSTAMP:20260422T013331
CREATED:20260102T204048Z
LAST-MODIFIED:20260111T185111Z
UID:9028-1767686400-1767718800@aaa3d.at
SUMMARY:AAA 3D Cup Turnier | BS Mieminger Plateau
DESCRIPTION:AAA 3D Cup Turnier | BS Mieminger Plateau
URL:https://aaa3d.at/event/aaa-3d-cup-turnier-bs-mieminger-plateau/
LOCATION:BS Mieminger Plateau\, Gerhardhof 1\, Wildermieming\, Tirol\, 6413\, Austria
CATEGORIES:Turniere
ATTACH;FMTTYPE=image/webp:https://aaa3d.at/wp-content/uploads/2024/07/aaa_logo.webp
ORGANIZER;CN="BS Mieminger Plateau":MAILTO:verein@bsmp.at
END:VEVENT
BEGIN:VEVENT
DTSTART;TZID=Europe/Vienna:20260117T070000
DTEND;TZID=Europe/Vienna:20260117T170000
DTSTAMP:20260422T013331
CREATED:20250414T171051Z
LAST-MODIFIED:20250416T065400Z
UID:4045-1768633200-1768669200@aaa3d.at
SUMMARY:24. Traunseepokalurnier - ASKÖ Steyrermühl
DESCRIPTION:
URL:https://aaa3d.at/event/24-traunseepokalurnier-askoe-steyrermuehl/
LOCATION:ASKÖ Steyrermühl\, Obertshausenerstraße 2\, Laakirchen\, OÖ\, 4663\, Austria
CATEGORIES:Turniere
ORGANIZER;CN="ASK%C3%96 Steyrerm%C3%BChl":MAILTO:stefan.hoepoltseder@skidata.com
END:VEVENT
BEGIN:VEVENT
DTSTART;TZID=Europe/Vienna:20260124T070000
DTEND;TZID=Europe/Vienna:20260124T170000
DTSTAMP:20260422T013331
CREATED:20250414T193021Z
LAST-MODIFIED:20250414T193626Z
UID:4064-1769238000-1769274000@aaa3d.at
SUMMARY:Artemis Youngstars - Stockerau
DESCRIPTION:
URL:https://aaa3d.at/event/artemis-youngstars-stockerau/
LOCATION:Artemis Stockerau\, Milleniumshalle / Au\, Stockerau\, NÖ\, 2000\, Austria
CATEGORIES:Turniere
ORGANIZER;CN="Artemis Stockerau":MAILTO:michael.bachheimer@bogen.info
END:VEVENT
BEGIN:VEVENT
DTSTART;TZID=Europe/Vienna:20260124T070000
DTEND;TZID=Europe/Vienna:20260124T170000
DTSTAMP:20260422T013331
CREATED:20251203T075705Z
LAST-MODIFIED:20251203T075843Z
UID:4703-1769238000-1769274000@aaa3d.at
SUMMARY:Holzmichls Ice Challange - BSC Holzmichl
DESCRIPTION:
URL:https://aaa3d.at/event/holzmichls-ice-challange-bsc-holzmichl/
LOCATION:BSC Holzmichl\, Kemetberg 60\, Maria Lankowitz\, Steiermark\, 8591\, Austria
CATEGORIES:Turniere
ORGANIZER;CN="BSC Holzmichl":MAILTO:kontakt@holzmichl.at
END:VEVENT
BEGIN:VEVENT
DTSTART;TZID=Europe/Vienna:20260125T070000
DTEND;TZID=Europe/Vienna:20260125T170000
DTSTAMP:20260422T013331
CREATED:20250414T194014Z
LAST-MODIFIED:20250414T194015Z
UID:4068-1769324400-1769360400@aaa3d.at
SUMMARY:120 Pfeile von Artemis - Stockerau
DESCRIPTION:
URL:https://aaa3d.at/event/120-pfeile-von-artemis-stockerau/
LOCATION:Artemis Stockerau\, Milleniumshalle / Au\, Stockerau\, NÖ\, 2000\, Austria
CATEGORIES:Turniere
ORGANIZER;CN="Artemis Stockerau":MAILTO:michael.bachheimer@bogen.info
END:VEVENT
BEGIN:VEVENT
DTSTART;TZID=Europe/Vienna:20260131T070000
DTEND;TZID=Europe/Vienna:20260131T170000
DTSTAMP:20260422T013331
CREATED:20250929T080823Z
LAST-MODIFIED:20260112T152933Z
UID:7267-1769842800-1769878800@aaa3d.at
SUMMARY:22. Flachgauer Winterturnier - UBSC Flachgau
DESCRIPTION:22. Flachgauer Winterturnier – UBSC Flachgau
URL:https://aaa3d.at/event/22-flachgauer-winterturnier-ubsc-flachgau/
LOCATION:UBSC Flachgau\, Fenning 141\, Henndorf am Wallersee\, Salzburg\, 5302\, Austria
CATEGORIES:Turniere
ORGANIZER;CN="UBSC Flachgau":MAILTO:office@ubsc-flachgau.at
END:VEVENT
BEGIN:VEVENT
DTSTART;TZID=Europe/Vienna:20260131T070000
DTEND;TZID=Europe/Vienna:20260201T170000
DTSTAMP:20260422T013331
CREATED:20251015T183135Z
LAST-MODIFIED:20260112T144635Z
UID:7648-1769842800-1769965200@aaa3d.at
SUMMARY:ÖM / ÖSTM | BSV Wallern | Wels
DESCRIPTION:ÖM / ÖSTM | BSV Wallern | Wels
URL:https://aaa3d.at/event/oem-oestm-bsv-wallern-wels/
LOCATION:Bogensportmesse\, Messeplatz 1\, Wels\, OÖ\, 4600\, Austria
ORGANIZER;CN="BSV Wallern":MAILTO:bogen@bsv-wallern.at
END:VEVENT
BEGIN:VEVENT
DTSTART;TZID=Europe/Vienna:20260131T090000
DTEND;TZID=Europe/Vienna:20260201T170000
DTSTAMP:20260422T013331
CREATED:20250416T071106Z
LAST-MODIFIED:20250416T071108Z
UID:4463-1769850000-1769965200@aaa3d.at
SUMMARY:Bogensportmesse Wels
DESCRIPTION:
URL:https://aaa3d.at/event/bogensportmesse-wels/
LOCATION:Bogensportmesse\, Messeplatz 1\, Wels\, OÖ\, 4600\, Austria
CATEGORIES:Messe
ORGANIZER;CN="Bogensportmesse":MAILTO:office@messe-wels.at
END:VEVENT
END:VCALENDAR