BEGIN:VCALENDAR
VERSION:2.0
PRODID:-//AAA 3D - Austrian 3D Archery Association - ECPv6.15.20//NONSGML v1.0//EN
CALSCALE:GREGORIAN
METHOD:PUBLISH
X-ORIGINAL-URL:https://aaa3d.at
X-WR-CALDESC:Veranstaltungen für AAA 3D - Austrian 3D Archery Association
REFRESH-INTERVAL;VALUE=DURATION:PT1H
X-Robots-Tag:noindex
X-PUBLISHED-TTL:PT1H
BEGIN:VTIMEZONE
TZID:Europe/Vienna
BEGIN:DAYLIGHT
TZOFFSETFROM:+0100
TZOFFSETTO:+0200
TZNAME:CEST
DTSTART:20250330T010000
END:DAYLIGHT
BEGIN:STANDARD
TZOFFSETFROM:+0200
TZOFFSETTO:+0100
TZNAME:CET
DTSTART:20251026T010000
END:STANDARD
BEGIN:DAYLIGHT
TZOFFSETFROM:+0100
TZOFFSETTO:+0200
TZNAME:CEST
DTSTART:20260329T010000
END:DAYLIGHT
BEGIN:STANDARD
TZOFFSETFROM:+0200
TZOFFSETTO:+0100
TZNAME:CET
DTSTART:20261025T010000
END:STANDARD
BEGIN:DAYLIGHT
TZOFFSETFROM:+0100
TZOFFSETTO:+0200
TZNAME:CEST
DTSTART:20270328T010000
END:DAYLIGHT
BEGIN:STANDARD
TZOFFSETFROM:+0200
TZOFFSETTO:+0100
TZNAME:CET
DTSTART:20271031T010000
END:STANDARD
END:VTIMEZONE
BEGIN:VEVENT
DTSTART;TZID=Europe/Vienna:20260307T073000
DTEND;TZID=Europe/Vienna:20260307T170000
DTSTAMP:20260421T230806
CREATED:20260216T113435Z
LAST-MODIFIED:20260216T113436Z
UID:10031-1772868600-1772902800@aaa3d.at
SUMMARY:Frühjahrsturnier | UBC Diana NÖ
DESCRIPTION:Frühjahrsturnier | UBC Diana NÖ
URL:https://aaa3d.at/event/fruehjahrsturnier-ubc-diana-noe/
LOCATION:3D-Bogenpark Kahlenberg\, Josefsdorf 47\, Wien\, Wien\, 1190\, Austria
CATEGORIES:Turniere
ATTACH;FMTTYPE=image/webp:https://aaa3d.at/wp-content/uploads/2024/07/aaa_logo_ubsc_diana.webp
ORGANIZER;CN="UBC Diana N%C3%96":MAILTO:diana@bows.at
END:VEVENT
BEGIN:VEVENT
DTSTART;TZID=Europe/Vienna:20260307T080000
DTEND;TZID=Europe/Vienna:20260307T170000
DTSTAMP:20260421T230806
CREATED:20260215T093307Z
LAST-MODIFIED:20260215T093308Z
UID:9975-1772870400-1772902800@aaa3d.at
SUMMARY:Herzerlturnier
DESCRIPTION:Herzerlturnier
URL:https://aaa3d.at/event/herzerlturnier/
LOCATION:BSC Windhaag / Perg\, Pühringerstraße 3\, Windhaag bei Perg\, OÖ\, 4322\, Austria
CATEGORIES:Turniere
ORGANIZER;CN="BSC Windhaag / Perg":MAILTO:franz.riegler@bogenschuetzenclub.at
END:VEVENT
BEGIN:VEVENT
DTSTART;TZID=Europe/Vienna:20260314T070000
DTEND;TZID=Europe/Vienna:20260314T170000
DTSTAMP:20260421T230806
CREATED:20250829T183756Z
LAST-MODIFIED:20260112T153611Z
UID:6585-1773471600-1773507600@aaa3d.at
SUMMARY:ÖM Indoor Kinder und Jugend (U8-U21) - ASKÖ Steyrermühl
DESCRIPTION:ÖM Indoor Kinder und Jugend (U8-U21) – ASKÖ Steyrermühl
URL:https://aaa3d.at/event/oem-indoor-kinder-und-jugend-u8-u21-askoe-steyrermuehl/
LOCATION:ASKÖ Steyrermühl\, Obertshausenerstraße 2\, Laakirchen\, OÖ\, 4663\, Austria
CATEGORIES:Turniere
END:VEVENT
BEGIN:VEVENT
DTSTART;TZID=Europe/Vienna:20260314T080000
DTEND;TZID=Europe/Vienna:20260314T170000
DTSTAMP:20260421T230806
CREATED:20251110T155618Z
LAST-MODIFIED:20251110T155620Z
UID:7851-1773475200-1773507600@aaa3d.at
SUMMARY:Night-Hunter Spring-Edition - 3D Bogensport Puchberg
DESCRIPTION:
URL:https://aaa3d.at/event/night-hunter-spring-edition-3d-bogensport-puchberg/
LOCATION:3D Bogensport Puchberg\, Wr. Neustädterstrasse 70\, Puchberg am Schneeberg\, NÖ\, 2734\, Austria
CATEGORIES:Turniere
ORGANIZER;CN="3D Bogensport Puchberg":MAILTO:info@3d-bogensport.at
END:VEVENT
BEGIN:VEVENT
DTSTART;TZID=Europe/Vienna:20260315T080000
DTEND;TZID=Europe/Vienna:20260315T170000
DTSTAMP:20260421T230806
CREATED:20251110T155928Z
LAST-MODIFIED:20251110T155957Z
UID:7854-1773561600-1773594000@aaa3d.at
SUMMARY:Flotter Dreier - 3D Bogensport Puchberg
DESCRIPTION:15.3. – 26.4.2026
URL:https://aaa3d.at/event/flotter-dreier-3d-bogensport-puchberg/
LOCATION:3D Bogensport Puchberg\, Wr. Neustädterstrasse 70\, Puchberg am Schneeberg\, NÖ\, 2734\, Austria
CATEGORIES:Turniere
ORGANIZER;CN="3D Bogensport Puchberg":MAILTO:info@3d-bogensport.at
END:VEVENT
BEGIN:VEVENT
DTSTART;TZID=Europe/Vienna:20260321T070000
DTEND;TZID=Europe/Vienna:20260321T170000
DTSTAMP:20260421T230806
CREATED:20250829T171905Z
LAST-MODIFIED:20250829T171908Z
UID:6556-1774076400-1774112400@aaa3d.at
SUMMARY:Wieselturnier | BSC Rothberg
DESCRIPTION:
URL:https://aaa3d.at/event/wieselturnier-bsc-rothberg/
LOCATION:BSC Rothberg\, Wörth 21\, Lirchberg an der Raab\, Steiermark\, 8324\, Austria
CATEGORIES:Turniere
ATTACH;FMTTYPE=image/jpeg:https://aaa3d.at/wp-content/uploads/2025/08/aaa3d_verein_bsc_rothberg_logo.jpg
ORGANIZER;CN="BSC Rothberg":MAILTO:andi.schloegl@gmx.at
END:VEVENT
BEGIN:VEVENT
DTSTART;TZID=Europe/Vienna:20260321T080000
DTEND;TZID=Europe/Vienna:20260321T170000
DTSTAMP:20260421T230806
CREATED:20251210T203903Z
LAST-MODIFIED:20251210T204254Z
UID:4324-1774080000-1774112400@aaa3d.at
SUMMARY:Märzenkalbturnier - WBU Aggsbach
DESCRIPTION:
URL:https://aaa3d.at/event/maerzenkalbturnier-wbu-aggsbach/
LOCATION:WBU Aggsbach\, Aggsbach-Markt 90\, Aggsbach-Markt\, NÖ\, 3641\, Austria
CATEGORIES:Turniere
ORGANIZER;CN="WBU Aggsbach":MAILTO:wbu-aggsbach@gmx.at
END:VEVENT
BEGIN:VEVENT
DTSTART;TZID=Europe/Vienna:20260321T080000
DTEND;TZID=Europe/Vienna:20260321T170000
DTSTAMP:20260421T230806
CREATED:20260215T093539Z
LAST-MODIFIED:20260215T094914Z
UID:9977-1774080000-1774112400@aaa3d.at
SUMMARY:Frühjahrsturnier | Bad Zell
DESCRIPTION:Frühjahrsturnier | Bad Zell
URL:https://aaa3d.at/event/fruehjahrsturnier-bad-zell/
LOCATION:BSV Bad Zell\, Zellhof 6\, Bad Zell\, OÖ\, 4283\, Austria
CATEGORIES:Turniere
ORGANIZER;CN="BSV Bad Zell":MAILTO:bogenshop@gmx.at
END:VEVENT
BEGIN:VEVENT
DTSTART;TZID=Europe/Vienna:20260328T070000
DTEND;TZID=Europe/Vienna:20260328T170000
DTSTAMP:20260421T230806
CREATED:20250913T160335Z
LAST-MODIFIED:20250913T160336Z
UID:6896-1774681200-1774717200@aaa3d.at
SUMMARY:Bowhunter Turnier - Die Kellerratten
DESCRIPTION:
URL:https://aaa3d.at/event/bowhunter-turnier-die-kellerratten/
LOCATION:Die Kellerratten\, Göttelsberg 19\, Weiz\, Steiermark\, 8160\, Austria
CATEGORIES:Turniere
ORGANIZER;CN="Die Kellerratten":MAILTO:office@diekellerratten.at
END:VEVENT
BEGIN:VEVENT
DTSTART;TZID=Europe/Vienna:20260328T070000
DTEND;TZID=Europe/Vienna:20260328T170000
DTSTAMP:20260421T230806
CREATED:20251015T184015Z
LAST-MODIFIED:20260112T144811Z
UID:7652-1774681200-1774717200@aaa3d.at
SUMMARY:Traditionelles Turnier am Koglerhof | BSA Ternberg
DESCRIPTION:Traditionelles Turnier am Koglerhof | BSA Ternberg
URL:https://aaa3d.at/event/traditionelles-turnier-am-koglerhof-bsa-ternberg/
LOCATION:BSA Ternberg\, Wurmbach 35\, Ternberg\, OÖ\, 4452\, Austria
CATEGORIES:Turniere
ORGANIZER;CN="BSA Ternberg":MAILTO:info@koglerhof.at
END:VEVENT
END:VCALENDAR