BEGIN:VCALENDAR
VERSION:2.0
PRODID:-//AAA 3D - Austrian 3D Archery Association - ECPv6.15.20//NONSGML v1.0//EN
CALSCALE:GREGORIAN
METHOD:PUBLISH
X-WR-CALNAME:AAA 3D - Austrian 3D Archery Association
X-ORIGINAL-URL:https://aaa3d.at
X-WR-CALDESC:Veranstaltungen für AAA 3D - Austrian 3D Archery Association
REFRESH-INTERVAL;VALUE=DURATION:PT1H
X-Robots-Tag:noindex
X-PUBLISHED-TTL:PT1H
BEGIN:VTIMEZONE
TZID:Europe/Vienna
BEGIN:DAYLIGHT
TZOFFSETFROM:+0100
TZOFFSETTO:+0200
TZNAME:CEST
DTSTART:20250330T010000
END:DAYLIGHT
BEGIN:STANDARD
TZOFFSETFROM:+0200
TZOFFSETTO:+0100
TZNAME:CET
DTSTART:20251026T010000
END:STANDARD
BEGIN:DAYLIGHT
TZOFFSETFROM:+0100
TZOFFSETTO:+0200
TZNAME:CEST
DTSTART:20260329T010000
END:DAYLIGHT
BEGIN:STANDARD
TZOFFSETFROM:+0200
TZOFFSETTO:+0100
TZNAME:CET
DTSTART:20261025T010000
END:STANDARD
BEGIN:DAYLIGHT
TZOFFSETFROM:+0100
TZOFFSETTO:+0200
TZNAME:CEST
DTSTART:20270328T010000
END:DAYLIGHT
BEGIN:STANDARD
TZOFFSETFROM:+0200
TZOFFSETTO:+0100
TZNAME:CET
DTSTART:20271031T010000
END:STANDARD
END:VTIMEZONE
BEGIN:VEVENT
DTSTART;TZID=Europe/Vienna:20260601T080000
DTEND;TZID=Europe/Vienna:20260630T170000
DTSTAMP:20260422T001635
CREATED:20251203T083916Z
LAST-MODIFIED:20260112T143621Z
UID:8376-1780300800-1782838800@aaa3d.at
SUMMARY:VLBC | BSV Takern II - Die Highlander
DESCRIPTION:VLBC | BSV Takern II – Die Highlander
URL:https://aaa3d.at/event/vlbc-bsv-takern-ii-die-highlander/
LOCATION:Die Highlander BSV Takern II\, Takern II 24\, St. Margarethen an der Raab\, Steiermark\, 8321\, Austria
CATEGORIES:Turniere
ORGANIZER;CN="Die Highlander BSV Takern II":MAILTO:bsvtakern@gmail.com
END:VEVENT
BEGIN:VEVENT
DTSTART;TZID=Europe/Vienna:20260606T070000
DTEND;TZID=Europe/Vienna:20260606T170000
DTSTAMP:20260422T001635
CREATED:20250414T170502Z
LAST-MODIFIED:20260215T100354Z
UID:4041-1780729200-1780765200@aaa3d.at
SUMMARY:Penzinger Watschenbach-Turnier
DESCRIPTION:Penzinger Watschenbach-Turnier
URL:https://aaa3d.at/event/6-penzinger-watschenbach-turnier/
LOCATION:Bogenparcours Penzing\, Penzingweg 15\, Oberndorf\, Tirol\, 6372\, Austria
CATEGORIES:Turniere
ORGANIZER;CN="Bogenparcours Penzing":MAILTO:info@pfeilundbogen.at
END:VEVENT
BEGIN:VEVENT
DTSTART;TZID=Europe/Vienna:20260606T070000
DTEND;TZID=Europe/Vienna:20260606T170000
DTSTAMP:20260422T001635
CREATED:20250903T074905Z
LAST-MODIFIED:20260111T190632Z
UID:6674-1780729200-1780765200@aaa3d.at
SUMMARY:AAA 3D Cup Turnier - BSC Wörthersee
DESCRIPTION:AAA 3D Cup Turnier – BSC Wörthersee\n\n\n\nKärntner Meisterschaft & AAA 3D Cup – BSC Wörthersee | 06. Juni 2026\n\n\n\n\n\n\n\nKärntner Meisterschaft & AAA 3D Cup – BSC Wörthersee | 06. Juni 2026\n\n\n\nDer BSC-Wörthersee lädt Euch herzlich zum AAA-Cup Turnier am Samstag\, 06. Juni 2026 in Krumpendorf ein. \n\n\n\n🛻 Anfahrt\n\n\n\nGoogle: BSC Wörthersee-Parcours JerolitschKoordinaten: 46.632201685692884\, 14.23824253690023 \n\n\n\n📌 Turniermodus\n\n\n\n\n1 Runde zu 28 Zielen\n\n\n\n1-Pfeil-Wertung (Hunter-Modus: 11 / 10 / 8 / 5 Punkte)\n\n\n\n\n🕘 Programmablauf\n\n\n\n\n07:30 – 09:00 Uhr: Anmeldung & Einschießen\n\n\n\n09:15 Uhr: Begrüßung\n\n\n\n10:00 Uhr: Start am Pflock\n\n\n\nSiegerehrung: ca. 30 Minuten nach Abgabe des letzten Score Zettels (oder digital)\n\n\n\n\n💰 Nenngeld\n\n\n\n\nErwachsene / Veteranen: € 25\,-\n\n\n\nJugend (15–17 Jahre): € 15\,-\n\n\n\nSchüler (13–14 Jahre) & Minis (10–12 Jahre): frei\n\n\n\n\nDas Nenngeld ist nur über 3D-Skillboard im Voraus zu bezahlen.Ev. Restplätze auch gerne beim Turnier. \n\n\n\n🤗 Cup-Wertung & Gästeklasse\n\n\n\nDie Anmeldung ist nur nach Einzahlung über 3D Skill Board gültig. 7 Tage vor dem Turnier wird die Anmeldung geschlossen und nicht bezahlte Anmeldungen werden gelöscht. \n\n\n\nSchütz:innen ohne Lizenz werden in der Gästeklasse gewertet. Für die Cup-Wertung und Bundesland Meisterschaft ist eine gültige Lizenz 2026 erforderlich. Der Zahlungseingang für die Lizenz 2026 muss 7 Tage vor dem Turnier auf das Konto der AAA eingegangen sein. Bankverbindung: Austria 3-D Archery Association\, IBAN: AT65 4715 0119 8509 0000 Bundesland Meistershaft: Schütz:innen mit einer Vereinszugehörigkeit oder einem Hauptwohnsitz im austragenden Bundesland. \n\n\n\n🎯 Bogenklassen\n\n\n\nVisier (roter Pflock ab Jugend\, blauer Pflock für Schüler/Minis) \n\n\n\n\nCU-Compound Unlimited\n\n\n\nHU-Compound Hunter 3D\n\n\n\nCB-Compound Barebow\n\n\n\nCRB-Crossbow\n\n\n\nOL-Olympic Recurve\n\n\n\n\nTraditionell (blauer Pflock ab Jugend\, weißer Pflock für Schüler/Minis) \n\n\n\n\nTraditional Recurve\n\n\n\nTraditional Longbow\n\n\n\nBarebow\n\n\n\nPrimitive / Horsebow\n\n\n\n\n👥 Altersklassen\n\n\n\n\nVeteranen: ab 55 Jahren\n\n\n\nSenioren: 18–54 Jahre\n\n\n\nJugend: 15–17 Jahre\n\n\n\nSchüler: 13–14 Jahre\n\n\n\nMinis: 10–12 Jahre\n\n\n\n\n📋 Anmeldung\n\n\n\nMeldet euch bitte online an: 3D Skillboard \n\n\n\nℹ️ Weitere Infos\n\n\n\n\nDas Turnier wird nach dem aktuellen Regelwerk der AAA-3D durchgeführt.\n\n\n\nSchiedsrichter wird von der AAA-3D gestellt.\n\n\n\nFür die Wertung des AAA-Cups ist eine gültige AAA-3D Lizenz erforderlich.\n\n\n\nFür die Tageswertung besteht KEINE Lizenzpflicht.\n\n\n\nNähere Informationen zum Ablauf oder Änderungen werden rechtzeitig bekanntgegeben.\n\n\n\n\nParcoursregeln und Sicherheitsmaßnahmen sind unbedingt einzuhalten. Den Anweisungen des Schiedsrichters und/oder des Veranstalters ist Folge zu leisten! Festes Schuhwerk wird empfohlen. Für Schäden und Verletzungen jeglicher Art wird keine Haftung übernommen. \n\n\n\n📞 Kontakt\n\n\n\nBSC Wörtherseeobmann@bsc-woerthersee.at \n\n\n\n📲 Datenschutz und Dokumentation\n\n\n\nAufgrund der Einwilligung der betroffenen Person nach Art. 6 Abs. 1 lit. A DSGVO bzw. der Erfüllung einer vertraglichen bzw. rechtlichen Verpflichtung des Verantwortlichen nach Art. 6 Abs. 1 lit. B und C bzw. F DSGVO werden die personenbezogenen Daten der betroffenen Person\, soweit diese für die Leistungs-/Ergebniserfassung bzw. Ergebnismanagement im Zusammenhang mit der Anmeldung oder Teilnahme an (sportlichen) Veranstaltungen oder Wettkämpfen erforderlich sind\, gespeichert und auch nach Art. 17 Abs. 3 in Verbindung mit Art. 89 DSGVO für im öffentlichen Interesse liegende Archivzwecke und berechtigte \n\n\n\nInteressen des Verantwortlichen gespeichert und öffentlich zugänglich gemacht sowie von der Österreichische Bundes-Sportorganisation BSO\, 1040 Wien\, Prinz-Eugen-Str. 12\, gespeichert und öffentlich zugänglich gemacht. Dies wird von der betroffenen Person ausdrücklich zur Kenntnis genommen. \n\n\n\nIm Rahmen des Turniers werden Foto und Videoaufnahmen gemacht. Mit der Teilnahme an der Veranstaltung erklären Sie sich einverstanden\, dass der Veranstalter die Aufnahmen uneingeschränkt nutzen darf. Falls Sie nicht fotografiert oder gefilmt werden möchten\, wenden Sie sich bitte vor Ort an unser Team.   \n\n\n\nWir freuen uns auf ein spannendes Turnier und einen sportlich fairen Wettkampf! \n\n\n\nAlle Bogensportler:innen sind herzlich willkommen! \n\n\n\n🏹  Alle ins Kill!  🏹
URL:https://aaa3d.at/event/aaa-3d-cup-turnier-bsc-woerthersee/
LOCATION:BSC Wörthersee\, Oberer Mühlweg 7\, Krumpendorf\, Kärnten\, 9201\, Austria
CATEGORIES:Turniere
ATTACH;FMTTYPE=image/webp:https://aaa3d.at/wp-content/uploads/2024/07/logo_aaa_3d.webp
ORGANIZER;CN="BSC W%C3%B6rthersee":MAILTO:obmann@bsc-woerthersee.at
END:VEVENT
BEGIN:VEVENT
DTSTART;TZID=Europe/Vienna:20260606T080000
DTEND;TZID=Europe/Vienna:20260606T170000
DTSTAMP:20260422T001635
CREATED:20250413T172726Z
LAST-MODIFIED:20260215T100227Z
UID:3914-1780732800-1780765200@aaa3d.at
SUMMARY:Primbogenturnier | EBSV Gresten
DESCRIPTION:Primbogenturnier | EBSV Gresten
URL:https://aaa3d.at/event/primbogenturnier-ebsv-gresten/
LOCATION:EBSV Gresten\, Wiesergraben 13\, Gresten.\, 3264\, Austria
CATEGORIES:Turniere
ORGANIZER;CN="EBSV Gresten":MAILTO:a.kreillechner70@gmail.com
END:VEVENT
BEGIN:VEVENT
DTSTART;TZID=Europe/Vienna:20260607T073000
DTEND;TZID=Europe/Vienna:20260607T170000
DTSTAMP:20260422T001635
CREATED:20251110T173354Z
LAST-MODIFIED:20251110T173508Z
UID:3935-1780817400-1780851600@aaa3d.at
SUMMARY:YoA Turnier - BSC Wörthersee
DESCRIPTION:
URL:https://aaa3d.at/event/yoa-turnier-bsc-woerthersee/
LOCATION:Bogensportclub Wörthersee\, Jerolitschstraße 34\, Krumpendorf am Wörthersee\, Kärnten\, 9201\, Austria
CATEGORIES:Turniere
ORGANIZER;CN="Bogensportclub W%C3%B6rthersee":MAILTO:obmann@bsc-woerthersee.at
END:VEVENT
BEGIN:VEVENT
DTSTART;TZID=Europe/Vienna:20260613T070000
DTEND;TZID=Europe/Vienna:20260613T170000
DTSTAMP:20260422T001635
CREATED:20250903T040000Z
LAST-MODIFIED:20260111T191304Z
UID:3948-1781334000-1781370000@aaa3d.at
SUMMARY:AAA 3D Cup Turnier - UBC Diana NÖ
DESCRIPTION:AAA 3D Cup Turnier – UBC Diana NÖ\n\n\n\nAAA | ÖM | UBC Diana NÖ | Kahlenberg\n\n\n\n\n\n\n\nVeranstalter \n\n\n\nUnion Bogensport Club Diana NÖTurnierleitung / Kontakt: Eduard Charwath| +436606573100 | ichbleibe@gmail.com \n\n\n\nAustragungsort\n\n\n\nErlebniswelt Kahlenberg Kahlenberg\, Josefsdorf 47\, 1190 Wien– Zufahrt über die B 14 über Klosterneuburg>>> Google\, Koordinaten: 48.28042672863297\, 16.334780315412903 \n\n\n\nWertung\n\n\n\n1 Pfeil Wertung2 x 20 Targets (20 Vormittag\, 20 Nachmittag) \n\n\n\nAblauf\n\n\n\nAnmeldung | 07:00-08:15 UhrTraining | 07:30-08:30 UhrBegrüßung/Einteilung | 08:30 UhrAbmarsch Parcours | 08:45 UhrStart/Schießbeginn Vormittag | 09:15Uhr \n\n\n\nMittagspause ca. 12:30 – 13:30 Uhr \n\n\n\nStart/Schießbeginn Nachmittag | 14:30 UhrSiegerehrung | ca. 30 Minuten nach Abgabe der Scores                     \n\n\n\nNenngeld\n\n\n\nErwachsene/Veteran | € 25.-Jugend / Schüler & Minis | frei \n\n\n\nDer Startplatz ist erst nach Zahlungseingang auf unserem Vereinskonto oder über 3D Skillboard möglich. 7 Tage vor dem Turnier wird die Anmeldung geschlossen und nicht bezahlte Anmeldungen werden gelöscht. \n\n\n\nFür die Cup-Wertung und Bundesland Meisterschaft ist eine gültige Lizenz 2026 erforderlich. Ohne AAA-Lizenz – Start nur in der Gästeklasse möglich. Der Zahlungseingang für die Lizenz 2026 muss 7 Tage vor dem Turnier auf das Konto der AAA eingegangen sein. Bankverbindung: Austria 3-D Archery Association\, IBAN: AT65 4715 0119 8509 0000 \n\n\n\nBundesland Meisterschaft: Schütz:innen mit einer Vereinszugehörigkeit oder einem Hauptwohnsitz im austragenden Bundesland. Zahlung an Raiffeisenbank Mödling\, IBAN AT31 3225 0080 0144 0296Online-Anmeldung bis 23.05.2026 / >>> Anmeldung<<< (Anmeldung über 3D Skillboard) \n\n\n\nBogenklassen\n\n\n\nVisier-Klassen \n\n\n\n\nCU-Compound Unlimited\n\n\n\nHU-Compound Hunter 3D\n\n\n\nCB-Compound Barebow\n\n\n\nCRB-Crossbow\n\n\n\nOL-Olympic Recurve\n\n\n\n\nTraditional-Klassen \n\n\n\n\nTR-RB-Traditional Recurve\n\n\n\nTR–LB-Traditional Longbow\n\n\n\nBB-Barebow\n\n\n\nPB–HB-Primitivbow / Horsebow\n\n\n\n\nAltersklassen\n\n\n\nVeteranen | 55 Jahre und älter blauer oder roter Pflock (max. 27m od. max. 45m)Erwachsene | 18 bis 54 Jahre blauer oder roter Pflock (max. 27m od. max. 45m)Jugend | 15–17 Jahre – blauer oder roter Pflock (max. 27m od. max. 45m)Schüler | 13-14Jahre – blauer Pflock (max. 27m)Minis | 10-12 Jahre – weißer Pflock (max. 18 m) \n\n\n\nGruppeneinteilung\n\n\n\nErfolgt durch die Austrian 3D Archery Association. \n\n\n\nSchiedsrichter\n\n\n\nWird vom Verband bekanntgegeben. \n\n\n\nSchießregeln\n\n\n\nPro Scheibe und Klasse nur ein Abschuss Pflock\, Pflock muss berührt werden\, 90 Sec. Schießzeit pro Schütz:in. Es gilt das aktuelle >Regelwerk< der AAA 3D. \n\n\n\nBei Punktegleichheit\n\n\n\nZuerst = Anzahl der 0er\, dann 11er\, 10er\, 8er\, 5er \n\n\n\nWeitere Informationen\n\n\n\nGenaue Informationen zum Ablauf werden vor Ort bekanntgegeben. Der UBC Diana behält sich Änderungen im Turniergeschehen vor. Parcours Regeln und Sicherheitsmaßnahmen sind unbedingt einzuhalten! Gutes und festes Schuhwerk ist angeraten. Für Verletzungen jeglicher Art übernimmt der Verein keine Verantwortung. Jede(r) Schütz:in ist selbst verantwortlich. Der Veranstalter übernimmt keine Haftung. \n\n\n\nWICHTIG\n\n\n\nAlkoholEs gelten die gesetzlichen Bestimmungen für Alkohol im Schießsport 0\,1 Promille. Wenn ein Teilnehmer*in sichtlich alkoholisiert ist\, ist dieser vom Schiedsrichter aus dem Turnier zu verweisen. \n\n\n\nGerätekontrollewird durch AAA 3D Schiedsrichter:innen durchgeführt. \n\n\n\nZimmerreservierungen Vorschläge\n\n\n\nDonaupark Camping Klosterneuburg +43 2243 25877Hotel Anker: +43 2243 32134Lenas Donau Hotel: +43 1 20 40 000Meininger Hotel Wien Downtown: +43720 88 20 65 \n\n\n\nDatenschutz & Dokumentation\n\n\n\nEU-Datenschutz-Grundverordnung: Aufgrund der Einwilligung der betroﬀenen Person nach Art. 6 Abs. 1 lit. A DSGVO bzw. der Erfüllung einer erträglichen bzw. rechtlichen Verpflichtung des Verantwortlichen nach Art. 6 Abs. 1 lit. B und C bzw. F DSGVO werden die personenbezogenen Daten der betroﬀenen Person\, soweit diese für die Leistungs-/Ergebniserfassung bzw. Ergebnismanagement im Zusammenhang mit der Anmeldung oder Teilnahme an (sportlichen) Veranstaltungen oder Wettkämpfen erforderlich sind\, gespeichert und auch nach Art. 17 Abs. 3 in Verbindung mit Art. 89 DSGVO für im öﬀentlichen Interesse liegende Archivzwecke und berechtigte Interessen des Verantwortlichen gespeichert und öﬀentlich zugänglich gemacht sowie von der Österreichische Bundes-Sportorganisation BSO\, 1040 Wien\, Prinz-Eugen-Str. 12\, gespeichert und öﬀentlich zugänglich gemacht. Dies wird von der betroﬀenen Person ausdrücklich zur Kenntnis genommen. \n\n\n\nMit der Teilnahme an dieser Veranstaltung nehme ich zur Kenntnis\, dass Fotograﬁen und Videomaterialien\, auf denen ich abgebildet bin\, zur Presse-Berichterstattung verwendet und in verschiedenen (Sozialen) Medien\, Publikationen und auf Webseiten (z.B.: unserer Vereins-Verbands-Webseite und den dazugehörigen Social-Media-Kanälen) veröﬀentlicht werden.  \n\n\n\nVerpflegung\n\n\n\nLabestation vorhanden – Obst u. MineralMittagessen gem. Speisekarte.
URL:https://aaa3d.at/event/aaa-3d-cup-turnier-ubc-diana-noe/
LOCATION:3D-Bogenpark Kahlenberg\, Josefsdorf 47\, Wien\, Wien\, 1190\, Austria
CATEGORIES:Turniere
ATTACH;FMTTYPE=image/webp:https://aaa3d.at/wp-content/uploads/2024/07/logo_aaa_3d.webp
ORGANIZER;CN="UBC Diana N%C3%96":MAILTO:diana@bows.at
END:VEVENT
BEGIN:VEVENT
DTSTART;TZID=Europe/Vienna:20260613T080000
DTEND;TZID=Europe/Vienna:20260613T170000
DTSTAMP:20260422T001635
CREATED:20251009T054218Z
LAST-MODIFIED:20260112T152746Z
UID:4357-1781337600-1781370000@aaa3d.at
SUMMARY:Nordcup - BSV Stoneface Archery
DESCRIPTION:Nordcup – BSV Stoneface Archery
URL:https://aaa3d.at/event/nordcup-bsv-stoneface-archery/
LOCATION:BSV Stoneface Archery\, Windhing 11\, Unterweissenbach\, OÖ\, 4273\, Austria
CATEGORIES:Turniere
ORGANIZER;CN="BSV Stoneface Archery":MAILTO:stoneface-archery@gmx.at
END:VEVENT
BEGIN:VEVENT
DTSTART;TZID=Europe/Vienna:20260613T080000
DTEND;TZID=Europe/Vienna:20260613T170000
DTSTAMP:20260422T001635
CREATED:20251203T092406Z
LAST-MODIFIED:20260112T144212Z
UID:8404-1781337600-1781370000@aaa3d.at
SUMMARY:Hausturnier | BSC Wegscheide
DESCRIPTION:Hausturnier | BSC Wegscheide
URL:https://aaa3d.at/event/hausturnier-bsc-wegscheide/
LOCATION:BSC Wegscheide\, Kreuth 12\, Liebenfels\, Kärnten\, 9556\, Austria
CATEGORIES:Turniere
ORGANIZER;CN="BSC Wegscheide":MAILTO:bscwegscheide@gmail.com
END:VEVENT
BEGIN:VEVENT
DTSTART;TZID=Europe/Vienna:20260613T080000
DTEND;TZID=Europe/Vienna:20260613T170000
DTSTAMP:20260422T001635
CREATED:20260108T085748Z
LAST-MODIFIED:20260112T143654Z
UID:9235-1781337600-1781370000@aaa3d.at
SUMMARY:WA 1440 Sternturnier und NÖ LM | BSV Artemis Spannberg
DESCRIPTION:WA 1440 Sternturnier und NÖ LM | BSV Artemis Spannberg
URL:https://aaa3d.at/event/wa-1440-sternturnier-und-noe-lm-bsv-artemis-spannberg/
LOCATION:BSV Artemis Spannberg\, Grüngasse 10\, Spannberg\, NÖ\, 2244\, Austria
CATEGORIES:Turniere
ORGANIZER;CN="BSV Artemis Spannberg":MAILTO:spannberg@bogen.info
END:VEVENT
BEGIN:VEVENT
DTSTART;TZID=Europe/Vienna:20260620T070000
DTEND;TZID=Europe/Vienna:20260620T170000
DTSTAMP:20260422T001635
CREATED:20250803T160050Z
LAST-MODIFIED:20250803T160052Z
UID:6176-1781938800-1781974800@aaa3d.at
SUMMARY:LM WA 3D - ASKÖ Bogensport St. Oswald
DESCRIPTION:ASKÖ Bogensport St. Oswald bei Freistadt | AAA 3D Österreichische Meisterschaft19.09.2026 | 20.09.2026
URL:https://aaa3d.at/event/lm-wa-3d-askoe-bogensport-st-oswald/
LOCATION:ASKÖ BS St. Oswald bei Freistadt\, Etzelsdorf 7\, St. Oswald bei Freistadt\, OÖ\, 4271\, Austria
CATEGORIES:Turniere
ATTACH;FMTTYPE=image/png:https://aaa3d.at/wp-content/uploads/2025/03/AAA_logo_st_oswald.png
ORGANIZER;CN="ASK%C3%96 BS St. Oswald bei Freistadt":MAILTO:bogensport.oswald@b-s-o.at
END:VEVENT
BEGIN:VEVENT
DTSTART;TZID=Europe/Vienna:20260620T080000
DTEND;TZID=Europe/Vienna:20260620T170000
DTSTAMP:20260422T001635
CREATED:20260102T203830Z
LAST-MODIFIED:20260112T144251Z
UID:9026-1781942400-1781974800@aaa3d.at
SUMMARY:Judenburger 900er Runde | HBSV Sagitta et Arcum
DESCRIPTION:Judenburger 900er Runde | HBSV Sagitta et Arcum
URL:https://aaa3d.at/event/judenburger-900er-runde-hbsv-sagitta-et-arcum/
LOCATION:HBSV Sagitta Et Arcum\, Murdorfer Strasse 39\, Judenburg\, Steiermark\, 8750
ORGANIZER;CN="HBSV Sagitta Et Arcum":MAILTO:sagitta.arcum@gmail.com
END:VEVENT
BEGIN:VEVENT
DTSTART;TZID=Europe/Vienna:20260620T080000
DTEND;TZID=Europe/Vienna:20260620T170000
DTSTAMP:20260422T001635
CREATED:20260215T101312Z
LAST-MODIFIED:20260215T101313Z
UID:9997-1781942400-1781974800@aaa3d.at
SUMMARY:DUO Turnier | BSV Redcloud
DESCRIPTION:DUO Turnier | BSV Redcloud
URL:https://aaa3d.at/event/duo-turnier-bsv-redcloud/
LOCATION:BSV Redcloud\, Pitzerweg Vorberg 36-31\, Oppenberg\, Steiermark\, 8786\, Austria
CATEGORIES:Turniere
ORGANIZER;CN="BSV Redcloud":MAILTO:redcloud@aon.at
END:VEVENT
BEGIN:VEVENT
DTSTART;TZID=Europe/Vienna:20260627T070000
DTEND;TZID=Europe/Vienna:20260627T170000
DTSTAMP:20260422T001635
CREATED:20250903T180439Z
LAST-MODIFIED:20250903T180441Z
UID:6721-1782543600-1782579600@aaa3d.at
SUMMARY:Südcup - BSV Gleisdorf
DESCRIPTION:
URL:https://aaa3d.at/event/suedcup-bsv-gleisdorf/
LOCATION:BSV Gleisdorf\, Rosenbergerweg\, Gleisdorf\, Steiermark\, 8200\, Austria
CATEGORIES:Turniere
ORGANIZER;CN="BSV Gleisdorf":MAILTO:gummiviechakilla@gmail.com
END:VEVENT
BEGIN:VEVENT
DTSTART;TZID=Europe/Vienna:20260627T150000
DTEND;TZID=Europe/Vienna:20260627T233000
DTSTAMP:20260422T001635
CREATED:20260220T085121Z
LAST-MODIFIED:20260220T085514Z
UID:4572-1782572400-1782603000@aaa3d.at
SUMMARY:Kleine Geisterjagd | Weninger Bogenparcours
DESCRIPTION:
URL:https://aaa3d.at/event/kleine-geisterjagd-weninger-bogenparcours/
LOCATION:Weninger 3D Bogenparcours\, Flugplatzstraße\, Trausdorf\, Burgenland\, 7061\, Austria
CATEGORIES:Turniere
ORGANIZER;CN="Weninger Bogenbau":MAILTO:pfeilundbogenbau@aon.at
END:VEVENT
END:VCALENDAR