BEGIN:VCALENDAR
VERSION:2.0
PRODID:-//AAA 3D - Austrian 3D Archery Association - ECPv6.15.20//NONSGML v1.0//EN
CALSCALE:GREGORIAN
METHOD:PUBLISH
X-ORIGINAL-URL:https://aaa3d.at
X-WR-CALDESC:Veranstaltungen für AAA 3D - Austrian 3D Archery Association
REFRESH-INTERVAL;VALUE=DURATION:PT1H
X-Robots-Tag:noindex
X-PUBLISHED-TTL:PT1H
BEGIN:VTIMEZONE
TZID:Europe/Vienna
BEGIN:DAYLIGHT
TZOFFSETFROM:+0100
TZOFFSETTO:+0200
TZNAME:CEST
DTSTART:20250330T010000
END:DAYLIGHT
BEGIN:STANDARD
TZOFFSETFROM:+0200
TZOFFSETTO:+0100
TZNAME:CET
DTSTART:20251026T010000
END:STANDARD
BEGIN:DAYLIGHT
TZOFFSETFROM:+0100
TZOFFSETTO:+0200
TZNAME:CEST
DTSTART:20260329T010000
END:DAYLIGHT
BEGIN:STANDARD
TZOFFSETFROM:+0200
TZOFFSETTO:+0100
TZNAME:CET
DTSTART:20261025T010000
END:STANDARD
BEGIN:DAYLIGHT
TZOFFSETFROM:+0100
TZOFFSETTO:+0200
TZNAME:CEST
DTSTART:20270328T010000
END:DAYLIGHT
BEGIN:STANDARD
TZOFFSETFROM:+0200
TZOFFSETTO:+0100
TZNAME:CET
DTSTART:20271031T010000
END:STANDARD
END:VTIMEZONE
BEGIN:VEVENT
DTSTART;TZID=Europe/Vienna:20260801T070000
DTEND;TZID=Europe/Vienna:20260802T170000
DTSTAMP:20260422T025835
CREATED:20250415T112449Z
LAST-MODIFIED:20260215T102018Z
UID:4271-1785567600-1785690000@aaa3d.at
SUMMARY:Bow Summer | Bogensport Waldviertel
DESCRIPTION:Bow Summer | Bogensport Waldviertel
URL:https://aaa3d.at/event/bow-summer-bogensport-waldviertel/
LOCATION:Bogensport Waldviertel\, Forstamt 9\, Dorfstetten\, OÖ\, 4392\, Austria
CATEGORIES:Turniere
ORGANIZER;CN="Bogensport Waldviertel":MAILTO:office@bogensport-waldviertel.at
END:VEVENT
BEGIN:VEVENT
DTSTART;TZID=Europe/Vienna:20260801T080000
DTEND;TZID=Europe/Vienna:20260831T170000
DTSTAMP:20260422T025835
CREATED:20251203T084647Z
LAST-MODIFIED:20260112T142103Z
UID:8380-1785571200-1788195600@aaa3d.at
SUMMARY:VLNC | Redfeathers
DESCRIPTION:VLNC | Redfeathers
URL:https://aaa3d.at/event/vlbc-redfeathers/
LOCATION:BSV Obergroßau / Redfeathers\, Obergroßau 24\, Sinabelkirchen\, Steiermark\, 8261\, Austria
CATEGORIES:Turniere
ORGANIZER;CN="BSV Obergro%C3%9Fau / Redfeathers":MAILTO:redfeathers@gmx.at
END:VEVENT
BEGIN:VEVENT
DTSTART;TZID=Europe/Vienna:20260806T070000
DTEND;TZID=Europe/Vienna:20260809T170000
DTSTAMP:20260422T025835
CREATED:20260207T051015Z
LAST-MODIFIED:20260207T051058Z
UID:4318-1785999600-1786294800@aaa3d.at
SUMMARY:ÖM WA 3D - BSV Zurndorf
DESCRIPTION:
URL:https://aaa3d.at/event/oem-wa-3d-bsv-zurndorf/
LOCATION:BSV Zurndorf\, Bogensportplatz\, Zurndorf\, Burgenland\, 2424\, Austria
CATEGORIES:Turniere
ATTACH;FMTTYPE=image/webp:https://aaa3d.at/wp-content/uploads/2024/11/cup_zurndorf.webp
ORGANIZER;CN="BSV Zurndorf":MAILTO:schwiebogenschuetzen@gmail.com
END:VEVENT
BEGIN:VEVENT
DTSTART;TZID=Europe/Vienna:20260815T070000
DTEND;TZID=Europe/Vienna:20260815T170000
DTSTAMP:20260422T025835
CREATED:20250415T123609Z
LAST-MODIFIED:20260112T141551Z
UID:4307-1786777200-1786813200@aaa3d.at
SUMMARY:Nordcup - BS Waldenfels
DESCRIPTION:Nordcup – BS Waldenfels
URL:https://aaa3d.at/event/nordcup-bs-waldenfels/
LOCATION:BS Waldenfels\, Hayrl 16\, Reichenthal\, OÖ\, 4193\, Austria
CATEGORIES:Turniere
ORGANIZER;CN="BS Waldenfels":MAILTO:dg@waldenfels.at
END:VEVENT
BEGIN:VEVENT
DTSTART;TZID=Europe/Vienna:20260815T070000
DTEND;TZID=Europe/Vienna:20260815T170000
DTSTAMP:20260422T025835
CREATED:20250903T180606Z
LAST-MODIFIED:20260112T141440Z
UID:6723-1786777200-1786813200@aaa3d.at
SUMMARY:Südcup - Archery Freaks
DESCRIPTION:Südcup – Archery Freaks
URL:https://aaa3d.at/event/suedcup-archery-freaks/
LOCATION:Archery Freaks\, Pitermichlweg\, Ligist\, Steiermark\, 8563\, Austria
CATEGORIES:Turniere
ORGANIZER;CN="Archery Freaks":MAILTO:info@archery-freaks.at
END:VEVENT
BEGIN:VEVENT
DTSTART;TZID=Europe/Vienna:20260822T070000
DTEND;TZID=Europe/Vienna:20260822T170000
DTSTAMP:20260422T025835
CREATED:20250929T092654Z
LAST-MODIFIED:20260112T140958Z
UID:7305-1787382000-1787418000@aaa3d.at
SUMMARY:BSCM Turnier 2026 - Bogensport Mühlviertel
DESCRIPTION:BSCM Turnier 2026 – Bogensport Mühlviertel
URL:https://aaa3d.at/event/bscm-turnier-2026-bogensport-muehlviertel/
LOCATION:Bogensportclub Mühlviertel\, Hundsdorf 13\, Gutau\, OÖ\, 4293\, Austria
CATEGORIES:Turniere
ORGANIZER;CN="Bogensportclub M%C3%BChlviertel":MAILTO:peter.lindinger@b-s-c-m.at
END:VEVENT
BEGIN:VEVENT
DTSTART;TZID=Europe/Vienna:20260823T080000
DTEND;TZID=Europe/Vienna:20260823T170000
DTSTAMP:20260422T025835
CREATED:20260102T211240Z
LAST-MODIFIED:20260102T211242Z
UID:9036-1787472000-1787504400@aaa3d.at
SUMMARY:Central European Cup Outdoor | Archery Club Sagittarius
DESCRIPTION:Central European Cup Outdoor | Archery Club Sagittarius
URL:https://aaa3d.at/event/central-european-cup-outdoor-archery-club-sagittarius/
LOCATION:Archery Club Sagittarius\, Erhardgasse 2\, Wien\, Wien\, 1230\, Austria
ORGANIZER;CN="Archery Club Sagittarius":MAILTO:info@ac-sagittarius.at
END:VEVENT
BEGIN:VEVENT
DTSTART;TZID=Europe/Vienna:20260829T070000
DTEND;TZID=Europe/Vienna:20260829T170000
DTSTAMP:20260422T025835
CREATED:20250618T050248Z
LAST-MODIFIED:20260112T140927Z
UID:5583-1787986800-1788022800@aaa3d.at
SUMMARY:22. Rattenjagd - Die Kellerratten
DESCRIPTION:22. Rattenjagd – Die Kellerratten
URL:https://aaa3d.at/event/22-rattenjagd-die-kellerratten/
LOCATION:Die Kellerratten\, Göttelsberg 19\, Weiz\, Steiermark\, 8160\, Austria
CATEGORIES:Turniere
ORGANIZER;CN="Die Kellerratten":MAILTO:office@diekellerratten.at
END:VEVENT
BEGIN:VEVENT
DTSTART;TZID=Europe/Vienna:20260829T080000
DTEND;TZID=Europe/Vienna:20260829T170000
DTSTAMP:20260422T025835
CREATED:20260215T102252Z
LAST-MODIFIED:20260215T102315Z
UID:4337-1787990400-1788022800@aaa3d.at
SUMMARY:Ruinenturnier | BSC Arrow Cats
DESCRIPTION:Ruinenturnier | BSC Arrow Cats
URL:https://aaa3d.at/event/ruinenturnier-bsc-arrow-cats/
LOCATION:BSC Arrow Cats\, Kollmitzgraben\, Kollmitz\, NÖ\, 3321\, Austria
CATEGORIES:Turniere
ORGANIZER;CN="BSC Arrow Cats":MAILTO:ruinenturnier@gmx.at
END:VEVENT
BEGIN:VEVENT
DTSTART;TZID=Europe/Vienna:20260830T070000
DTEND;TZID=Europe/Vienna:20260830T170000
DTSTAMP:20260422T025835
CREATED:20251015T182910Z
LAST-MODIFIED:20260215T102200Z
UID:4281-1788073200-1788109200@aaa3d.at
SUMMARY:Alptraum Turnier | BSU St. Veit
DESCRIPTION:Alptraum Turnier | BSU St. Veit
URL:https://aaa3d.at/event/alptraum-turnier-bsu-st-veit/
LOCATION:Union St. Veit\, Bruggen 35\, St. Veit\, Kärnten\, 9962\, Austria
CATEGORIES:Turniere
ORGANIZER;CN="Union St. Veit":MAILTO:rautamotz@gmail.com
END:VEVENT
BEGIN:VEVENT
DTSTART;TZID=Europe/Vienna:20260830T070000
DTEND;TZID=Europe/Vienna:20260906T170000
DTSTAMP:20260422T025835
CREATED:20250415T115101Z
LAST-MODIFIED:20260111T201612Z
UID:4293-1788073200-1788714000@aaa3d.at
SUMMARY:World 3D Archery Championships 2026 - Szilvásvárad
DESCRIPTION:World 3D Archery Championships 2026 – Szilvásvárad\n\n\n\nDay 7: 06th September (Sunday) Departure \n\n\n\n\n\nWorld 3D Archery Championships 2026 | 01. – 06. September\n\n\n\n\n\n\n\nWorld 3D Archery Championships 2026 – Szilvásvárad HUN\n\n\n\nDay 0: 30th August (Sunday)10.00-18.00: Registration and equipment inspection at Szilvásváradi Lipicai Lovarda10.00-18.00: Practice Range open at Szilvásváradi LIPICAI Lovasközpont Stadium \n\n\n\nDay 1: 31th August (Monday) Opening08.00-16.00: Registration and equipment inspection at Szilvásváradi Lipicai Lovarda08.00-15.00: Practice Range open at Szilvásváradi LIPICAI Lovasközpont Stadium15:00 Team Captain meeting at Szilvásváradi Lipicai Lovarda17.00: Gathering for openingOpening ceremony at Szilvásváradi LIPICAI Lovasközpont Stadium \n\n\n\nDay 2: 01st September (Tuesday)  1st Competition’s Day08.00-17.00: Practice Range open08.30: Start of first Competition’s DayFlying Start – group schedules and starting times will be published the day before18.00: Closing time to hand in score cards \n\n\n\nDay 3: 02nd September (Wednesday) 2nd Competition’s Day08.00-17.00: Practice Range open08.30: Start of second Competition’s DayFlying Start – group schedules and starting times will be published the day before18.00: Closing time to hand in score cards \n\n\n\nDay 4: 03rd September (Thursday) 3rd Competition’s Day08.00-17.00: Practice Range open08.30: Start of third Competition’s DayFlying Start – group schedules and starting times will be published the day before18.00: Closing time to hand in score cards \n\n\n\nDay 5: 04th September (Friday) Teams Qualification and Finals08.00-17.00:  Practice Range open09.00:  Start Team Qualification in 14 Targets \n\n\n\n15.00:  Start Team Finals – Long Distances16.00:  Start Team Finals – Short Distances \n\n\n\nDay 6: 05th September (Saturday) Individual Finals09.00:  Start of Individual Final’sFinals schedule and dates coming soon16.00:  Awarding ceremony20.00:  Banquet – Presentation Special Awards \n\n\n\nDay 7: 06th September (Sunday) Departure \n\n\n\n>>> mehr Infos
URL:https://aaa3d.at/event/world-3d-archery-championships-2026-szilvasvarad/
LOCATION:Szilvásvárad\, Szilvásvárad\, 3348\, Hungary
CATEGORIES:Turniere
ATTACH;FMTTYPE=image/webp:https://aaa3d.at/wp-content/uploads/2025/08/hdhiaa_world_archery_2026.webp
END:VEVENT
END:VCALENDAR