BEGIN:VCALENDAR
VERSION:2.0
PRODID:-//AAA 3D - Austrian 3D Archery Association - ECPv6.15.20//NONSGML v1.0//EN
CALSCALE:GREGORIAN
METHOD:PUBLISH
X-WR-CALNAME:AAA 3D - Austrian 3D Archery Association
X-ORIGINAL-URL:https://aaa3d.at
X-WR-CALDESC:Veranstaltungen für AAA 3D - Austrian 3D Archery Association
REFRESH-INTERVAL;VALUE=DURATION:PT1H
X-Robots-Tag:noindex
X-PUBLISHED-TTL:PT1H
BEGIN:VTIMEZONE
TZID:Europe/Vienna
BEGIN:DAYLIGHT
TZOFFSETFROM:+0100
TZOFFSETTO:+0200
TZNAME:CEST
DTSTART:20250330T010000
END:DAYLIGHT
BEGIN:STANDARD
TZOFFSETFROM:+0200
TZOFFSETTO:+0100
TZNAME:CET
DTSTART:20251026T010000
END:STANDARD
BEGIN:DAYLIGHT
TZOFFSETFROM:+0100
TZOFFSETTO:+0200
TZNAME:CEST
DTSTART:20260329T010000
END:DAYLIGHT
BEGIN:STANDARD
TZOFFSETFROM:+0200
TZOFFSETTO:+0100
TZNAME:CET
DTSTART:20261025T010000
END:STANDARD
BEGIN:DAYLIGHT
TZOFFSETFROM:+0100
TZOFFSETTO:+0200
TZNAME:CEST
DTSTART:20270328T010000
END:DAYLIGHT
BEGIN:STANDARD
TZOFFSETFROM:+0200
TZOFFSETTO:+0100
TZNAME:CET
DTSTART:20271031T010000
END:STANDARD
END:VTIMEZONE
BEGIN:VEVENT
DTSTART;TZID=Europe/Vienna:20260830T070000
DTEND;TZID=Europe/Vienna:20260906T170000
DTSTAMP:20260422T041052
CREATED:20250415T115101Z
LAST-MODIFIED:20260111T201612Z
UID:4293-1788073200-1788714000@aaa3d.at
SUMMARY:World 3D Archery Championships 2026 - Szilvásvárad
DESCRIPTION:World 3D Archery Championships 2026 – Szilvásvárad\n\n\n\nDay 7: 06th September (Sunday) Departure \n\n\n\n\n\nWorld 3D Archery Championships 2026 | 01. – 06. September\n\n\n\n\n\n\n\nWorld 3D Archery Championships 2026 – Szilvásvárad HUN\n\n\n\nDay 0: 30th August (Sunday)10.00-18.00: Registration and equipment inspection at Szilvásváradi Lipicai Lovarda10.00-18.00: Practice Range open at Szilvásváradi LIPICAI Lovasközpont Stadium \n\n\n\nDay 1: 31th August (Monday) Opening08.00-16.00: Registration and equipment inspection at Szilvásváradi Lipicai Lovarda08.00-15.00: Practice Range open at Szilvásváradi LIPICAI Lovasközpont Stadium15:00 Team Captain meeting at Szilvásváradi Lipicai Lovarda17.00: Gathering for openingOpening ceremony at Szilvásváradi LIPICAI Lovasközpont Stadium \n\n\n\nDay 2: 01st September (Tuesday)  1st Competition’s Day08.00-17.00: Practice Range open08.30: Start of first Competition’s DayFlying Start – group schedules and starting times will be published the day before18.00: Closing time to hand in score cards \n\n\n\nDay 3: 02nd September (Wednesday) 2nd Competition’s Day08.00-17.00: Practice Range open08.30: Start of second Competition’s DayFlying Start – group schedules and starting times will be published the day before18.00: Closing time to hand in score cards \n\n\n\nDay 4: 03rd September (Thursday) 3rd Competition’s Day08.00-17.00: Practice Range open08.30: Start of third Competition’s DayFlying Start – group schedules and starting times will be published the day before18.00: Closing time to hand in score cards \n\n\n\nDay 5: 04th September (Friday) Teams Qualification and Finals08.00-17.00:  Practice Range open09.00:  Start Team Qualification in 14 Targets \n\n\n\n15.00:  Start Team Finals – Long Distances16.00:  Start Team Finals – Short Distances \n\n\n\nDay 6: 05th September (Saturday) Individual Finals09.00:  Start of Individual Final’sFinals schedule and dates coming soon16.00:  Awarding ceremony20.00:  Banquet – Presentation Special Awards \n\n\n\nDay 7: 06th September (Sunday) Departure \n\n\n\n>>> mehr Infos
URL:https://aaa3d.at/event/world-3d-archery-championships-2026-szilvasvarad/
LOCATION:Szilvásvárad\, Szilvásvárad\, 3348\, Hungary
CATEGORIES:Turniere
ATTACH;FMTTYPE=image/webp:https://aaa3d.at/wp-content/uploads/2025/08/hdhiaa_world_archery_2026.webp
END:VEVENT
BEGIN:VEVENT
DTSTART;TZID=Europe/Vienna:20260905T070000
DTEND;TZID=Europe/Vienna:20260905T170000
DTSTAMP:20260422T041052
CREATED:20250415T135310Z
LAST-MODIFIED:20260215T102436Z
UID:4359-1788591600-1788627600@aaa3d.at
SUMMARY:Gaaler Hinkelsteinturnier
DESCRIPTION:Gaaler Hinkelsteinturnier
URL:https://aaa3d.at/event/gaaler-hinkelsteinturnier/
LOCATION:BSC Gaal\, Gaal\, Gaal\, Steiermark\, 8731\, Austria
CATEGORIES:Turniere
ORGANIZER;CN="BSC Gaal":MAILTO:obmann@gaalier.at
END:VEVENT
BEGIN:VEVENT
DTSTART;TZID=Europe/Vienna:20260905T080000
DTEND;TZID=Europe/Vienna:20260905T170000
DTSTAMP:20260422T041052
CREATED:20251203T092739Z
LAST-MODIFIED:20260112T140640Z
UID:8408-1788595200-1788627600@aaa3d.at
SUMMARY:Scharnitzer Speckschiessen 3-D | SG Scharnitz
DESCRIPTION:Scharnitzer Speckschiessen 3-D | SG Scharnitz
URL:https://aaa3d.at/event/scharnitzer-speckschiessen-3-d-sg-scharnitz/
LOCATION:Schützengilde Scharnitz\, dolf-Klinge-Platz 72\, Scharnitz\, Tirol\, 6108\, Austria
CATEGORIES:Turniere
ORGANIZER;CN="Sch%C3%BCtzengilde Scharnitz":MAILTO:walter.l@compuvos.com
END:VEVENT
BEGIN:VEVENT
DTSTART;TZID=Europe/Vienna:20260912T070000
DTEND;TZID=Europe/Vienna:20260912T170000
DTSTAMP:20260422T041052
CREATED:20250903T180845Z
LAST-MODIFIED:20260112T140545Z
UID:6725-1789196400-1789232400@aaa3d.at
SUMMARY:Südcup - BS Foberl
DESCRIPTION:Südcup – BS Foberl
URL:https://aaa3d.at/event/suedcup-bs-foberl/
LOCATION:BS Foberl\, Dörfla 2\, Kirchbach\, Steiermark\, 8082
CATEGORIES:Turniere
END:VEVENT
BEGIN:VEVENT
DTSTART;TZID=Europe/Vienna:20260912T070000
DTEND;TZID=Europe/Vienna:20260912T170000
DTSTAMP:20260422T041052
CREATED:20251009T053105Z
LAST-MODIFIED:20260112T140508Z
UID:4480-1789196400-1789232400@aaa3d.at
SUMMARY:Nordcup - ASKÖ Bogensport St. Oswald
DESCRIPTION:Nordcup – ASKÖ Bogensport St. Oswald
URL:https://aaa3d.at/event/nordcup-askoe-bogensport-st-oswald/
LOCATION:ASKÖ BS St. Oswald bei Freistadt\, Etzelsdorf 7\, St. Oswald bei Freistadt\, OÖ\, 4271\, Austria
CATEGORIES:Turniere
ATTACH;FMTTYPE=image/png:https://aaa3d.at/wp-content/uploads/2025/03/AAA_logo_st_oswald.png
ORGANIZER;CN="ASK%C3%96 BS St. Oswald bei Freistadt":MAILTO:bogensport.oswald@b-s-o.at
END:VEVENT
BEGIN:VEVENT
DTSTART;TZID=Europe/Vienna:20260912T070000
DTEND;TZID=Europe/Vienna:20260912T170000
DTSTAMP:20260422T041052
CREATED:20251110T174327Z
LAST-MODIFIED:20251110T174328Z
UID:7862-1789196400-1789232400@aaa3d.at
SUMMARY:Tiroler LM WA 3D - BSC Rietz
DESCRIPTION:
URL:https://aaa3d.at/event/tiroler-lm-wa-3d-bsc-rietz/
LOCATION:BSC Rietz\, Bacheben Kapelle\, Rietz\, Steiermark\, 6421\, Austria
CATEGORIES:Turniere
ORGANIZER;CN="BSC Rietz":MAILTO:info@bsc-rietz.at
END:VEVENT
BEGIN:VEVENT
DTSTART;TZID=Europe/Vienna:20260919T070000
DTEND;TZID=Europe/Vienna:20260920T170000
DTSTAMP:20260422T041052
CREATED:20250709T040400Z
LAST-MODIFIED:20260111T200049Z
UID:4141-1789801200-1789923600@aaa3d.at
SUMMARY:ÖM AAA 3D - ASKÖ Bogensport St. Oswald
DESCRIPTION:ÖM AAA 3D – ASKÖ Bogensport St. Oswald\n\n\n\n\n\n\n\n\n\n\n\nEinladung Österreichische Meisterschaft AAA 3D 2026\n\n\n\nVeranstalter\n\n\n\nASKÖ Bogensport St. Oswald bei Freistadt \n\n\n\nDatum\n\n\n\n19. & 20. September 2026 \n\n\n\nAnfahrt\n\n\n\nJugend- und Wanderherberge Rannahof\, Etzelsdorf 7\, 4271 St. Oswald bei Freistadt>>> Google <<< | 48°30’55.6“N 14°34’09.7“E \n\n\n\nKontakt\n\n\n\nwww.b-s-o.at   |   bogensport.oswald@b-s-o.at   |   +436641948500 \n\n\n\nWettbewerb\n\n\n\nAAA 3D Österreichische Meisterschaft \n\n\n\nSamstag\, 19.09.2026 | 1. Tag\n\n\n\nAnmeldung 07:00 – 08:15 UhrTraining 07:30 – 08:30 UhrBegrüßung/Einteilung 08:30 UhrAbmarsch Parcours 08:45 UhrStart/Schießbeginn 1. Teil 09:15 UhrPause 12:30 – 13:30 UhrStart/Schießbeginn 2. Teil 14:45 Uhr \n\n\n\n1. Tag Vormittag 20 Ziele – Nachmittag 20 Ziele \n\n\n\nSonntag\, 20.09.2026 | 2. Tag\n\n\n\nTraining 07:30 – 08:30 UhrBegrüßung/Einteilung 08:30 UhrStart/Schießbeginn 09:15 Uhr \n\n\n\n2. Tag Vormittag 20 Ziele – Nachmittag Mannschaft 10 ZieleSiegerehrung 2. Tag nach dem Mannschaftsschießen \n\n\n\nNenngeld\n\n\n\nErwachsene/Veteran 50€Jugend/Schüler & Minis freiKeine Gästeklasse \n\n\n\nNennschluss\n\n\n\n16.09.2026 \n\n\n\nAnmeldung\n\n\n\nBis 16.09.2026 | nur über 3D Skillboard \n\n\n\n7 Tage vor dem Turnier wird die Anmeldung geschlossen und nicht bezahlte Anmeldungen werden gelöscht. Für die 3D AAA ÖM ist eine gültige Lizenz 2026 erforderlich. Der Zahlungseingang für die Lizenz 2026 muss 7 Tagevor dem Turnier auf das Konto der AAA eingegangen sein. Bankverbindung: Austria 3-D Archery Association\, IBAN: AT65 4715 0119 8509 0000 \n\n\n\nTurnierleitung\n\n\n\nPeter Haunschmid \n\n\n\nBogenklassen\n\n\n\nVisier-Klassen \n\n\n\n\nCU-Compound Unlimited\n\n\n\nHu-Compound Hunter 3D\n\n\n\nCB-Compound Barebow\n\n\n\nCRB Armbrust – Crossbow\n\n\n\nOL-Olympic Recurve\n\n\n\n\nTraditional-Klassen \n\n\n\n\nTR-RB-Traditional Recurve\n\n\n\nTR-LB-Traditional Longbow\n\n\n\nBB-Barebow / Blankbogen\n\n\n\nPB/HB-Primitivbow / Horsebow\n\n\n\n\nAltersklassen\n\n\n\nVeteranen   |   55 Jahre und älter blauer oder roter Pflock (max. 27 od. 45m)Erwachsene   |   18 bis 54 Jahre blauer oder roter Pflock (max. 27 od. 45m)Jugend   |   15 bis 17 Jahre blauer oder roter Pflock (max. 27 od. 45m)Schüler   |   13 bis 14 Jahre blauer Pflock (max. 27m)Minis   |   10 bis 12 Jahre weißer Pflock (max. 18m) \n\n\n\nGruppeneinteilung\n\n\n\nErfolgt durch die Austrian 3-D Archery Association \n\n\n\nSchiedsrichter\n\n\n\nwird noch bekanntgegeben \n\n\n\nWertung\n\n\n\n1 Pfeil WertungTag 1   |   2×20 Tiere (20 Vormittag\, 20 Nachmittag)Tag 2   |   1×20 Tiere + Mannschaft (10 Tiere) \n\n\n\n11 / 10 / 8 / 5   |   Bei Punktegleichheit: Zuerst = Anzahl der 0er\, dann 11er\, 10er\, 8er\, 5er \n\n\n\nRegelwerk\n\n\n\nPro Scheibe und Klasse nur ein Abschusspflock\, der Pflock muss berührt werden\, 90 sec. Schießzeit pro Schütze\, Es gilt das aktuelle Regelwerk der AAA 3D \n\n\n\nVerpflegung\n\n\n\nFür Verpflegung ist vor\, während und nach dem Turnier gesorgt. \n\n\n\n\n\n\n\nGenauere Informationen zum Ablauf werden vor Ort bekanntgegeben. Der ASKÖ Bogensport St. Oswald behält sich Änderungen im Turniergeschehen vor. Parcoursregeln und Sicherheitsmaßnahmen sind unbedingt einzuhalten! Gutes und festes Schuhwerk ist angeraten. Für Verletzungen jeglicher Art übernimmt der Verein keine Verantwortung. Jeder Schütze und jede Schützin sind selbst verantwortlich. Der Veranstalter übernimmt keine Haftung. Bei Nichtteilnahme entfällt das Nenngeld zu Gunsten des Veranstalters! \n\n\n\nWICHTIG\n\n\n\nAlkoholEs gelten die gesetzlichen Bestimmungen für Alkohol im Schießsport 0\,1 Promille.Wenn Teilnehmer*innen sichtlich alkoholisiert sind\, werden diese vom Schiedsrichter aus dem Turnier zu verweisen. \n\n\n\nGerätekontrolle wird durchgeführt \n\n\n\nDatenschutz und Dokumentation\n\n\n\nEU-Datenschutz-Grundverordnung: Aufgrund der Einwilligung der betroffenen Person nach Art. 6 Abs. 1 lit. A DSGVO bzw. der Erfüllung einer erträglichen bzw. rechtlichen Verpflichtung des Verantwortlichen nach Art. 6 Abs. 1 lit. B und C bzw. F DSGVO werden die personenbezogenen Daten der betroffenen Person\, soweit diese für die Leistungs-/Ergebniserfassung bzw. Ergebnismanagement im Zusammenhang mit der Anmeldung oder Teilnahme an (sportlichen) Veranstaltungen oder Wettkämpfen erforderlich sind\, gespeichert und auch nach Art. 17 Abs. 3 in Verbindung mit Art. 89 DSGVO für im öffentlichen Interesse liegende Archivzwecke und berechtigte Interessen des Verantwortlichen gespeichert und öffentlich zugänglich gemacht sowie von der Österreichische BundesSportorganisation BSO\, 1040 Wien\, Prinz-Eugen-Str. 12\, gespeichert und öffentlich zugänglich gemacht. Dies wird von der betroffenen Person ausdrücklich zur Kenntnis genommen. \n\n\n\nMit der Teilnahme an dieser Veranstaltung nehme ich zur Kenntnis\, dass Fotografien und Videomaterialien\, auf denen ich abgebildet bin\, zur Presse-Berichterstattung verwendet und in verschiedenen (Sozialen) Medien\, Publikationen und auf Webseiten (z.B.: unserer Vereins-Verbands-Webseite und den dazugehörigen Social- MediaKanälen) veröffentlicht werden. \n\n\n\n\n\nASKÖ Bogensport St. Oswald bei Freistadt | AAA 3D Österreichische Meisterschaft19.09.2026 | 20.09.2026
URL:https://aaa3d.at/event/oem-aaa-3d-askoe-bogensport-st-oswald/
LOCATION:ASKÖ BS St. Oswald bei Freistadt\, Etzelsdorf 7\, St. Oswald bei Freistadt\, OÖ\, 4271\, Austria
CATEGORIES:Turniere
ATTACH;FMTTYPE=image/webp:https://aaa3d.at/wp-content/uploads/2024/07/logo_aaa_3d.webp
ORGANIZER;CN="ASK%C3%96 BS St. Oswald bei Freistadt":MAILTO:bogensport.oswald@b-s-o.at
END:VEVENT
BEGIN:VEVENT
DTSTART;TZID=Europe/Vienna:20260926T070000
DTEND;TZID=Europe/Vienna:20260926T170000
DTSTAMP:20260422T041052
CREATED:20250415T142759Z
LAST-MODIFIED:20260112T140419Z
UID:4397-1790406000-1790442000@aaa3d.at
SUMMARY:7. Vorauer Lochsteinturnier - BSC 3D Vorau
DESCRIPTION:7. Vorauer Lochsteinturnier – BSC 3D Vorau
URL:https://aaa3d.at/event/7-vorauer-lochsteinturnier-bsc-3d-vorau/
LOCATION:BSC 3D Vorau\, Schachen 13a\, Vorau\, Steiermark\, 8250\, Austria
CATEGORIES:Turniere
ATTACH;FMTTYPE=image/webp:https://aaa3d.at/wp-content/uploads/2024/07/aaa_logo_bsv_vorau_thumb.webp
ORGANIZER;CN="BSC 3D Vorau":MAILTO:bogenschuetzen-vorau@gmx.at
END:VEVENT
BEGIN:VEVENT
DTSTART;TZID=Europe/Vienna:20260927T070000
DTEND;TZID=Europe/Vienna:20260927T170000
DTSTAMP:20260422T041052
CREATED:20250414T132602Z
LAST-MODIFIED:20260111T193641Z
UID:4017-1790492400-1790528400@aaa3d.at
SUMMARY:AAA 3D Cup - BSV-Kremstal
DESCRIPTION:AAA 3D Cup – BSV-Kremstal\n\n\n\n\n\n\n\n\n\n\n\n2. Kremstaler AAA 3D Cup + OÖ Meisterschaft AAA 3D\n\n\n\nAustragungsort\n\n\n\nBSV Kremstal\, 4542 Nußbach\, Göritz 42 | >>> Google Maps47.981982409022656\, 14.158123385693612 \n\n\n\nSamstag\, 26.09.2026\n\n\n\nAnmeldung | 07:30 – 08:15 UhrTraining | 07:30 08:30 UhrBegrüßung/Einteilung | 09:00 UhrStart/Schießbeginn Runde 1 | 09:30 UhrMittag | 11:30 – 12:30 UhrStart/Schießbeginn Runde 2 | ca. 12:30 UhrMittagspause und Startzeit Runde 2 können sich je nach Bedarf ändern \n\n\n\nScoreabgabe | ca. 15:00 UhrSiegerehrung | ca. 15:30 Uhr \n\n\n\nNenngeld\n\n\n\nErwachsene/Veteranen € 25\,-Jugend € 15\,-Mini und Schüler frei \n\n\n\nDas Nenngeld ist nur über 3D-Skillboard zu bezahlen. 7 Tage vor dem Turnier wird die Anmeldung geschlossen und nicht bezahlte Anmeldungen werden gelöscht. Für die Cup-Wertung und Bundesland Meisterschaft ist eine gültige Lizenz 2026 erforderlich. Der Zahlungseingang für die Lizenz 2026 muss 7 Tage vor dem Turnier auf das Konto der AAA eingegangen sein. Bankverbindung: Austria 3-D Archery Association\, IBAN: AT65 4715 0119 8509 0000 \n\n\n\nKontakt\n\n\n\nHans Peter Margesin / office@bsv-kremstal.at / +436504751976 \n\n\n\nBogenklassen\n\n\n\nVisier \n\n\n\n\nCU-Compound Unlimited\n\n\n\nHU-Compound Hunter 3D\n\n\n\nCB-Compound Barebow\n\n\n\nCRB-Crossbow\n\n\n\nOL-Olympic Recurve\n\n\n\n\nTraditionell \n\n\n\n\nTR-RB-Traditional Recurve\n\n\n\nTTR-LB-Traditional Longbow\n\n\n\nBB-Barebow\n\n\n\nPB-HB-Primitive / Horsebow\n\n\n\n\nAltersklassen\n\n\n\nVeteranen | 55Jahre und älter – blauer  (Trad) oder roter Pflock (Visier) max. 27/45mSenior | 18 bis 54 Jahre – blauer  (Trad) oder roter Pflock (Visier) max. 27/45mJugend | 15 bis 17 Jahre – blauer  (Trad) oder roter Pflock (Visier) max. 27/45mSchüler | 13 bis 14 Jahre – blauer Pflock (Trad. und Visier) max. 27mMinis | 10 bis 12 Jahre – weißer Pflock (Trad. und Visier) max. 18m \n\n\n\nSchiedsrichter\n\n\n\nHans Peter Margesin\, Michael Schirmbeck \n\n\n\nWertung\n\n\n\n1 Pfeil Wertung (Hunter)40 3D Ziele11/10/8/5 \n\n\n\nSchießregeln\n\n\n\nPro Scheibe und Klasse nur ein Abschusspflock\, Pflock muss berührt werden\, 90 Sec. Schießzeit pro Schütze ab erreichen des Pflockes. Es gilt das aktuelle Regelwerk der AAA 3D. \n\n\n\nBei Punktegleichheit\n\n\n\nZuerst = Anzahl der 0er\, dann 11er\, 10er\, 8er\, 5er \n\n\n\nDetails\n\n\n\nGenaue Informationen zum Ablauf werden vor Ort bekanntgegeben. Der BSV Kremstal behält sich Änderungen im Turniergeschehen vor. Parcoursregeln und Sicherheitsmaßnahmen sind unbedingt einzuhalten! Gutes und festes Schuhwerk ist angeraten. Für Verletzungen jeglicher Art\, übernimmt der Verein keine Verantwortung. Jede(r) Schütz:in ist selbst verantwortlich. Der Veranstalter übernimmt keinerlei Haftung. \n\n\n\nDatenschutz & Dokumentation\n\n\n\nEU-Datenschutz-Grundverordnung: \n\n\n\nAufgrund der Einwilligung der betroffenen Person nach Art 6 Abs 1 lit. A DSGVO bzw. der Erfüllung einer erträglichen bzw. rechtliche Verpflichtung des Verantwortlichen nach Art 6 Abs. 1 lit. B und C bzw. F DSVGO werden die Personenbezogenen Daten der betroffenen Person\, soweit diese für die Leistungs-/Ergebniserfassung bzw. Ergebnismanagement im Zusammenhang mit der Anmeldung oder Teilnahme an (sportlichen) Veranstaltungen oder Wettkämpfen erforderlich sind\, gespeichert und auch nach Art. 17 Abs. 3 in Verbindung mit Art 89 DSVGO für im öffentlichen Interesse liegende Archivzwecke und berechtigte Interessen des Verantwortlichen gespeichert und öffentlich zugänglich gemacht sowie von der Österr. \n\n\n\nBundes-Sportorganisation\, BSO\, 1040 Wien\, Prinz Eugen Str. 12\, gespeichert und öffentlich zugänglich gemacht. Dies wird von der betroffenen Person ausdrücklich zur Kenntnis genommen. \n\n\n\nMit der Teilnahme an dieser Veranstaltung nehme ich zur Kenntnis\, dass Fotografien und Videomaterialien\, auf denen ich abgebildet bin\, zur Presse Berichterstattung verwendet und in verschiedenen (Sozialen) Medien\, Publikationen und auf Webseiten (z.B.: unseres Vereins\, Verbands-Webseite und den dazugehörigen SocialMedia Kanälen) veröffentlicht werden. \n\n\n\nVerpflegung\n\n\n\nFür Verpflegung ist wieder ausreichend gesorgt.Das Mittagessen\, wenn gewünscht\, bitte gleich bei der Anmeldung bestellen.
URL:https://aaa3d.at/event/aaa-3d-cup-bsv-kremstal/
LOCATION:BSV Kremstal\, Göritz 42\, Nußbach\, OÖ\, 4542\, Austria
CATEGORIES:Turniere
ATTACH;FMTTYPE=image/webp:https://aaa3d.at/wp-content/uploads/2024/07/logo_aaa_3d.webp
ORGANIZER;CN="BSV-Kremstal":MAILTO:office@bsv-kremstal.at
END:VEVENT
BEGIN:VEVENT
DTSTART;TZID=Europe/Vienna:20260927T080000
DTEND;TZID=Europe/Vienna:20260927T170000
DTSTAMP:20260422T041052
CREATED:20251203T085524Z
LAST-MODIFIED:20260112T140328Z
UID:8386-1790496000-1790528400@aaa3d.at
SUMMARY:VLBC-Finale | BSV Takern II - Die Highlander
DESCRIPTION:VLBC-Finale | BSV Takern II – Die Highlander
URL:https://aaa3d.at/event/vlbc-finale-bsv-takern-ii-die-highlander/
LOCATION:Die Highlander BSV Takern II\, Takern II 24\, St. Margarethen an der Raab\, Steiermark\, 8321\, Austria
CATEGORIES:Turniere
ORGANIZER;CN="Die Highlander BSV Takern II":MAILTO:bsvtakern@gmail.com
END:VEVENT
END:VCALENDAR