BEGIN:VCALENDAR
VERSION:2.0
PRODID:-//AAA 3D - Austrian 3D Archery Association - ECPv6.15.20//NONSGML v1.0//EN
CALSCALE:GREGORIAN
METHOD:PUBLISH
X-ORIGINAL-URL:https://aaa3d.at
X-WR-CALDESC:Veranstaltungen für AAA 3D - Austrian 3D Archery Association
REFRESH-INTERVAL;VALUE=DURATION:PT1H
X-Robots-Tag:noindex
X-PUBLISHED-TTL:PT1H
BEGIN:VTIMEZONE
TZID:Europe/Vienna
BEGIN:DAYLIGHT
TZOFFSETFROM:+0100
TZOFFSETTO:+0200
TZNAME:CEST
DTSTART:20260329T010000
END:DAYLIGHT
BEGIN:STANDARD
TZOFFSETFROM:+0200
TZOFFSETTO:+0100
TZNAME:CET
DTSTART:20261025T010000
END:STANDARD
BEGIN:DAYLIGHT
TZOFFSETFROM:+0100
TZOFFSETTO:+0200
TZNAME:CEST
DTSTART:20270328T010000
END:DAYLIGHT
BEGIN:STANDARD
TZOFFSETFROM:+0200
TZOFFSETTO:+0100
TZNAME:CET
DTSTART:20271031T010000
END:STANDARD
BEGIN:DAYLIGHT
TZOFFSETFROM:+0100
TZOFFSETTO:+0200
TZNAME:CEST
DTSTART:20280326T010000
END:DAYLIGHT
BEGIN:STANDARD
TZOFFSETFROM:+0200
TZOFFSETTO:+0100
TZNAME:CET
DTSTART:20281029T010000
END:STANDARD
END:VTIMEZONE
BEGIN:VEVENT
DTSTART;TZID=Europe/Vienna:20270109T070000
DTEND;TZID=Europe/Vienna:20270109T170000
DTSTAMP:20260422T085721
CREATED:20250929T083931Z
LAST-MODIFIED:20260215T175802Z
UID:7286-1799478000-1799514000@aaa3d.at
SUMMARY:Neujahrsturnier | Attergauer Bowhunters
DESCRIPTION:Neujahrsturnier | Attergauer Bowhunters
URL:https://aaa3d.at/event/neujahrsturnier-attergauer-bowhunters/
LOCATION:Attergauer Bowhunters\, Oberleiten 10\, Straß im Attergau\, Salzburg\, 4881\, Austria
CATEGORIES:Turniere
ORGANIZER;CN="Attergauer Bowhunters":MAILTO:info@bogensport-attergau.at
END:VEVENT
BEGIN:VEVENT
DTSTART;TZID=Europe/Vienna:20270116T070000
DTEND;TZID=Europe/Vienna:20270116T170000
DTSTAMP:20260422T085721
CREATED:20250929T090624Z
LAST-MODIFIED:20260215T182534Z
UID:7292-1800082800-1800118800@aaa3d.at
SUMMARY:LM IFAA Indoor mit Sternstatus - BSV Thermenland
DESCRIPTION:LM IFAA Indoor mit Sternstatus – BSV Thermenland
URL:https://aaa3d.at/event/stmk-lm-ifaa-indoor-2026-mit-sternstatus-bsv-thermenland/
LOCATION:Kulturzentrum Bad Blumau\, Bad Blumau 79\, Bad Blumau\, Steiermark\, 8283\, Austria
CATEGORIES:Turniere
END:VEVENT
BEGIN:VEVENT
DTSTART;TZID=Europe/Vienna:20270117T070000
DTEND;TZID=Europe/Vienna:20270117T170000
DTSTAMP:20260422T085721
CREATED:20250929T090439Z
LAST-MODIFIED:20260215T180139Z
UID:7290-1800169200-1800205200@aaa3d.at
SUMMARY:ÖM IFAA Indoor | BSV Thermenland
DESCRIPTION:ÖM IFAA Indoor | BSV Thermenland
URL:https://aaa3d.at/event/oem-ifaa-indoor-bsv-thermenland/
LOCATION:Kulturzentrum Bad Blumau\, Bad Blumau 79\, Bad Blumau\, Steiermark\, 8283\, Austria
CATEGORIES:Turniere
END:VEVENT
END:VCALENDAR